BEGIN:VCALENDAR
VERSION:2.0
PRODID:-//PURE FUEL - ECPv6.15.20//NONSGML v1.0//EN
CALSCALE:GREGORIAN
METHOD:PUBLISH
X-WR-CALNAME:PURE FUEL
X-ORIGINAL-URL:https://organicpurefuel.com
X-WR-CALDESC:Events for PURE FUEL
REFRESH-INTERVAL;VALUE=DURATION:PT1H
X-Robots-Tag:noindex
X-PUBLISHED-TTL:PT1H
BEGIN:VTIMEZONE
TZID:America/Chicago
BEGIN:DAYLIGHT
TZOFFSETFROM:-0600
TZOFFSETTO:-0500
TZNAME:CDT
DTSTART:20240310T080000
END:DAYLIGHT
BEGIN:STANDARD
TZOFFSETFROM:-0500
TZOFFSETTO:-0600
TZNAME:CST
DTSTART:20241103T070000
END:STANDARD
BEGIN:DAYLIGHT
TZOFFSETFROM:-0600
TZOFFSETTO:-0500
TZNAME:CDT
DTSTART:20250309T080000
END:DAYLIGHT
BEGIN:STANDARD
TZOFFSETFROM:-0500
TZOFFSETTO:-0600
TZNAME:CST
DTSTART:20251102T070000
END:STANDARD
BEGIN:DAYLIGHT
TZOFFSETFROM:-0600
TZOFFSETTO:-0500
TZNAME:CDT
DTSTART:20260308T080000
END:DAYLIGHT
BEGIN:STANDARD
TZOFFSETFROM:-0500
TZOFFSETTO:-0600
TZNAME:CST
DTSTART:20261101T070000
END:STANDARD
END:VTIMEZONE
BEGIN:VEVENT
DTSTART;TZID=America/Chicago:20250123T080000
DTEND;TZID=America/Chicago:20250123T170000
DTSTAMP:20260425T142654
CREATED:20250123T231542Z
LAST-MODIFIED:20250123T231542Z
UID:10747-1737619200-1737651600@organicpurefuel.com
SUMMARY:US Airforce Snocross National
DESCRIPTION:No stop on the AMSOIL Championship Snocross circuit brings fans closer to the action than Deadwood\, S.D. The two-day event offers up the most compact track of the season\, and the Days of 76 Rodeo Grounds are packed to the rafters with fans. The venue rests in the heart of historic Deadwood and allows the snocross faithful to walk in from their favorite downtown stomp. Don’t miss out on the pro autograph session\, fireworks\, opportunities for kids to drive a snowmobile\, vendors\, and more much!
URL:https://organicpurefuel.com/event/us-airforce-snocross-national/
LOCATION:Days Of ’76 Event Complex 40 Crescent Dr\, Deadwood\, SD 57732\, 40 Crescent Dr\,\, Deadwood\, ND\, 57732\, United States
CATEGORIES:Snocross
END:VEVENT
END:VCALENDAR