BEGIN:VCALENDAR
VERSION:2.0
PRODID:-//PURE FUEL - ECPv6.15.20//NONSGML v1.0//EN
CALSCALE:GREGORIAN
METHOD:PUBLISH
X-WR-CALNAME:PURE FUEL
X-ORIGINAL-URL:https://organicpurefuel.com
X-WR-CALDESC:Events for PURE FUEL
REFRESH-INTERVAL;VALUE=DURATION:PT1H
X-Robots-Tag:noindex
X-PUBLISHED-TTL:PT1H
BEGIN:VTIMEZONE
TZID:America/Chicago
BEGIN:DAYLIGHT
TZOFFSETFROM:-0600
TZOFFSETTO:-0500
TZNAME:CDT
DTSTART:20240310T080000
END:DAYLIGHT
BEGIN:STANDARD
TZOFFSETFROM:-0500
TZOFFSETTO:-0600
TZNAME:CST
DTSTART:20241103T070000
END:STANDARD
BEGIN:DAYLIGHT
TZOFFSETFROM:-0600
TZOFFSETTO:-0500
TZNAME:CDT
DTSTART:20250309T080000
END:DAYLIGHT
BEGIN:STANDARD
TZOFFSETFROM:-0500
TZOFFSETTO:-0600
TZNAME:CST
DTSTART:20251102T070000
END:STANDARD
BEGIN:DAYLIGHT
TZOFFSETFROM:-0600
TZOFFSETTO:-0500
TZNAME:CDT
DTSTART:20260308T080000
END:DAYLIGHT
BEGIN:STANDARD
TZOFFSETFROM:-0500
TZOFFSETTO:-0600
TZNAME:CST
DTSTART:20261101T070000
END:STANDARD
END:VTIMEZONE
BEGIN:VEVENT
DTSTART;VALUE=DATE:20250221
DTEND;VALUE=DATE:20250223
DTSTAMP:20260425T124356
CREATED:20250123T232427Z
LAST-MODIFIED:20250123T232427Z
UID:10753-1740096000-1740268799@organicpurefuel.com
SUMMARY:Seneca Allegany Snocross National
DESCRIPTION:The series will triumphantly return to Salamanca\, N.Y\, for two days of racing on February 21st & 22nd at the Seneca Allegany Resort & Casino. With top-of-the-line accommodations and top notch fans this a bucket list event people do not want to miss! Don’t miss out on the pro autograph session\, fireworks\, opportunities for kids to drive a snowmobile\, vendors\, and more much!
URL:https://organicpurefuel.com/event/seneca-allegany-snocross-national/
LOCATION:Seneca Allegany Resort & Casino\, 777 Seneca Allegany Blvd\, Salamanca\, 14779\, United States
CATEGORIES:Snocross
END:VEVENT
END:VCALENDAR