BEGIN:VCALENDAR
VERSION:2.0
PRODID:-//PURE FUEL - ECPv6.15.20//NONSGML v1.0//EN
CALSCALE:GREGORIAN
METHOD:PUBLISH
X-WR-CALNAME:PURE FUEL
X-ORIGINAL-URL:https://organicpurefuel.com
X-WR-CALDESC:Events for PURE FUEL
REFRESH-INTERVAL;VALUE=DURATION:PT1H
X-Robots-Tag:noindex
X-PUBLISHED-TTL:PT1H
BEGIN:VTIMEZONE
TZID:America/Chicago
BEGIN:DAYLIGHT
TZOFFSETFROM:-0600
TZOFFSETTO:-0500
TZNAME:CDT
DTSTART:20240310T080000
END:DAYLIGHT
BEGIN:STANDARD
TZOFFSETFROM:-0500
TZOFFSETTO:-0600
TZNAME:CST
DTSTART:20241103T070000
END:STANDARD
BEGIN:DAYLIGHT
TZOFFSETFROM:-0600
TZOFFSETTO:-0500
TZNAME:CDT
DTSTART:20250309T080000
END:DAYLIGHT
BEGIN:STANDARD
TZOFFSETFROM:-0500
TZOFFSETTO:-0600
TZNAME:CST
DTSTART:20251102T070000
END:STANDARD
BEGIN:DAYLIGHT
TZOFFSETFROM:-0600
TZOFFSETTO:-0500
TZNAME:CDT
DTSTART:20260308T080000
END:DAYLIGHT
BEGIN:STANDARD
TZOFFSETFROM:-0500
TZOFFSETTO:-0600
TZNAME:CST
DTSTART:20261101T070000
END:STANDARD
END:VTIMEZONE
BEGIN:VEVENT
DTSTART;VALUE=DATE:20250307
DTEND;VALUE=DATE:20250309
DTSTAMP:20260425T104111
CREATED:20250123T234346Z
LAST-MODIFIED:20250123T234346Z
UID:10756-1741305600-1741478399@organicpurefuel.com
SUMMARY:ERX Snocross National
DESCRIPTION:Don’t miss the highly anticipated return of Amsoil Championship Snocross at ERX Motor Park in Elk River\, MN. Enjoy the high-flying snowmobile racing actions from the grandstands or warm up in the chalet. On your way in\, make your way through the vending area and be sure to visit the pit. Enjoy multiple food and beverage options\, fan-friendly sponsor and vendor display areas\, and close access to the pit.
URL:https://organicpurefuel.com/event/erx-snocross-national/
LOCATION:ERX Motor Park\, 21591 US-169\, Elk River\,\, MN\, 55330\, United States
CATEGORIES:Snocross
END:VEVENT
BEGIN:VEVENT
DTSTART;VALUE=DATE:20250308
DTEND;VALUE=DATE:20250309
DTSTAMP:20260425T104111
CREATED:20251120T233242Z
LAST-MODIFIED:20251120T233242Z
UID:13584-1741392000-1741478399@organicpurefuel.com
SUMMARY:410 Sprints - Winged
DESCRIPTION:
URL:https://organicpurefuel.com/event/410-sprints-winged-36/
LOCATION:IN
CATEGORIES:car
END:VEVENT
END:VCALENDAR