BEGIN:VCALENDAR
VERSION:2.0
PRODID:-//PURE FUEL - ECPv6.15.20//NONSGML v1.0//EN
CALSCALE:GREGORIAN
METHOD:PUBLISH
X-WR-CALNAME:PURE FUEL
X-ORIGINAL-URL:https://organicpurefuel.com
X-WR-CALDESC:Events for PURE FUEL
REFRESH-INTERVAL;VALUE=DURATION:PT1H
X-Robots-Tag:noindex
X-PUBLISHED-TTL:PT1H
BEGIN:VTIMEZONE
TZID:America/Chicago
BEGIN:DAYLIGHT
TZOFFSETFROM:-0600
TZOFFSETTO:-0500
TZNAME:CDT
DTSTART:20190310T080000
END:DAYLIGHT
BEGIN:STANDARD
TZOFFSETFROM:-0500
TZOFFSETTO:-0600
TZNAME:CST
DTSTART:20191103T070000
END:STANDARD
BEGIN:DAYLIGHT
TZOFFSETFROM:-0600
TZOFFSETTO:-0500
TZNAME:CDT
DTSTART:20200308T080000
END:DAYLIGHT
BEGIN:STANDARD
TZOFFSETFROM:-0500
TZOFFSETTO:-0600
TZNAME:CST
DTSTART:20201101T070000
END:STANDARD
BEGIN:DAYLIGHT
TZOFFSETFROM:-0600
TZOFFSETTO:-0500
TZNAME:CDT
DTSTART:20210314T080000
END:DAYLIGHT
BEGIN:STANDARD
TZOFFSETFROM:-0500
TZOFFSETTO:-0600
TZNAME:CST
DTSTART:20211107T070000
END:STANDARD
BEGIN:DAYLIGHT
TZOFFSETFROM:-0600
TZOFFSETTO:-0500
TZNAME:CDT
DTSTART:20220313T080000
END:DAYLIGHT
BEGIN:STANDARD
TZOFFSETFROM:-0500
TZOFFSETTO:-0600
TZNAME:CST
DTSTART:20221106T070000
END:STANDARD
BEGIN:DAYLIGHT
TZOFFSETFROM:-0600
TZOFFSETTO:-0500
TZNAME:CDT
DTSTART:20230312T080000
END:DAYLIGHT
BEGIN:STANDARD
TZOFFSETFROM:-0500
TZOFFSETTO:-0600
TZNAME:CST
DTSTART:20231105T070000
END:STANDARD
BEGIN:DAYLIGHT
TZOFFSETFROM:-0600
TZOFFSETTO:-0500
TZNAME:CDT
DTSTART:20240310T080000
END:DAYLIGHT
BEGIN:STANDARD
TZOFFSETFROM:-0500
TZOFFSETTO:-0600
TZNAME:CST
DTSTART:20241103T070000
END:STANDARD
END:VTIMEZONE
BEGIN:VEVENT
DTSTART;TZID=America/Chicago:20230222T070000
DTEND;TZID=America/Chicago:20230222T170000
DTSTAMP:20260424T231131
CREATED:20230131T230307Z
LAST-MODIFIED:20230131T231849Z
UID:7526-1677049200-1677085200@organicpurefuel.com
SUMMARY:American Birkebeiner\, Kortelopet & Prince Haakon Open Track
DESCRIPTION:The Open Track experience is back again! Same great events\, same race course\, inspiring downtown finish\, simply with a more relaxed approach.  The Open Track event is for skiers that want to compete against themselves on the famed Birkie Trail.  Limited to the first 1000 people\, you will experience less crowding\, more open trail\, and an opportunity to ski with other registered friends and family. It’s an exciting way to kick-off the beginning of Birkie Week 2023!
URL:https://organicpurefuel.com/event/american-birkebeiner-kortelopet-prince-haakon-open-track/
LOCATION:Birkie\, 10527 Main Street\, Hayward\, 54843\, USA
CATEGORIES:Birkie
END:VEVENT
BEGIN:VEVENT
DTSTART;TZID=America/Chicago:20230131T090000
DTEND;TZID=America/Chicago:20230131T200000
DTSTAMP:20260424T231131
CREATED:20230131T233005Z
LAST-MODIFIED:20230131T233005Z
UID:7534-1675155600-1675195200@organicpurefuel.com
SUMMARY:2023 Birkie Expo!
DESCRIPTION:Check out great new skis\, boots\, poles\, wax\, gear\, clothing\, ways to fuel your active outdoor lifestyle\, fat bikes\, trail running shoes\, and more! \nThis is THE place for samples\, swag\, big discounts\, and a chance to connect with some great organizations that support your passion for skiing and the Birkie community. \n 
URL:https://organicpurefuel.com/event/2023-birkie-expo/
LOCATION:Birkie\, 10527 Main Street\, Hayward\, 54843\, USA
CATEGORIES:Birkie
END:VEVENT
BEGIN:VEVENT
DTSTART;TZID=America/Chicago:20220312T080000
DTEND;TZID=America/Chicago:20220312T170000
DTSTAMP:20260424T231131
CREATED:20211105T185009Z
LAST-MODIFIED:20211105T185009Z
UID:3335-1647072000-1647104400@organicpurefuel.com
SUMMARY:Fat Bike Birkie
DESCRIPTION:On the World Famous Birkie Trail in Cable\, Wisconsin!\nThe Fat Bike Birkie\, Presented by Freewheel Bike\, is the premier on snow bike event in North America. Riders test their skill and endurance on the professionally groomed American Birkebeiner Ski Trail! \nTHREE events to choose from: The Big Fat 47K\, The Half Fat 21K\, and the un-timed Fun Fat 10K Tour – there is something for every rider!
URL:https://organicpurefuel.com/event/fat-bike-birkie-2/
LOCATION:Birkie\, 10527 Main Street\, Hayward\, 54843\, USA
CATEGORIES:bike,Birkie
END:VEVENT
BEGIN:VEVENT
DTSTART;TZID=America/Chicago:20220226T080000
DTEND;TZID=America/Chicago:20220226T170000
DTSTAMP:20260424T231131
CREATED:20211105T182413Z
LAST-MODIFIED:20211105T182413Z
UID:3325-1645862400-1645894800@organicpurefuel.com
SUMMARY:Slumberland American Birkebeiner
DESCRIPTION:We’re looking forward to Birkie 2022 with excitement as we return to a traditional Slumberland American Birkebeiner experience.  Skiers will start at the American Birkebeiner Trailhead in Cable\, WI\, as they ski their way through the forest on the Birkie Trail\, glide across Lake Hayward\, cross over the American Birkebeiner International Bridge\, as they head toward the finish line on Hayward’s snow-covered Main Street.  We’ve heard it time and time again\, once you ski a Birkie you’re forever changed and return to experience this amazing event year after year.  We hope to see you on the finish line!
URL:https://organicpurefuel.com/event/slumberland-american-birkebeiner-2/
LOCATION:Birkie\, 10527 Main Street\, Hayward\, 54843\, USA
CATEGORIES:Birkie
END:VEVENT
BEGIN:VEVENT
DTSTART;TZID=America/Chicago:20220225T080000
DTEND;TZID=America/Chicago:20220225T170000
DTSTAMP:20260424T231131
CREATED:20211105T183933Z
LAST-MODIFIED:20211105T183933Z
UID:3331-1645776000-1645808400@organicpurefuel.com
SUMMARY:Birkie Prince Haakon 15K and ParaBirkie
DESCRIPTION:Prince Haakon 15K\nThe Prince Haakon event is named after the baby prince who started it all!  Be a part of the Birkie week fun and excitement!  You’ll ski through the forest on the amazing Birkie Trail\, glide across frozen Lake Hayward\, crossover the American Birkebeiner International Bridge as you make your way to the finish line on Hayward’s snow-covered Main Street! \nParaBirkie\nThe ParaBirkie event is an exciting part of the American Birkebeiner. This race features adaptive athletes competing head to head on the Birkie Trail.
URL:https://organicpurefuel.com/event/birkie-prince-haakon-15k-and-parabirkie/
LOCATION:Birkie\, 10527 Main Street\, Hayward\, 54843\, USA
CATEGORIES:Birkie
END:VEVENT
BEGIN:VEVENT
DTSTART;TZID=America/Chicago:20220224T080000
DTEND;TZID=America/Chicago:20220225T170000
DTSTAMP:20260424T231131
CREATED:20211105T184139Z
LAST-MODIFIED:20211105T184139Z
UID:3333-1645689600-1645808400@organicpurefuel.com
SUMMARY:Birkie Expo
DESCRIPTION:Make sure to stop and say Hi on your way to check out great new skis\, boots\, poles\, wax\, gear\, clothing\, ways to fuel your active outdoor lifestyle\, fat bikes\, trail running shoes\, and more! This is THE place for samples\, swag\, big discounts\, and a chance to connect with some great organizations that support your passion for skiing and the Birkie community.
URL:https://organicpurefuel.com/event/birkie-expo/
LOCATION:Birkie\, 10527 Main Street\, Hayward\, 54843\, USA
CATEGORIES:Birkie
END:VEVENT
BEGIN:VEVENT
DTSTART;TZID=America/Chicago:20220224T080000
DTEND;TZID=America/Chicago:20220224T170000
DTSTAMP:20260424T231131
CREATED:20211105T183626Z
LAST-MODIFIED:20211105T183626Z
UID:3329-1645689600-1645722000@organicpurefuel.com
SUMMARY:Birkie Youth Ski events
DESCRIPTION:Junior Birkie\nhe Junior Birkie is for Junior skiers that are ready to race! \nIndividual Races\nThe event starts behind the Hayward Intermediate and Primary Schools and finishes at the American Birkebeiner Finish Line on Main Street in Hayward. There are two race distances for the different Junior Birkie age groups\, see table below. The first 350 participants will get a Junior Birkie hat. \nTeam Sprint Relays\nThe Junior Birkie Team Sprint Relays will start and finish in downtown Hayward on the American Birkebeiner Finish Line! \nBarnebirkie Youth Ski Tour\nNon-Competitive Ski Tour for Youth Ages 3 to 13 Years Old\nThis is where Birkie Dreams begin! Imagine nearly 1000 kids skiing on Main Street to the iconic finish line of the American Birkebeiner!  Kids can choose to ski either a 1/2 km\, 1 km or 3 km course. \nIf you are looking for a competitive experience for youth\, consider participating in the Junior Birkie race which will be held on the same course following the Barnebirkie. \nThe first 900 participants at bib pickup will receive a Barnebirkie hat!
URL:https://organicpurefuel.com/event/birkie-youth-ski-events/
LOCATION:Birkie\, 10527 Main Street\, Hayward\, 54843\, USA
CATEGORIES:Birkie
END:VEVENT
BEGIN:VEVENT
DTSTART;TZID=America/Chicago:20220224T080000
DTEND;TZID=America/Chicago:20220224T170000
DTSTAMP:20260424T231131
CREATED:20211105T182719Z
LAST-MODIFIED:20211105T182719Z
UID:3327-1645689600-1645722000@organicpurefuel.com
SUMMARY:Barkie Birkie
DESCRIPTION:Skijoring combines cross country skiing with dog power. The skier is attached to his/her dog with a belt and towline. The dog then runs ahead as the skier skis. Skijoring is a team sport that allows both human and canine counterparts to exercise and enjoy the great outdoors. \nSkijoring is derived from the Norwegian word skikjøring meaning ski driving. The sport has been around for hundreds of years and originally started using reindeer and wooden skis. The sport also uses horses\, but dogs are now the most common animals used in skijoring. \nMost medium size dogs (30 pounds and up) who are trained properly can be candidates for skijoring.
URL:https://organicpurefuel.com/event/barkie-birkie/
LOCATION:Birkie\, 10527 Main Street\, Hayward\, 54843\, USA
CATEGORIES:Birkie
END:VEVENT
BEGIN:VEVENT
DTSTART;TZID=America/Chicago:20211210T000000
DTEND;TZID=America/Chicago:20211211T000000
DTSTAMP:20260424T231131
CREATED:20210128T224302Z
LAST-MODIFIED:20210128T224302Z
UID:2415-1639094400-1639180800@organicpurefuel.com
SUMMARY:Ladies Fat Bike Getaway
DESCRIPTION:This weekend adventure Presented by Salsa Cycles will have you experiencing the great outdoors\, riding the legendary Birkie Trail\, polishing your fat biking skills\, and meeting other women who aspire to or love to ride. The Ladies Fat Bike Getaway Presented by Salsa is an adventure that is close to home and filled with fun. Gift yourself this exciting getaway with friends!
URL:https://organicpurefuel.com/event/ladies-fat-bike-getaway/
LOCATION:Birkie\, 10527 Main Street\, Hayward\, 54843\, USA
CATEGORIES:Birkie
END:VEVENT
BEGIN:VEVENT
DTSTART;TZID=America/Chicago:20210924T000000
DTEND;TZID=America/Chicago:20210925T000000
DTSTAMP:20260424T231131
CREATED:20210128T224459Z
LAST-MODIFIED:20210128T224459Z
UID:2417-1632441600-1632528000@organicpurefuel.com
SUMMARY:Birkie Trail Run Festival
DESCRIPTION:The events will traverse the rolling hills and twists & turns of the famous Birkie Trail.  You’ll see beautiful vistas from atop Mt. Telemark and run on challenging hills\, all within the beautiful forests of northwest Wisconsin.  If you love to run on a great trail in the midst of nature\, this is the event to put on your calendar NOW. Hills for breakfast anyone? 
URL:https://organicpurefuel.com/event/birkie-trail-run-festival-3/
LOCATION:Birkie\, 10527 Main Street\, Hayward\, 54843\, USA
CATEGORIES:Birkie
END:VEVENT
BEGIN:VEVENT
DTSTART;TZID=America/Chicago:20210731T000000
DTEND;TZID=America/Chicago:20210731T000000
DTSTAMP:20260424T231131
CREATED:20210128T224500Z
LAST-MODIFIED:20210128T224500Z
UID:2418-1627689600-1627689600@organicpurefuel.com
SUMMARY:Lumberjack Run
DESCRIPTION:Be a part of Hayward’s legendary summer celebration\, the Lumberjack World Championships by racing 5K (3.2 miles)
URL:https://organicpurefuel.com/event/lumberjack-run-2/
LOCATION:Birkie\, 10527 Main Street\, Hayward\, 54843\, USA
CATEGORIES:Birkie
END:VEVENT
BEGIN:VEVENT
DTSTART;TZID=America/Chicago:20210313T000000
DTEND;TZID=America/Chicago:20210313T000000
DTSTAMP:20260424T231131
CREATED:20210128T224302Z
LAST-MODIFIED:20210128T224302Z
UID:2414-1615593600-1615593600@organicpurefuel.com
SUMMARY:Fat Bike Birkie
DESCRIPTION:The Fat Bike Birkie\, Presented by Freewheel Bike\, is the premier on snow bike event in North America. Riders test their skill and endurance on the professionally groomed American Birkebeiner Ski Trail! THREE events to choose from: The Big Fat 47K\, The Half Fat 21K\, and the un-timed Fun Fat 10K Tour – there is something for every rider!
URL:https://organicpurefuel.com/event/fat-bike-birkie/
LOCATION:Birkie\, 10527 Main Street\, Hayward\, 54843\, USA
CATEGORIES:apex,bike,Birkie
END:VEVENT
BEGIN:VEVENT
DTSTART;TZID=America/Chicago:20210228T000000
DTEND;TZID=America/Chicago:20210228T000000
DTSTAMP:20260424T231131
CREATED:20210128T224301Z
LAST-MODIFIED:20210128T224301Z
UID:2413-1614470400-1614470400@organicpurefuel.com
SUMMARY:Birkie CLASSIC 43K
DESCRIPTION:The 2021 Slumberland American Birkebeiner is Hosted over 5 days from Wednesday\, February 24 through Sunday\, February 28 Smaller waves\, socially distanced spacing\, and spread out start times A looped course from the American Birkebeiner Trailhead in Cable\, WI to OO Trailhead and back Park conveniently close to the adjoining start & finish areas Safety precautions and protocols in place from start to finish Check the Birkie Event Update page and FAQ’s for the latest event news
URL:https://organicpurefuel.com/event/birkie-classic-43k-2/
LOCATION:Birkie\, 10527 Main Street\, Hayward\, 54843\, USA
CATEGORIES:Birkie
END:VEVENT
BEGIN:VEVENT
DTSTART;TZID=America/Chicago:20210228T000000
DTEND;TZID=America/Chicago:20210228T000000
DTSTAMP:20260424T231131
CREATED:20210128T224058Z
LAST-MODIFIED:20210128T224058Z
UID:2407-1614470400-1614470400@organicpurefuel.com
SUMMARY:Birkie Week Grand Prize Drawing
DESCRIPTION:
URL:https://organicpurefuel.com/event/birkie-week-grand-prize-drawing/
LOCATION:Birkie\, 10527 Main Street\, Hayward\, 54843\, USA
CATEGORIES:Birkie
END:VEVENT
BEGIN:VEVENT
DTSTART;TZID=America/Chicago:20210227T000000
DTEND;TZID=America/Chicago:20210227T000000
DTSTAMP:20260424T231131
CREATED:20210128T224300Z
LAST-MODIFIED:20210128T224300Z
UID:2412-1614384000-1614384000@organicpurefuel.com
SUMMARY:Birkie SKATE 43K
DESCRIPTION:The 2021 Slumberland American Birkebeiner is Hosted over 5 days from Wednesday\, February 24 through Sunday\, February 28 Smaller waves\, socially distanced spacing\, and spread out start times A looped course from the American Birkebeiner Trailhead in Cable\, WI to OO Trailhead and back Park conveniently close to the adjoining start & finish areas Safety precautions and protocols in place from start to finish Check the Birkie Event Update page and FAQ’s for the latest event news
URL:https://organicpurefuel.com/event/birkie-skate-43k-3/
LOCATION:Birkie\, 10527 Main Street\, Hayward\, 54843\, USA
CATEGORIES:Birkie
END:VEVENT
BEGIN:VEVENT
DTSTART;TZID=America/Chicago:20210227T000000
DTEND;TZID=America/Chicago:20210227T000000
DTSTAMP:20260424T231131
CREATED:20210128T224046Z
LAST-MODIFIED:20210128T224046Z
UID:2406-1614384000-1614384000@organicpurefuel.com
SUMMARY:Birkie Week Giveaway Day 6
DESCRIPTION:
URL:https://organicpurefuel.com/event/birkie-week-giveaway-day-6/
LOCATION:Birkie\, 10527 Main Street\, Hayward\, 54843\, USA
CATEGORIES:Birkie
END:VEVENT
BEGIN:VEVENT
DTSTART;TZID=America/Chicago:20210226T000000
DTEND;TZID=America/Chicago:20210226T000000
DTSTAMP:20260424T231131
CREATED:20210128T224100Z
LAST-MODIFIED:20210128T224100Z
UID:2411-1614297600-1614297600@organicpurefuel.com
SUMMARY:Birkie CLASSIC 43K
DESCRIPTION:The 2021 Slumberland American Birkebeiner is Hosted over 5 days from Wednesday\, February 24 through Sunday\, February 28 Smaller waves\, socially distanced spacing\, and spread out start times A looped course from the American Birkebeiner Trailhead in Cable\, WI to OO Trailhead and back Park conveniently close to the adjoining start & finish areas Safety precautions and protocols in place from start to finish Check the Birkie Event Update page and FAQ’s for the latest event news
URL:https://organicpurefuel.com/event/birkie-classic-43k/
LOCATION:Birkie\, 10527 Main Street\, Hayward\, 54843\, USA
CATEGORIES:Birkie
END:VEVENT
BEGIN:VEVENT
DTSTART;TZID=America/Chicago:20210226T000000
DTEND;TZID=America/Chicago:20210226T000000
DTSTAMP:20260424T231131
CREATED:20210128T224046Z
LAST-MODIFIED:20210128T224046Z
UID:2405-1614297600-1614297600@organicpurefuel.com
SUMMARY:Birkie Week Giveaway Day 5
DESCRIPTION:
URL:https://organicpurefuel.com/event/birkie-week-giveaway-day-5/
LOCATION:Birkie\, 10527 Main Street\, Hayward\, 54843\, USA
CATEGORIES:Birkie
END:VEVENT
BEGIN:VEVENT
DTSTART;TZID=America/Chicago:20210225T000000
DTEND;TZID=America/Chicago:20210225T000000
DTSTAMP:20260424T231131
CREATED:20210128T224100Z
LAST-MODIFIED:20210128T224100Z
UID:2410-1614211200-1614211200@organicpurefuel.com
SUMMARY:Birkie SKATE 43K
DESCRIPTION:The 2021 Slumberland American Birkebeiner is Hosted over 5 days from Wednesday\, February 24 through Sunday\, February 28 Smaller waves\, socially distanced spacing\, and spread out start times A looped course from the American Birkebeiner Trailhead in Cable\, WI to OO Trailhead and back Park conveniently close to the adjoining start & finish areas Safety precautions and protocols in place from start to finish Check the Birkie Event Update page and FAQ’s for the latest event news
URL:https://organicpurefuel.com/event/birkie-skate-43k-2/
LOCATION:Birkie\, 10527 Main Street\, Hayward\, 54843\, USA
CATEGORIES:Birkie
END:VEVENT
BEGIN:VEVENT
DTSTART;TZID=America/Chicago:20210225T000000
DTEND;TZID=America/Chicago:20210225T000000
DTSTAMP:20260424T231131
CREATED:20210128T224045Z
LAST-MODIFIED:20210128T224045Z
UID:2404-1614211200-1614211200@organicpurefuel.com
SUMMARY:Birkie Week Giveaway Day 4
DESCRIPTION:
URL:https://organicpurefuel.com/event/birkie-week-giveaway-day-4/
LOCATION:Birkie\, 10527 Main Street\, Hayward\, 54843\, USA
CATEGORIES:Birkie
END:VEVENT
BEGIN:VEVENT
DTSTART;TZID=America/Chicago:20210224T000000
DTEND;TZID=America/Chicago:20210224T000000
DTSTAMP:20260424T231131
CREATED:20210128T224059Z
LAST-MODIFIED:20210128T224059Z
UID:2409-1614124800-1614124800@organicpurefuel.com
SUMMARY:Birkie SKATE 43K
DESCRIPTION:The 2021 Slumberland American Birkebeiner is Hosted over 5 days from Wednesday\, February 24 through Sunday\, February 28 Smaller waves\, socially distanced spacing\, and spread out start times A looped course from the American Birkebeiner Trailhead in Cable\, WI to OO Trailhead and back Park conveniently close to the adjoining start & finish areas Safety precautions and protocols in place from start to finish Check the Birkie Event Update page and FAQ’s for the latest event news
URL:https://organicpurefuel.com/event/birkie-skate-43k/
LOCATION:Birkie\, 10527 Main Street\, Hayward\, 54843\, USA
CATEGORIES:Birkie
END:VEVENT
BEGIN:VEVENT
DTSTART;TZID=America/Chicago:20210224T000000
DTEND;TZID=America/Chicago:20210224T000000
DTSTAMP:20260424T231131
CREATED:20210128T224045Z
LAST-MODIFIED:20210128T224045Z
UID:2403-1614124800-1614124800@organicpurefuel.com
SUMMARY:Birkie Week Giveaway Day 3
DESCRIPTION:
URL:https://organicpurefuel.com/event/birkie-week-giveaway-day-3/
LOCATION:Birkie\, 10527 Main Street\, Hayward\, 54843\, USA
CATEGORIES:Birkie
END:VEVENT
BEGIN:VEVENT
DTSTART;TZID=America/Chicago:20210223T000000
DTEND;TZID=America/Chicago:20210223T000000
DTSTAMP:20260424T231131
CREATED:20210128T224044Z
LAST-MODIFIED:20210128T224044Z
UID:2402-1614038400-1614038400@organicpurefuel.com
SUMMARY:Birkie Week Giveaway Day 2
DESCRIPTION:
URL:https://organicpurefuel.com/event/birkie-week-giveaway-day-2/
LOCATION:Birkie\, 10527 Main Street\, Hayward\, 54843\, USA
CATEGORIES:Birkie
END:VEVENT
BEGIN:VEVENT
DTSTART;TZID=America/Chicago:20210222T000000
DTEND;TZID=America/Chicago:20210222T000000
DTSTAMP:20260424T231131
CREATED:20210128T224021Z
LAST-MODIFIED:20210128T224021Z
UID:2401-1613952000-1613952000@organicpurefuel.com
SUMMARY:Birkie Week Giveaway Day 1
DESCRIPTION:
URL:https://organicpurefuel.com/event/birkie-week-giveaway-day-1/
LOCATION:Birkie\, 10527 Main Street\, Hayward\, 54843\, USA
CATEGORIES:Birkie
END:VEVENT
BEGIN:VEVENT
DTSTART;TZID=America/Chicago:20210220T000000
DTEND;TZID=America/Chicago:20210228T000000
DTSTAMP:20260424T231131
CREATED:20210128T224058Z
LAST-MODIFIED:20210128T224058Z
UID:2408-1613779200-1614470400@organicpurefuel.com
SUMMARY:Virtual Birkie
DESCRIPTION:Ski your American Birkebeiner\, Kortelopet\, or Prince Haakon anywhere between Saturday\, February 20\, 2021 and Sunday\, February 28\, 2021. Submit your results and you will earn completion credit for the event you are registered for.  Switch to virtual through January 22nd to receive your bib\, hat\, and ski ties before the event days.  Skiers may switch to virtual until February 27th and will receive their bib packets after the event. Check out Birkie Virtual Venue Partners if you’re looking for a groomed trail\, course suggestions\, and more amenities.
URL:https://organicpurefuel.com/event/virtual-birkie/
LOCATION:Birkie\, 10527 Main Street\, Hayward\, 54843\, USA
CATEGORIES:Birkie
END:VEVENT
BEGIN:VEVENT
DTSTART;TZID=America/Chicago:20210130T000000
DTEND;TZID=America/Chicago:20210130T000000
DTSTAMP:20260424T231131
CREATED:20210128T224500Z
LAST-MODIFIED:20210128T224500Z
UID:2419-1611964800-1611964800@organicpurefuel.com
SUMMARY:SEELEY HILLS CLASSIC
DESCRIPTION:Changes are being implemented for 2021 to provide a safe racing experience during the Covid-19 pandemic. Racers will experience a more physically distanced start area\, less congestion on course\, and separate race times for the 22K and 42K races. No spectators\, please. No indoor spaces will be available and there will be no post race party. However\, there will be epic skiing on the Birkie Trail and the course will start and finish in Seeley at OO!
URL:https://organicpurefuel.com/event/seeley-hills-classic/
LOCATION:Birkie\, 10527 Main Street\, Hayward\, 54843\, USA
CATEGORIES:Birkie
END:VEVENT
BEGIN:VEVENT
DTSTART;VALUE=DATE:20201211
DTEND;VALUE=DATE:20201212
DTSTAMP:20260424T231131
CREATED:20200122T174214Z
LAST-MODIFIED:20200122T174214Z
UID:1357-1607644800-1607731199@organicpurefuel.com
SUMMARY:Salsa Ladies Fat Bike Getaway
DESCRIPTION:This weekend adventure Presented by Salsa Cycles will have you experiencing the great outdoors\, riding the legendary Birkie Trail\, polishing your fat biking skills\, and meeting other women who aspire to or love to ride.
URL:https://organicpurefuel.com/event/salsa-ladies-fat-bike-getaway/
LOCATION:Birkie\, 10527 Main Street\, Hayward\, 54843\, USA
CATEGORIES:Birkie
END:VEVENT
BEGIN:VEVENT
DTSTART;VALUE=DATE:20200926
DTEND;VALUE=DATE:20200927
DTSTAMP:20260424T231131
CREATED:20200122T174213Z
LAST-MODIFIED:20200122T174213Z
UID:1356-1601078400-1601164799@organicpurefuel.com
SUMMARY:Birkie Trail Run Festival
DESCRIPTION:New venue in 2020! The Birkie Trail Run Festival will start & finish at the American Birkebeiner Trailhead\, in Cable\, WI!  The nine events will traverse the rolling hills and twists & turns of the famous Birkie Trail\, as well as  single-track sections of the CAMBA trail system.  You’ll see beautiful vistas from atop Mt. Telemark\, run by crisp cool waters\, all amidst the beautiful forests of northwest Wisconsin.  The Birkie Trail Run Festival has a friendly north woods vibe\, awesome Vendor Fair\, a finish-line party with hot lunch\, cold Earth Rider craft beer\, root beer\, on-site camping\, bonfires\, and much more.  Make it a weekend of fun with family and friends!  If you love to run on a great trail in the midst of nature\, this is the event to put on your calendar NOW. Hills for breakfast anyone? See you in September!
URL:https://organicpurefuel.com/event/birkie-trail-run-festival-2/
LOCATION:Birkie\, 10527 Main Street\, Hayward\, 54843\, USA
CATEGORIES:Birkie
END:VEVENT
BEGIN:VEVENT
DTSTART;VALUE=DATE:20200801
DTEND;VALUE=DATE:20200802
DTSTAMP:20260424T231131
CREATED:20200122T174213Z
LAST-MODIFIED:20200122T174213Z
UID:1355-1596240000-1596326399@organicpurefuel.com
SUMMARY:Lumberjack Run
DESCRIPTION:Be a part of Hayward’s legendary summer celebration\, the Lumberjack World Championships\, by racing 5K from the shores of Lake Hayward.
URL:https://organicpurefuel.com/event/lumberjack-run/
LOCATION:Birkie\, 10527 Main Street\, Hayward\, 54843\, USA
CATEGORIES:Birkie
END:VEVENT
BEGIN:VEVENT
DTSTART;VALUE=DATE:20200307
DTEND;VALUE=DATE:20200308
DTSTAMP:20260424T231131
CREATED:20200122T174212Z
LAST-MODIFIED:20200122T174212Z
UID:1354-1583539200-1583625599@organicpurefuel.com
SUMMARY:The Fat Bike Birkie
DESCRIPTION:Presented by Freewheel Bike\, is the premier on snow bike event in North America. Riders test their skill and endurance on the professionally groomed American Birkebeiner Ski Trail!THREE events to choose from: The Big Fat 47K\, The Half Fat 21K\, and the un-timed Fun Fat 10K Tour – there is something for every rider!
URL:https://organicpurefuel.com/event/the-fat-bike-birkie/
LOCATION:Birkie\, 10527 Main Street\, Hayward\, 54843\, USA
CATEGORIES:Birkie
END:VEVENT
END:VCALENDAR