BEGIN:VCALENDAR
VERSION:2.0
PRODID:-//PURE FUEL - ECPv6.15.20//NONSGML v1.0//EN
CALSCALE:GREGORIAN
METHOD:PUBLISH
X-WR-CALNAME:PURE FUEL
X-ORIGINAL-URL:https://organicpurefuel.com
X-WR-CALDESC:Events for PURE FUEL
REFRESH-INTERVAL;VALUE=DURATION:PT1H
X-Robots-Tag:noindex
X-PUBLISHED-TTL:PT1H
BEGIN:VTIMEZONE
TZID:America/Chicago
BEGIN:DAYLIGHT
TZOFFSETFROM:-0600
TZOFFSETTO:-0500
TZNAME:CDT
DTSTART:20180311T080000
END:DAYLIGHT
BEGIN:STANDARD
TZOFFSETFROM:-0500
TZOFFSETTO:-0600
TZNAME:CST
DTSTART:20181104T070000
END:STANDARD
BEGIN:DAYLIGHT
TZOFFSETFROM:-0600
TZOFFSETTO:-0500
TZNAME:CDT
DTSTART:20190310T080000
END:DAYLIGHT
BEGIN:STANDARD
TZOFFSETFROM:-0500
TZOFFSETTO:-0600
TZNAME:CST
DTSTART:20191103T070000
END:STANDARD
BEGIN:DAYLIGHT
TZOFFSETFROM:-0600
TZOFFSETTO:-0500
TZNAME:CDT
DTSTART:20200308T080000
END:DAYLIGHT
BEGIN:STANDARD
TZOFFSETFROM:-0500
TZOFFSETTO:-0600
TZNAME:CST
DTSTART:20201101T070000
END:STANDARD
BEGIN:DAYLIGHT
TZOFFSETFROM:-0600
TZOFFSETTO:-0500
TZNAME:CDT
DTSTART:20210314T080000
END:DAYLIGHT
BEGIN:STANDARD
TZOFFSETFROM:-0500
TZOFFSETTO:-0600
TZNAME:CST
DTSTART:20211107T070000
END:STANDARD
END:VTIMEZONE
BEGIN:VEVENT
DTSTART;VALUE=DATE:20200216
DTEND;VALUE=DATE:20200217
DTSTAMP:20260425T060057
CREATED:20200122T174202Z
LAST-MODIFIED:20200122T174202Z
UID:1343-1581811200-1581897599@organicpurefuel.com
SUMMARY:Nordic Kids Lesson Regular lesson
DESCRIPTION:at OO from 1:00 – 2:30 pm
URL:https://organicpurefuel.com/event/nordic-kids-lesson-regular-lesson/
LOCATION:Birkie\, 10527 Main Street\, Hayward\, 54843\, USA
CATEGORIES:Birkie
END:VEVENT
BEGIN:VEVENT
DTSTART;VALUE=DATE:20200214
DTEND;VALUE=DATE:20200215
DTSTAMP:20260425T060057
CREATED:20200122T174157Z
LAST-MODIFIED:20200122T174157Z
UID:1342-1581638400-1581724799@organicpurefuel.com
SUMMARY:Nordic Kids Family Glo-Ski
DESCRIPTION:6:30 PM Family event under the lights on the OO loops at 6:30 pm.  Glo-necklaces and hot chocolate are provided all children must have an adult to ski with.
URL:https://organicpurefuel.com/event/nordic-kids-family-glo-ski-2/
LOCATION:Birkie\, 10527 Main Street\, Hayward\, 54843\, USA
CATEGORIES:Birkie
END:VEVENT
BEGIN:VEVENT
DTSTART;VALUE=DATE:20200209
DTEND;VALUE=DATE:20200210
DTSTAMP:20260425T060057
CREATED:20200122T174155Z
LAST-MODIFIED:20200122T174155Z
UID:1341-1581206400-1581292799@organicpurefuel.com
SUMMARY:Nordic Kids Treats on the Trail Lesson!
DESCRIPTION:Regular lesson at OO from 1:00 – 2:30 pm!
URL:https://organicpurefuel.com/event/nordic-kids-treats-on-the-trail-lesson/
LOCATION:Birkie\, 10527 Main Street\, Hayward\, 54843\, USA
CATEGORIES:Birkie
END:VEVENT
BEGIN:VEVENT
DTSTART;VALUE=DATE:20200131
DTEND;VALUE=DATE:20200201
DTSTAMP:20260425T060057
CREATED:20200122T174153Z
LAST-MODIFIED:20200122T174153Z
UID:1340-1580428800-1580515199@organicpurefuel.com
SUMMARY:Nordic Kids Family Glo-Ski
DESCRIPTION:6:30 PM. Family event under the lights at OO. Hot chocolate and glo-necklaces provided. all children must have an adult to ski with.
URL:https://organicpurefuel.com/event/nordic-kids-family-glo-ski/
LOCATION:Birkie\, 10527 Main Street\, Hayward\, 54843\, USA
CATEGORIES:Birkie
END:VEVENT
BEGIN:VEVENT
DTSTART;VALUE=DATE:20200126
DTEND;VALUE=DATE:20200127
DTSTAMP:20260425T060057
CREATED:20200122T174151Z
LAST-MODIFIED:20200122T174151Z
UID:1339-1579996800-1580083199@organicpurefuel.com
SUMMARY:Nordic Kids Lesson
DESCRIPTION:Regular lesson at OO from 1:00 -2:30 pm!
URL:https://organicpurefuel.com/event/nordic-kids-lesson/
LOCATION:Birkie\, 10527 Main Street\, Hayward\, 54843\, USA
CATEGORIES:Birkie
END:VEVENT
BEGIN:VEVENT
DTSTART;VALUE=DATE:20200125
DTEND;VALUE=DATE:20200126
DTSTAMP:20260425T060057
CREATED:20200122T174149Z
LAST-MODIFIED:20200122T174149Z
UID:1338-1579910400-1579996799@organicpurefuel.com
SUMMARY:Gitchi Gami Games
DESCRIPTION:The Gitchi Gami Games are part of the Junior Cup & Youth Cup event series in 2020.
URL:https://organicpurefuel.com/event/gitchi-gami-games/
LOCATION:Birkie\, 10527 Main Street\, Hayward\, 54843\, USA
CATEGORIES:Birkie
END:VEVENT
BEGIN:VEVENT
DTSTART;VALUE=DATE:20190926
DTEND;VALUE=DATE:20190929
DTSTAMP:20260425T060057
CREATED:20190208T045611Z
LAST-MODIFIED:20190208T045611Z
UID:367-1569524400-1569697199@organicpurefuel.com
SUMMARY:Birkie Trail Run Festival
DESCRIPTION:Anderson’s Pure Maple Syrup is a proud sponsor of Birkie events. Look for our all-new Pure Fuel products on race day at the events listed below
URL:https://organicpurefuel.com/event/birkie-trail-run-festival/
LOCATION:Birkie\, 10527 Main Street\, Hayward\, 54843\, USA
CATEGORIES:Birkie,run
END:VEVENT
BEGIN:VEVENT
DTSTART;VALUE=DATE:20190307
DTEND;VALUE=DATE:20190310
DTSTAMP:20260425T060057
CREATED:20190208T045610Z
LAST-MODIFIED:20190208T045610Z
UID:366-1551981600-1552154399@organicpurefuel.com
SUMMARY:45NRTH Fat Bike Birkie
DESCRIPTION:Anderson’s Pure Maple Syrup is a proud sponsor of Birkie events. Look for our all-new Pure Fuel products on race day at the events listed below
URL:https://organicpurefuel.com/event/45nrth-fat-bike-birkie/
LOCATION:Birkie\, 10527 Main Street\, Hayward\, 54843\, USA
CATEGORIES:apex,bike,Birkie
END:VEVENT
BEGIN:VEVENT
DTSTART;VALUE=DATE:20190222
DTEND;VALUE=DATE:20190224
DTSTAMP:20260425T060057
CREATED:20190208T045608Z
LAST-MODIFIED:20190208T045608Z
UID:365-1550858400-1550944799@organicpurefuel.com
SUMMARY:Slumberland American Birkebeiner
DESCRIPTION:Anderson’s Pure Maple Syrup is a proud sponsor of Birkie events. Look for our all-new Pure Fuel products on race day at the events listed below
URL:https://organicpurefuel.com/event/slumberland-american-birkebeiner/
LOCATION:Birkie\, 10527 Main Street\, Hayward\, 54843\, USA
CATEGORIES:Birkie
END:VEVENT
END:VCALENDAR