BEGIN:VCALENDAR
VERSION:2.0
PRODID:-//PURE FUEL - ECPv6.15.20//NONSGML v1.0//EN
CALSCALE:GREGORIAN
METHOD:PUBLISH
X-WR-CALNAME:PURE FUEL
X-ORIGINAL-URL:https://organicpurefuel.com
X-WR-CALDESC:Events for PURE FUEL
REFRESH-INTERVAL;VALUE=DURATION:PT1H
X-Robots-Tag:noindex
X-PUBLISHED-TTL:PT1H
BEGIN:VTIMEZONE
TZID:America/Chicago
BEGIN:DAYLIGHT
TZOFFSETFROM:-0600
TZOFFSETTO:-0500
TZNAME:CDT
DTSTART:20240310T080000
END:DAYLIGHT
BEGIN:STANDARD
TZOFFSETFROM:-0500
TZOFFSETTO:-0600
TZNAME:CST
DTSTART:20241103T070000
END:STANDARD
BEGIN:DAYLIGHT
TZOFFSETFROM:-0600
TZOFFSETTO:-0500
TZNAME:CDT
DTSTART:20250309T080000
END:DAYLIGHT
BEGIN:STANDARD
TZOFFSETFROM:-0500
TZOFFSETTO:-0600
TZNAME:CST
DTSTART:20251102T070000
END:STANDARD
BEGIN:DAYLIGHT
TZOFFSETFROM:-0600
TZOFFSETTO:-0500
TZNAME:CDT
DTSTART:20260308T080000
END:DAYLIGHT
BEGIN:STANDARD
TZOFFSETFROM:-0500
TZOFFSETTO:-0600
TZNAME:CST
DTSTART:20261101T070000
END:STANDARD
END:VTIMEZONE
BEGIN:VEVENT
DTSTART;VALUE=DATE:20250205
DTEND;VALUE=DATE:20250206
DTSTAMP:20260425T165108
CREATED:20251120T233225Z
LAST-MODIFIED:20251120T233225Z
UID:13577-1738713600-1738799999@organicpurefuel.com
SUMMARY:World of Outlaws Sprint Cars
DESCRIPTION:
URL:https://organicpurefuel.com/event/world-of-outlaws-sprint-cars-7/
LOCATION:IA
CATEGORIES:car
END:VEVENT
BEGIN:VEVENT
DTSTART;VALUE=DATE:20250206
DTEND;VALUE=DATE:20250207
DTSTAMP:20260425T165108
CREATED:20251120T233226Z
LAST-MODIFIED:20251120T233226Z
UID:13578-1738800000-1738886399@organicpurefuel.com
SUMMARY:World of Outlaws Sprint Cars
DESCRIPTION:
URL:https://organicpurefuel.com/event/world-of-outlaws-sprint-cars-8/
LOCATION:IA
CATEGORIES:car
END:VEVENT
BEGIN:VEVENT
DTSTART;VALUE=DATE:20250207
DTEND;VALUE=DATE:20250208
DTSTAMP:20260425T165108
CREATED:20251120T233226Z
LAST-MODIFIED:20251120T233226Z
UID:13579-1738886400-1738972799@organicpurefuel.com
SUMMARY:World of Outlaws Sprint Cars
DESCRIPTION:
URL:https://organicpurefuel.com/event/world-of-outlaws-sprint-cars-9/
LOCATION:IA
CATEGORIES:car
END:VEVENT
BEGIN:VEVENT
DTSTART;VALUE=DATE:20250208
DTEND;VALUE=DATE:20250209
DTSTAMP:20260425T165108
CREATED:20251120T233226Z
LAST-MODIFIED:20251120T233226Z
UID:13580-1738972800-1739059199@organicpurefuel.com
SUMMARY:World of Outlaws Sprint Cars
DESCRIPTION:
URL:https://organicpurefuel.com/event/world-of-outlaws-sprint-cars-10/
LOCATION:IA
CATEGORIES:car
END:VEVENT
END:VCALENDAR