BEGIN:VCALENDAR
VERSION:2.0
PRODID:-//PURE FUEL - ECPv6.15.20//NONSGML v1.0//EN
CALSCALE:GREGORIAN
METHOD:PUBLISH
X-ORIGINAL-URL:https://organicpurefuel.com
X-WR-CALDESC:Events for PURE FUEL
REFRESH-INTERVAL;VALUE=DURATION:PT1H
X-Robots-Tag:noindex
X-PUBLISHED-TTL:PT1H
BEGIN:VTIMEZONE
TZID:America/Chicago
BEGIN:DAYLIGHT
TZOFFSETFROM:-0600
TZOFFSETTO:-0500
TZNAME:CDT
DTSTART:20240310T080000
END:DAYLIGHT
BEGIN:STANDARD
TZOFFSETFROM:-0500
TZOFFSETTO:-0600
TZNAME:CST
DTSTART:20241103T070000
END:STANDARD
BEGIN:DAYLIGHT
TZOFFSETFROM:-0600
TZOFFSETTO:-0500
TZNAME:CDT
DTSTART:20250309T080000
END:DAYLIGHT
BEGIN:STANDARD
TZOFFSETFROM:-0500
TZOFFSETTO:-0600
TZNAME:CST
DTSTART:20251102T070000
END:STANDARD
BEGIN:DAYLIGHT
TZOFFSETFROM:-0600
TZOFFSETTO:-0500
TZNAME:CDT
DTSTART:20260308T080000
END:DAYLIGHT
BEGIN:STANDARD
TZOFFSETFROM:-0500
TZOFFSETTO:-0600
TZNAME:CST
DTSTART:20261101T070000
END:STANDARD
END:VTIMEZONE
BEGIN:VEVENT
DTSTART;VALUE=DATE:20250302
DTEND;VALUE=DATE:20250303
DTSTAMP:20260425T150343
CREATED:20251120T233227Z
LAST-MODIFIED:20251120T233227Z
UID:13581-1740873600-1740959999@organicpurefuel.com
SUMMARY:World of Outlaws Sprint Cars
DESCRIPTION:
URL:https://organicpurefuel.com/event/world-of-outlaws-sprint-cars-11/
LOCATION:IA
CATEGORIES:car
END:VEVENT
BEGIN:VEVENT
DTSTART;VALUE=DATE:20250303
DTEND;VALUE=DATE:20250304
DTSTAMP:20260425T150343
CREATED:20251120T233241Z
LAST-MODIFIED:20251120T233241Z
UID:13582-1740960000-1741046399@organicpurefuel.com
SUMMARY:World of Outlaws Sprint Cars
DESCRIPTION:
URL:https://organicpurefuel.com/event/world-of-outlaws-sprint-cars-12/
LOCATION:IA
CATEGORIES:car
END:VEVENT
BEGIN:VEVENT
DTSTART;VALUE=DATE:20250307
DTEND;VALUE=DATE:20250308
DTSTAMP:20260425T150343
CREATED:20251120T233242Z
LAST-MODIFIED:20251120T233242Z
UID:13583-1741305600-1741391999@organicpurefuel.com
SUMMARY:410 Sprints - Winged
DESCRIPTION:
URL:https://organicpurefuel.com/event/410-sprints-winged-35/
LOCATION:IA
CATEGORIES:car
END:VEVENT
BEGIN:VEVENT
DTSTART;VALUE=DATE:20250308
DTEND;VALUE=DATE:20250309
DTSTAMP:20260425T150343
CREATED:20251120T233242Z
LAST-MODIFIED:20251120T233242Z
UID:13584-1741392000-1741478399@organicpurefuel.com
SUMMARY:410 Sprints - Winged
DESCRIPTION:
URL:https://organicpurefuel.com/event/410-sprints-winged-36/
LOCATION:IA
CATEGORIES:car
END:VEVENT
BEGIN:VEVENT
DTSTART;VALUE=DATE:20250314
DTEND;VALUE=DATE:20250315
DTSTAMP:20260425T150343
CREATED:20251120T233242Z
LAST-MODIFIED:20251120T233242Z
UID:13585-1741910400-1741996799@organicpurefuel.com
SUMMARY:410 Sprints - Winged
DESCRIPTION:
URL:https://organicpurefuel.com/event/410-sprints-winged-37/
LOCATION:IA
CATEGORIES:car
END:VEVENT
BEGIN:VEVENT
DTSTART;VALUE=DATE:20250315
DTEND;VALUE=DATE:20250316
DTSTAMP:20260425T150343
CREATED:20251120T233243Z
LAST-MODIFIED:20251120T233243Z
UID:13586-1741996800-1742083199@organicpurefuel.com
SUMMARY:410 Sprints - Winged
DESCRIPTION:
URL:https://organicpurefuel.com/event/410-sprints-winged-38/
LOCATION:IA
CATEGORIES:car
END:VEVENT
BEGIN:VEVENT
DTSTART;VALUE=DATE:20250321
DTEND;VALUE=DATE:20250322
DTSTAMP:20260425T150343
CREATED:20251120T233244Z
LAST-MODIFIED:20251120T233244Z
UID:13587-1742515200-1742601599@organicpurefuel.com
SUMMARY:410 Sprints - Winged
DESCRIPTION:
URL:https://organicpurefuel.com/event/410-sprints-winged-39/
LOCATION:IA
CATEGORIES:car
END:VEVENT
BEGIN:VEVENT
DTSTART;VALUE=DATE:20250322
DTEND;VALUE=DATE:20250323
DTSTAMP:20260425T150343
CREATED:20251120T233244Z
LAST-MODIFIED:20251120T233244Z
UID:13588-1742601600-1742687999@organicpurefuel.com
SUMMARY:410 Sprints - Winged
DESCRIPTION:
URL:https://organicpurefuel.com/event/410-sprints-winged-40/
LOCATION:IA
CATEGORIES:car
END:VEVENT
BEGIN:VEVENT
DTSTART;VALUE=DATE:20250328
DTEND;VALUE=DATE:20250329
DTSTAMP:20260425T150343
CREATED:20251120T233245Z
LAST-MODIFIED:20251120T233245Z
UID:13589-1743120000-1743206399@organicpurefuel.com
SUMMARY:410 Sprints - Winged
DESCRIPTION:
URL:https://organicpurefuel.com/event/410-sprints-winged-41/
LOCATION:IA
CATEGORIES:car
END:VEVENT
BEGIN:VEVENT
DTSTART;VALUE=DATE:20250329
DTEND;VALUE=DATE:20250330
DTSTAMP:20260425T150343
CREATED:20251120T233245Z
LAST-MODIFIED:20251120T233245Z
UID:13590-1743206400-1743292799@organicpurefuel.com
SUMMARY:World of Outlaws
DESCRIPTION:
URL:https://organicpurefuel.com/event/world-of-outlaws-6/
LOCATION:IA
CATEGORIES:car
END:VEVENT
END:VCALENDAR