BEGIN:VCALENDAR
VERSION:2.0
PRODID:-//PURE FUEL - ECPv6.15.20//NONSGML v1.0//EN
CALSCALE:GREGORIAN
METHOD:PUBLISH
X-WR-CALNAME:PURE FUEL
X-ORIGINAL-URL:https://organicpurefuel.com
X-WR-CALDESC:Events for PURE FUEL
REFRESH-INTERVAL;VALUE=DURATION:PT1H
X-Robots-Tag:noindex
X-PUBLISHED-TTL:PT1H
BEGIN:VTIMEZONE
TZID:America/Chicago
BEGIN:DAYLIGHT
TZOFFSETFROM:-0600
TZOFFSETTO:-0500
TZNAME:CDT
DTSTART:20240310T080000
END:DAYLIGHT
BEGIN:STANDARD
TZOFFSETFROM:-0500
TZOFFSETTO:-0600
TZNAME:CST
DTSTART:20241103T070000
END:STANDARD
BEGIN:DAYLIGHT
TZOFFSETFROM:-0600
TZOFFSETTO:-0500
TZNAME:CDT
DTSTART:20250309T080000
END:DAYLIGHT
BEGIN:STANDARD
TZOFFSETFROM:-0500
TZOFFSETTO:-0600
TZNAME:CST
DTSTART:20251102T070000
END:STANDARD
BEGIN:DAYLIGHT
TZOFFSETFROM:-0600
TZOFFSETTO:-0500
TZNAME:CDT
DTSTART:20260308T080000
END:DAYLIGHT
BEGIN:STANDARD
TZOFFSETFROM:-0500
TZOFFSETTO:-0600
TZNAME:CST
DTSTART:20261101T070000
END:STANDARD
END:VTIMEZONE
BEGIN:VEVENT
DTSTART;VALUE=DATE:20250604
DTEND;VALUE=DATE:20250605
DTSTAMP:20260425T094724
CREATED:20251120T233707Z
LAST-MODIFIED:20251120T233707Z
UID:13616-1748995200-1749081599@organicpurefuel.com
SUMMARY:410 Outlaw Sprints
DESCRIPTION:
URL:https://organicpurefuel.com/event/410-outlaw-sprints-2/
LOCATION:IA
CATEGORIES:car
END:VEVENT
BEGIN:VEVENT
DTSTART;VALUE=DATE:20250605
DTEND;VALUE=DATE:20250606
DTSTAMP:20260425T094724
CREATED:20251120T233715Z
LAST-MODIFIED:20251120T233715Z
UID:13617-1749081600-1749167999@organicpurefuel.com
SUMMARY:410 Sprints - Winged
DESCRIPTION:
URL:https://organicpurefuel.com/event/410-sprints-winged-55/
LOCATION:IA
CATEGORIES:car
END:VEVENT
BEGIN:VEVENT
DTSTART;VALUE=DATE:20250606
DTEND;VALUE=DATE:20250607
DTSTAMP:20260425T094724
CREATED:20251120T233717Z
LAST-MODIFIED:20251120T233717Z
UID:13618-1749168000-1749254399@organicpurefuel.com
SUMMARY:410 Sprints - Winged
DESCRIPTION:
URL:https://organicpurefuel.com/event/410-sprints-winged-56/
LOCATION:IA
CATEGORIES:car
END:VEVENT
BEGIN:VEVENT
DTSTART;VALUE=DATE:20250607
DTEND;VALUE=DATE:20250608
DTSTAMP:20260425T094724
CREATED:20251120T233718Z
LAST-MODIFIED:20251120T233718Z
UID:13619-1749254400-1749340799@organicpurefuel.com
SUMMARY:410 Sprints - Winged
DESCRIPTION:
URL:https://organicpurefuel.com/event/410-sprints-winged-57/
LOCATION:Beaver Dam Raceway\, N7086 Raceway Rd\, Beaver Dam\, WI\, 53916
CATEGORIES:car
END:VEVENT
BEGIN:VEVENT
DTSTART;VALUE=DATE:20250608
DTEND;VALUE=DATE:20250609
DTSTAMP:20260425T094724
CREATED:20251120T233718Z
LAST-MODIFIED:20251120T233718Z
UID:13620-1749340800-1749427199@organicpurefuel.com
SUMMARY:Sun Prairie WI
DESCRIPTION:
URL:https://organicpurefuel.com/event/sun-prairie-wi-2/
LOCATION:Angell Park Speedway\, 300 Park St\, Sun Prairie\, WI\, 53590
CATEGORIES:car
END:VEVENT
BEGIN:VEVENT
DTSTART;VALUE=DATE:20250613
DTEND;VALUE=DATE:20250614
DTSTAMP:20260425T094724
CREATED:20251120T233719Z
LAST-MODIFIED:20251120T233719Z
UID:13621-1749772800-1749859199@organicpurefuel.com
SUMMARY:410 Sprints - Winged
DESCRIPTION:
URL:https://organicpurefuel.com/event/410-sprints-winged-58/
LOCATION:Knoxville Raceway\, 1000 North Lincoln Street\, Knoxvill\, IA\, 50138
CATEGORIES:car
END:VEVENT
BEGIN:VEVENT
DTSTART;VALUE=DATE:20250614
DTEND;VALUE=DATE:20250615
DTSTAMP:20260425T094724
CREATED:20251120T233725Z
LAST-MODIFIED:20251120T233725Z
UID:13622-1749859200-1749945599@organicpurefuel.com
SUMMARY:410 Sprints - Winged
DESCRIPTION:
URL:https://organicpurefuel.com/event/410-sprints-winged-59/
LOCATION:Knoxville Raceway\, 1000 North Lincoln Street\, Knoxvill\, IA\, 50138
CATEGORIES:car
END:VEVENT
BEGIN:VEVENT
DTSTART;VALUE=DATE:20250618
DTEND;VALUE=DATE:20250619
DTSTAMP:20260425T094724
CREATED:20251120T233726Z
LAST-MODIFIED:20251120T233726Z
UID:13623-1750204800-1750291199@organicpurefuel.com
SUMMARY:Cressman Sanitation 410 Outlaw Sprint Cars
DESCRIPTION:
URL:https://organicpurefuel.com/event/cressman-sanitation-410-outlaw-sprint-cars-5/
LOCATION:IA
CATEGORIES:car
END:VEVENT
BEGIN:VEVENT
DTSTART;VALUE=DATE:20250619
DTEND;VALUE=DATE:20250620
DTSTAMP:20260425T094724
CREATED:20251120T233728Z
LAST-MODIFIED:20251120T233728Z
UID:13624-1750291200-1750377599@organicpurefuel.com
SUMMARY:Cressman Sanitation 410 Outlaw Sprint Cars
DESCRIPTION:
URL:https://organicpurefuel.com/event/cressman-sanitation-410-outlaw-sprint-cars-6/
LOCATION:IA
CATEGORIES:car
END:VEVENT
BEGIN:VEVENT
DTSTART;VALUE=DATE:20250620
DTEND;VALUE=DATE:20250621
DTSTAMP:20260425T094724
CREATED:20251120T233728Z
LAST-MODIFIED:20251120T233728Z
UID:13625-1750377600-1750463999@organicpurefuel.com
SUMMARY:Cressman Sanitation 410 Outlaw Sprint Cars
DESCRIPTION:
URL:https://organicpurefuel.com/event/cressman-sanitation-410-outlaw-sprint-cars-7/
LOCATION:IA
CATEGORIES:car
END:VEVENT
BEGIN:VEVENT
DTSTART;VALUE=DATE:20250621
DTEND;VALUE=DATE:20250622
DTSTAMP:20260425T094724
CREATED:20251120T233729Z
LAST-MODIFIED:20251120T233729Z
UID:13626-1750464000-1750550399@organicpurefuel.com
SUMMARY:Cressman Sanitation 410 Outlaw Sprint Cars
DESCRIPTION:
URL:https://organicpurefuel.com/event/cressman-sanitation-410-outlaw-sprint-cars-8/
LOCATION:IA
CATEGORIES:car
END:VEVENT
BEGIN:VEVENT
DTSTART;VALUE=DATE:20250627
DTEND;VALUE=DATE:20250628
DTSTAMP:20260425T094724
CREATED:20251120T233926Z
LAST-MODIFIED:20251120T233926Z
UID:13627-1750982400-1751068799@organicpurefuel.com
SUMMARY:410 Sprints - Winged
DESCRIPTION:
URL:https://organicpurefuel.com/event/410-sprints-winged-60/
LOCATION:IA
CATEGORIES:car
END:VEVENT
BEGIN:VEVENT
DTSTART;VALUE=DATE:20250628
DTEND;VALUE=DATE:20250629
DTSTAMP:20260425T094724
CREATED:20251120T233928Z
LAST-MODIFIED:20251120T233928Z
UID:13628-1751068800-1751155199@organicpurefuel.com
SUMMARY:410 Sprints - Winged
DESCRIPTION:
URL:https://organicpurefuel.com/event/410-sprints-winged-61/
LOCATION:IA
CATEGORIES:car
END:VEVENT
END:VCALENDAR