BEGIN:VCALENDAR
VERSION:2.0
PRODID:-//PURE FUEL - ECPv6.15.20//NONSGML v1.0//EN
CALSCALE:GREGORIAN
METHOD:PUBLISH
X-WR-CALNAME:PURE FUEL
X-ORIGINAL-URL:https://organicpurefuel.com
X-WR-CALDESC:Events for PURE FUEL
REFRESH-INTERVAL;VALUE=DURATION:PT1H
X-Robots-Tag:noindex
X-PUBLISHED-TTL:PT1H
BEGIN:VTIMEZONE
TZID:America/Chicago
BEGIN:DAYLIGHT
TZOFFSETFROM:-0600
TZOFFSETTO:-0500
TZNAME:CDT
DTSTART:20180311T080000
END:DAYLIGHT
BEGIN:STANDARD
TZOFFSETFROM:-0500
TZOFFSETTO:-0600
TZNAME:CST
DTSTART:20181104T070000
END:STANDARD
BEGIN:DAYLIGHT
TZOFFSETFROM:-0600
TZOFFSETTO:-0500
TZNAME:CDT
DTSTART:20190310T080000
END:DAYLIGHT
BEGIN:STANDARD
TZOFFSETFROM:-0500
TZOFFSETTO:-0600
TZNAME:CST
DTSTART:20191103T070000
END:STANDARD
BEGIN:DAYLIGHT
TZOFFSETFROM:-0600
TZOFFSETTO:-0500
TZNAME:CDT
DTSTART:20200308T080000
END:DAYLIGHT
BEGIN:STANDARD
TZOFFSETFROM:-0500
TZOFFSETTO:-0600
TZNAME:CST
DTSTART:20201101T070000
END:STANDARD
END:VTIMEZONE
BEGIN:VEVENT
DTSTART;VALUE=DATE:20190927
DTEND;VALUE=DATE:20190929
DTSTAMP:20260425T054406
CREATED:20190426T233418Z
LAST-MODIFIED:20190426T233418Z
UID:632-1569625200-1569711599@organicpurefuel.com
SUMMARY:Xfinity Series Playoff race Charlotte
DESCRIPTION:The Drive for the Cure 200 presented by Blue Cross and Blue Shield of North Carolina pits NASCAR Xfinity Series championship contenders against one another in a Saturday free-for-all on the ROVAL™\, NASCAR’s newest track.
URL:https://organicpurefuel.com/event/xfinity-series-playoff-race-charlotte/
LOCATION:Charlotte Motor Speedway\, 5555 Concord Pkwy. South \, Concord\, 28027\, USA
CATEGORIES:car,RCR
END:VEVENT
BEGIN:VEVENT
DTSTART;VALUE=DATE:20190919
DTEND;VALUE=DATE:20190921
DTSTAMP:20260425T054406
CREATED:20190426T233418Z
LAST-MODIFIED:20190426T233418Z
UID:631-1568934000-1569020399@organicpurefuel.com
SUMMARY:Xfinity Series Playoff race Richmond
DESCRIPTION:Watch as NASCAR’s rising stars begin their journey for a championship in the first race of the NASCAR Xfinity Series Playoffs on Friday night “under the lights.”
URL:https://organicpurefuel.com/event/xfinity-series-playoff-race-richmond/
LOCATION:Richmond Raceway\, 600 East Laburnum Avenue\, Richmond\, 23222\, USA
CATEGORIES:car,RCR
END:VEVENT
BEGIN:VEVENT
DTSTART;VALUE=DATE:20190913
DTEND;VALUE=DATE:20190915
DTSTAMP:20260425T054406
CREATED:20190426T233416Z
LAST-MODIFIED:20190426T233416Z
UID:630-1568415600-1568501999@organicpurefuel.com
SUMMARY:SOUTH POINT 400
DESCRIPTION:See all of your favorite drivers in fabulous Las Vegas during the Fall NASCAR Weekend\, Sept. 13-15\, 2019. Fans can also experience the one-of-a-kind Neon Garage featuring live music and entertainment all weekend long. It’s your up-close view of the garages from behind the glass and a great view of Victory Lane. Driver Introduction and Lucky 7 Preferred Parking Passes also are available. The event weekend includes the South Point 400 Monster Energy NASCAR Cup Series race\, the DC Solar 300 NASCAR Xfinity Series race\, and the World of Westgate 200 NASCAR Gander Outdoors Truck Series race\, all of which will be finishing under the lights!
URL:https://organicpurefuel.com/event/south-point-400/
LOCATION:LAS VEGAS MOTOR SPEEDWAY\, 7000 Las Vegas Blvd. N.\, Las Vegas\, 89115\, USA
CATEGORIES:car,RCR
END:VEVENT
BEGIN:VEVENT
DTSTART;VALUE=DATE:20190906
DTEND;VALUE=DATE:20190908
DTSTAMP:20260425T054406
CREATED:20190426T233416Z
LAST-MODIFIED:20190426T233416Z
UID:629-1567810800-1567897199@organicpurefuel.com
SUMMARY:Indiana 250
DESCRIPTION:Watch the young stars of the NASCAR XFINITY Series battle at the Indianapolis Motor Speedway on Saturday\, Sept. 7\, 2019 for the Indiana 250.
URL:https://organicpurefuel.com/event/indiana-250/
LOCATION:Indianapolis \, 4790 W. 16th St\, Indianapolis\, 46222\, USA
CATEGORIES:car,RCR
END:VEVENT
BEGIN:VEVENT
DTSTART;TZID=America/Chicago:20190901T170000
DTEND;TZID=America/Chicago:20190901T230000
DTSTAMP:20260425T054406
CREATED:20190208T045603Z
LAST-MODIFIED:20190617T225818Z
UID:360-1567357200-1567378800@organicpurefuel.com
SUMMARY:Labor Day Special
DESCRIPTION:Driving the Anderson’s Pure Maple Syrup\, Pathfinder Chassis\, DDP Motorsports #42\, Dennis Prunty will battle for the checkered flag
URL:https://organicpurefuel.com/event/labor-day-special/
LOCATION:Slinger Speedway\, 280 Cedar Creek Rd\, Slinger\, 53086\, USA
CATEGORIES:car,ddp
END:VEVENT
BEGIN:VEVENT
DTSTART;VALUE=DATE:20190823
DTEND;VALUE=DATE:20190825
DTSTAMP:20260425T054406
CREATED:20190208T045601Z
LAST-MODIFIED:20190208T045601Z
UID:359-1566586800-1566673199@organicpurefuel.com
SUMMARY:AFF Series Race #4
DESCRIPTION:Driving the Anderson’s Pure Maple Syrup\, Pathfinder Chassis\, DDP Motorsports #42\, Dennis Prunty will battle for the checkered flag
URL:https://organicpurefuel.com/event/aff-series-race-4/
LOCATION:Dells Raceway Park\, N1070 Smith Rd\, Wisconsin Dells\, 53965\, USA
CATEGORIES:car,ddp
END:VEVENT
BEGIN:VEVENT
DTSTART;VALUE=DATE:20190805
DTEND;VALUE=DATE:20190807
DTSTAMP:20260425T054406
CREATED:20190208T045601Z
LAST-MODIFIED:20190208T045601Z
UID:358-1565031600-1565117999@organicpurefuel.com
SUMMARY:ARCA Midwest Tour
DESCRIPTION:Driving the Anderson’s Pure Maple Syrup\, Pathfinder Chassis\, DDP Motorsports #42\, Dennis Prunty will battle for the checkered flag
URL:https://organicpurefuel.com/event/arca-midwest-tour/
LOCATION:Wisconsin International Raceway\, W1460 County Rd KK\, KauKauna\, 54130\, USA
CATEGORIES:car,ddp
END:VEVENT
BEGIN:VEVENT
DTSTART;VALUE=DATE:20190719
DTEND;VALUE=DATE:20190721
DTSTAMP:20260425T054406
CREATED:20190208T045600Z
LAST-MODIFIED:20190208T045600Z
UID:357-1563562800-1563649199@organicpurefuel.com
SUMMARY:TUNDRA Series
DESCRIPTION:Driving the Anderson’s Pure Maple Syrup\, Pathfinder Chassis\, DDP Motorsports #42\, Dennis Prunty will battle for the checkered flag
URL:https://organicpurefuel.com/event/tundra-series-3/
LOCATION:Jefferson Speedway\, W8135 US-18\, Cambridge\, 53523\, USA
CATEGORIES:car,ddp
END:VEVENT
BEGIN:VEVENT
DTSTART;TZID=America/Chicago:20190709T170000
DTEND;TZID=America/Chicago:20190709T230000
DTSTAMP:20260425T054406
CREATED:20190208T045559Z
LAST-MODIFIED:20190617T225518Z
UID:356-1562691600-1562713200@organicpurefuel.com
SUMMARY:Slinger Nationals
DESCRIPTION:Driving the Anderson’s Pure Maple Syrup\, Pathfinder Chassis\, DDP Motorsports #42\, Dennis Prunty will battle for the checkered flag
URL:https://organicpurefuel.com/event/slinger-nationals/
LOCATION:Slinger Speedway\, 280 Cedar Creek Rd\, Slinger\, 53086\, USA
CATEGORIES:car,ddp
END:VEVENT
BEGIN:VEVENT
DTSTART;VALUE=DATE:20190705
DTEND;VALUE=DATE:20190707
DTSTAMP:20260425T054406
CREATED:20190208T045558Z
LAST-MODIFIED:20190208T045558Z
UID:355-1562353200-1562439599@organicpurefuel.com
SUMMARY:TUNDRA Series
DESCRIPTION:Driving the Anderson’s Pure Maple Syrup\, Pathfinder Chassis\, DDP Motorsports #42\, Dennis Prunty will battle for the checkered flag
URL:https://organicpurefuel.com/event/tundra-series-2/
LOCATION:Dells Raceway Park\, N1070 Smith Rd\, Wisconsin Dells\, 53965\, USA
CATEGORIES:car,ddp
END:VEVENT
BEGIN:VEVENT
DTSTART;TZID=America/Chicago:20190630T170000
DTEND;TZID=America/Chicago:20190630T230000
DTSTAMP:20260425T054406
CREATED:20190208T045557Z
LAST-MODIFIED:20190617T225251Z
UID:354-1561914000-1561935600@organicpurefuel.com
SUMMARY:FIREWORKS Special
DESCRIPTION:Driving the Anderson’s Pure Maple Syrup\, Pathfinder Chassis\, DDP Motorsports #42\, Dennis Prunty will battle for the checkered flag
URL:https://organicpurefuel.com/event/fireworks-special/
LOCATION:Slinger Speedway\, 280 Cedar Creek Rd\, Slinger\, 53086\, USA
CATEGORIES:car,ddp
END:VEVENT
BEGIN:VEVENT
DTSTART;VALUE=DATE:20190621
DTEND;VALUE=DATE:20190623
DTSTAMP:20260425T054406
CREATED:20190208T045555Z
LAST-MODIFIED:20190208T045555Z
UID:353-1561143600-1561229999@organicpurefuel.com
SUMMARY:AFF Series Race #3
DESCRIPTION:Driving the Anderson’s Pure Maple Syrup\, Pathfinder Chassis\, DDP Motorsports #42\, Dennis Prunty will battle for the checkered flag
URL:https://organicpurefuel.com/event/aff-series-race-3/
LOCATION:Dells Raceway Park\, N1070 Smith Rd\, Wisconsin Dells\, 53965\, USA
CATEGORIES:car,ddp
END:VEVENT
BEGIN:VEVENT
DTSTART;VALUE=DATE:20190530
DTEND;VALUE=DATE:20190601
DTSTAMP:20260425T054406
CREATED:20190208T045554Z
LAST-MODIFIED:20190208T045554Z
UID:352-1559242800-1559329199@organicpurefuel.com
SUMMARY:AFF Series Race #2
DESCRIPTION:Driving the Anderson’s Pure Maple Syrup\, Pathfinder Chassis\, DDP Motorsports #42\, Dennis Prunty will battle for the checkered flag
URL:https://organicpurefuel.com/event/aff-series-race-2/
LOCATION:Madison International Speedway\, 1122 Sunrise Road\, Oregon\, 53575\, USA
CATEGORIES:car,ddp
END:VEVENT
BEGIN:VEVENT
DTSTART;VALUE=DATE:20190526
DTEND;VALUE=DATE:20190527
DTSTAMP:20260425T054406
CREATED:20190208T045552Z
LAST-MODIFIED:20190522T222411Z
UID:351-1558828800-1558915199@organicpurefuel.com
SUMMARY:Memorial Weekend Special
DESCRIPTION:Driving the Anderson’s Pure Maple Syrup\, Pathfinder Chassis\, DDP Motorsports #42\, Dennis Prunty will battle for the checkered flag
URL:https://organicpurefuel.com/event/memorial-weekend-special/
LOCATION:Slinger Speedway\, 280 Cedar Creek Rd\, Slinger\, 53086\, USA
CATEGORIES:car,ddp
END:VEVENT
BEGIN:VEVENT
DTSTART;VALUE=DATE:20190510
DTEND;VALUE=DATE:20190512
DTSTAMP:20260425T054406
CREATED:20190208T045549Z
LAST-MODIFIED:20190208T045549Z
UID:350-1557514800-1557601199@organicpurefuel.com
SUMMARY:TUNDRA Series
DESCRIPTION:Driving the Anderson’s Pure Maple Syrup\, Pathfinder Chassis\, DDP Motorsports #42\, Dennis Prunty will battle for the checkered flag
URL:https://organicpurefuel.com/event/tundra-series/
LOCATION:Wisconsin International Raceway\, W1460 County Rd KK\, KauKauna\, 54130\, USA
CATEGORIES:car,ddp
END:VEVENT
BEGIN:VEVENT
DTSTART;VALUE=DATE:20190503
DTEND;VALUE=DATE:20190505
DTSTAMP:20260425T054406
CREATED:20190208T045547Z
LAST-MODIFIED:20190208T045547Z
UID:349-1556910000-1556996399@organicpurefuel.com
SUMMARY:CRA/SSS 100
DESCRIPTION:Driving the Anderson’s Pure Maple Syrup\, Pathfinder Chassis\, DDP Motorsports #42\, Dennis Prunty will battle for the checkered flag
URL:https://organicpurefuel.com/event/cra-sss-100/
LOCATION:Fairgrounds Speedway\, 625 Smith Avenue\, Nashville\, 37203\, USA
CATEGORIES:car,ddp
END:VEVENT
BEGIN:VEVENT
DTSTART;VALUE=DATE:20190427
DTEND;VALUE=DATE:20190429
DTSTAMP:20260425T054406
CREATED:20190208T045546Z
LAST-MODIFIED:20190208T045546Z
UID:348-1556391600-1556477999@organicpurefuel.com
SUMMARY:Season Opener
DESCRIPTION:Driving the Anderson’s Pure Maple Syrup\, Pathfinder Chassis\, DDP Motorsports #42\, Dennis Prunty will battle for the checkered flag
URL:https://organicpurefuel.com/event/season-opener/
LOCATION:Slinger Speedway\, 280 Cedar Creek Rd\, Slinger\, 53086\, USA
CATEGORIES:car,ddp
END:VEVENT
BEGIN:VEVENT
DTSTART;VALUE=DATE:20190419
DTEND;VALUE=DATE:20190421
DTSTAMP:20260425T054406
CREATED:20190208T045544Z
LAST-MODIFIED:20190411T191002Z
UID:347-1555700400-1555786799@organicpurefuel.com
SUMMARY:IceBreaker/AFF Series Race #1
DESCRIPTION:Driving the Anderson’s Pure Maple Syrup\, Pathfinder Chassis\, DDP Motorsports #42\, Dennis Prunty will battle for the checkered flag
URL:https://organicpurefuel.com/event/icebreaker-aff-series-race-1/
LOCATION:Dells Raceway Park\, N1070 Smith Rd\, Wisconsin Dells\, 53965\, USA
CATEGORIES:car,ddp
END:VEVENT
BEGIN:VEVENT
DTSTART;VALUE=DATE:20190411
DTEND;VALUE=DATE:20190413
DTSTAMP:20260425T054406
CREATED:20190426T233416Z
LAST-MODIFIED:20190426T233416Z
UID:628-1555023600-1555109999@organicpurefuel.com
SUMMARY:RICHMOND 250
DESCRIPTION:NASCAR returns to the Capital City for the first time in 2019 with the Toyota Spring Race Weekend. Cars will be on track at America’s Premier Short Track before we know it\, which means it’s time to start planning what your race day is going to look like! From when the parking lots open to when the green flag waves\, our weekend schedule is the perfect tool to plan your visit to Richmond Raceway.
URL:https://organicpurefuel.com/event/richmond-250/
LOCATION:Richmond Raceway\, 600 East Laburnum Avenue\, Richmond\, 23222\, USA
CATEGORIES:car,RCR
END:VEVENT
BEGIN:VEVENT
DTSTART;VALUE=DATE:20190328
DTEND;VALUE=DATE:20190330
DTSTAMP:20260425T054406
CREATED:20190208T045543Z
LAST-MODIFIED:20190208T045543Z
UID:346-1553799600-1553885999@organicpurefuel.com
SUMMARY:Blizzard Series Race
DESCRIPTION:Driving the Anderson’s Pure Maple Syrup\, Pathfinder Chassis\, DDP Motorsports #42\, Dennis Prunty will battle for the checkered flag
URL:https://organicpurefuel.com/event/blizzard-series-race/
LOCATION:Five Flags Speedway\, 7451 Pine Forest Rd.\, Pensacola \, 32526\, USA
CATEGORIES:car,ddp
END:VEVENT
END:VCALENDAR