BEGIN:VCALENDAR
VERSION:2.0
PRODID:-//PURE FUEL - ECPv6.15.20//NONSGML v1.0//EN
CALSCALE:GREGORIAN
METHOD:PUBLISH
X-ORIGINAL-URL:https://organicpurefuel.com
X-WR-CALDESC:Events for PURE FUEL
REFRESH-INTERVAL;VALUE=DURATION:PT1H
X-Robots-Tag:noindex
X-PUBLISHED-TTL:PT1H
BEGIN:VTIMEZONE
TZID:America/Chicago
BEGIN:DAYLIGHT
TZOFFSETFROM:-0600
TZOFFSETTO:-0500
TZNAME:CDT
DTSTART:20230312T080000
END:DAYLIGHT
BEGIN:STANDARD
TZOFFSETFROM:-0500
TZOFFSETTO:-0600
TZNAME:CST
DTSTART:20231105T070000
END:STANDARD
BEGIN:DAYLIGHT
TZOFFSETFROM:-0600
TZOFFSETTO:-0500
TZNAME:CDT
DTSTART:20240310T080000
END:DAYLIGHT
BEGIN:STANDARD
TZOFFSETFROM:-0500
TZOFFSETTO:-0600
TZNAME:CST
DTSTART:20241103T070000
END:STANDARD
BEGIN:DAYLIGHT
TZOFFSETFROM:-0600
TZOFFSETTO:-0500
TZNAME:CDT
DTSTART:20250309T080000
END:DAYLIGHT
BEGIN:STANDARD
TZOFFSETFROM:-0500
TZOFFSETTO:-0600
TZNAME:CST
DTSTART:20251102T070000
END:STANDARD
END:VTIMEZONE
BEGIN:VEVENT
DTSTART;TZID=America/Chicago:20241206T000000
DTEND;TZID=America/Chicago:20241206T000000
DTSTAMP:20260424T211918
CREATED:20240503T221715Z
LAST-MODIFIED:20240503T221715Z
UID:9845-1733443200-1733443200@organicpurefuel.com
SUMMARY:Arctic Dash
DESCRIPTION:
URL:https://organicpurefuel.com/event/arctic-dash/
CATEGORIES:McWhorter
END:VEVENT
BEGIN:VEVENT
DTSTART;TZID=America/Chicago:20241109T000000
DTEND;TZID=America/Chicago:20241112T000000
DTSTAMP:20260424T211918
CREATED:20240503T221715Z
LAST-MODIFIED:20240503T221715Z
UID:9844-1731110400-1731369600@organicpurefuel.com
SUMMARY:WORLD'S TOUGHEST MUDDER
DESCRIPTION:
URL:https://organicpurefuel.com/event/worlds-toughest-mudder/
CATEGORIES:McWhorter
END:VEVENT
BEGIN:VEVENT
DTSTART;TZID=America/Chicago:20241004T000000
DTEND;TZID=America/Chicago:20241006T000000
DTSTAMP:20260424T211918
CREATED:20240503T221714Z
LAST-MODIFIED:20240503T221714Z
UID:9843-1728000000-1728172800@organicpurefuel.com
SUMMARY:OCRWC Race Weekend
DESCRIPTION:
URL:https://organicpurefuel.com/event/ocrwc-race-weekend/
CATEGORIES:McWhorter
END:VEVENT
BEGIN:VEVENT
DTSTART;TZID=America/Chicago:20240928T070000
DTEND;TZID=America/Chicago:20240928T070000
DTSTAMP:20260424T211918
CREATED:20240503T221730Z
LAST-MODIFIED:20240503T221730Z
UID:9847-1727506800-1727506800@organicpurefuel.com
SUMMARY:Midwest OCR
DESCRIPTION:Obstacle Course Racing event in Chicagoland with the most innovative challenging and fun obstacles brought to you by the builders and course designers of several OCR events across the country Race Ready Obstacles.
URL:https://organicpurefuel.com/event/midwest-ocr/
CATEGORIES:McWhorter
END:VEVENT
BEGIN:VEVENT
DTSTART;TZID=America/Chicago:20240920T000000
DTEND;TZID=America/Chicago:20240921T000000
DTSTAMP:20260424T211918
CREATED:20240503T221714Z
LAST-MODIFIED:20240503T221714Z
UID:9842-1726790400-1726876800@organicpurefuel.com
SUMMARY:Airforce Marathon
DESCRIPTION:Fly\, Fight\, Win\, Half Marathon Challenge 3 races
URL:https://organicpurefuel.com/event/airforce-marathon/
CATEGORIES:McWhorter
END:VEVENT
BEGIN:VEVENT
DTSTART;TZID=America/Chicago:20240629T000000
DTEND;TZID=America/Chicago:20240630T000000
DTSTAMP:20260424T211918
CREATED:20240503T221714Z
LAST-MODIFIED:20240503T221714Z
UID:9841-1719619200-1719705600@organicpurefuel.com
SUMMARY:War x trilogy weekend
DESCRIPTION:
URL:https://organicpurefuel.com/event/war-x-trilogy-weekend/
CATEGORIES:McWhorter
END:VEVENT
BEGIN:VEVENT
DTSTART;TZID=America/Chicago:20240608T000000
DTEND;TZID=America/Chicago:20240609T000000
DTSTAMP:20260424T211918
CREATED:20240503T221730Z
LAST-MODIFIED:20240503T221730Z
UID:9846-1717804800-1717891200@organicpurefuel.com
SUMMARY:Cincinnati Spartan Trifecta Weekend
DESCRIPTION:Complete a Sprint Super and Beast in one weekend to conquer Spartans ultimate challenge
URL:https://organicpurefuel.com/event/cincinnati-spartan-trifecta-weekend/
CATEGORIES:McWhorter
END:VEVENT
BEGIN:VEVENT
DTSTART;TZID=America/Chicago:20240525T000000
DTEND;TZID=America/Chicago:20240525T000000
DTSTAMP:20260424T211918
CREATED:20240503T221712Z
LAST-MODIFIED:20240503T221712Z
UID:9840-1716595200-1716595200@organicpurefuel.com
SUMMARY:Frontline OCR
DESCRIPTION:
URL:https://organicpurefuel.com/event/frontline-ocr/
CATEGORIES:McWhorter
END:VEVENT
BEGIN:VEVENT
DTSTART;TZID=America/Chicago:20240427T000000
DTEND;TZID=America/Chicago:20240427T000000
DTSTAMP:20260424T211918
CREATED:20240503T221712Z
LAST-MODIFIED:20240503T221712Z
UID:9839-1714176000-1714176000@organicpurefuel.com
SUMMARY:Challenge Race Kentucky
DESCRIPTION:
URL:https://organicpurefuel.com/event/challenge-race-kentucky/
CATEGORIES:McWhorter
END:VEVENT
BEGIN:VEVENT
DTSTART;TZID=America/Chicago:20240419T000000
DTEND;TZID=America/Chicago:20240421T000000
DTSTAMP:20260424T211918
CREATED:20240503T221711Z
LAST-MODIFIED:20240503T221711Z
UID:9838-1713484800-1713657600@organicpurefuel.com
SUMMARY:Buck Fifty 24 hour race
DESCRIPTION:
URL:https://organicpurefuel.com/event/buck-fifty-24-hour-race/
CATEGORIES:McWhorter
END:VEVENT
BEGIN:VEVENT
DTSTART;TZID=America/Chicago:20240414T000000
DTEND;TZID=America/Chicago:20240414T000000
DTSTAMP:20260424T211918
CREATED:20240503T221711Z
LAST-MODIFIED:20240503T221711Z
UID:9837-1713052800-1713052800@organicpurefuel.com
SUMMARY:Ohio State 4 miler
DESCRIPTION:
URL:https://organicpurefuel.com/event/ohio-state-4-miler/
CATEGORIES:McWhorter
END:VEVENT
BEGIN:VEVENT
DTSTART;TZID=America/Chicago:20240317T000000
DTEND;TZID=America/Chicago:20240317T000000
DTSTAMP:20260424T211918
CREATED:20240503T221711Z
LAST-MODIFIED:20240503T221711Z
UID:9836-1710633600-1710633600@organicpurefuel.com
SUMMARY:Big Hoopla 4 miler
DESCRIPTION:Here in Dayton we make it about more than just basketball; it’s four full days of activities and we tip off all the fun with the Big Hoopla 4 Miler. On Selection Sunday we begin the day with a 4 miler that starts and finishes right by UD Arena\, the epicenter of the First Four!
URL:https://organicpurefuel.com/event/big-hoopla-4-miler/
CATEGORIES:McWhorter
END:VEVENT
END:VCALENDAR