BEGIN:VCALENDAR
VERSION:2.0
PRODID:-//PURE FUEL - ECPv6.15.20//NONSGML v1.0//EN
CALSCALE:GREGORIAN
METHOD:PUBLISH
X-WR-CALNAME:PURE FUEL
X-ORIGINAL-URL:https://organicpurefuel.com
X-WR-CALDESC:Events for PURE FUEL
REFRESH-INTERVAL;VALUE=DURATION:PT1H
X-Robots-Tag:noindex
X-PUBLISHED-TTL:PT1H
BEGIN:VTIMEZONE
TZID:America/Chicago
BEGIN:DAYLIGHT
TZOFFSETFROM:-0600
TZOFFSETTO:-0500
TZNAME:CDT
DTSTART:20190310T080000
END:DAYLIGHT
BEGIN:STANDARD
TZOFFSETFROM:-0500
TZOFFSETTO:-0600
TZNAME:CST
DTSTART:20191103T070000
END:STANDARD
BEGIN:DAYLIGHT
TZOFFSETFROM:-0600
TZOFFSETTO:-0500
TZNAME:CDT
DTSTART:20200308T080000
END:DAYLIGHT
BEGIN:STANDARD
TZOFFSETFROM:-0500
TZOFFSETTO:-0600
TZNAME:CST
DTSTART:20201101T070000
END:STANDARD
BEGIN:DAYLIGHT
TZOFFSETFROM:-0600
TZOFFSETTO:-0500
TZNAME:CDT
DTSTART:20210314T080000
END:DAYLIGHT
BEGIN:STANDARD
TZOFFSETFROM:-0500
TZOFFSETTO:-0600
TZNAME:CST
DTSTART:20211107T070000
END:STANDARD
BEGIN:DAYLIGHT
TZOFFSETFROM:-0600
TZOFFSETTO:-0500
TZNAME:CDT
DTSTART:20220313T080000
END:DAYLIGHT
BEGIN:STANDARD
TZOFFSETFROM:-0500
TZOFFSETTO:-0600
TZNAME:CST
DTSTART:20221106T070000
END:STANDARD
BEGIN:DAYLIGHT
TZOFFSETFROM:-0600
TZOFFSETTO:-0500
TZNAME:CDT
DTSTART:20230312T080000
END:DAYLIGHT
BEGIN:STANDARD
TZOFFSETFROM:-0500
TZOFFSETTO:-0600
TZNAME:CST
DTSTART:20231105T070000
END:STANDARD
BEGIN:DAYLIGHT
TZOFFSETFROM:-0600
TZOFFSETTO:-0500
TZNAME:CDT
DTSTART:20240310T080000
END:DAYLIGHT
BEGIN:STANDARD
TZOFFSETFROM:-0500
TZOFFSETTO:-0600
TZNAME:CST
DTSTART:20241103T070000
END:STANDARD
BEGIN:DAYLIGHT
TZOFFSETFROM:-0600
TZOFFSETTO:-0500
TZNAME:CDT
DTSTART:20250309T080000
END:DAYLIGHT
BEGIN:STANDARD
TZOFFSETFROM:-0500
TZOFFSETTO:-0600
TZNAME:CST
DTSTART:20251102T070000
END:STANDARD
BEGIN:DAYLIGHT
TZOFFSETFROM:-0600
TZOFFSETTO:-0500
TZNAME:CDT
DTSTART:20260308T080000
END:DAYLIGHT
BEGIN:STANDARD
TZOFFSETFROM:-0500
TZOFFSETTO:-0600
TZNAME:CST
DTSTART:20261101T070000
END:STANDARD
BEGIN:DAYLIGHT
TZOFFSETFROM:-0600
TZOFFSETTO:-0500
TZNAME:CDT
DTSTART:20270314T080000
END:DAYLIGHT
BEGIN:STANDARD
TZOFFSETFROM:-0500
TZOFFSETTO:-0600
TZNAME:CST
DTSTART:20271107T070000
END:STANDARD
END:VTIMEZONE
BEGIN:VEVENT
DTSTART;VALUE=DATE:20260418
DTEND;VALUE=DATE:20260419
DTSTAMP:20260424T150033
CREATED:20251121T230234Z
LAST-MODIFIED:20251121T230307Z
UID:13664-1776470400-1776556799@organicpurefuel.com
SUMMARY:Carmel Marathon
DESCRIPTION:The Carmel Marathon Weekend returns for its 15th year in 2025. One of the top Boston Marathon qualifying events\, the Carmel Marathon is known for fast times and ideal conditions.
URL:https://organicpurefuel.com/event/carmel-marathon/
LOCATION:Carmel IN\, 1 Carter Green\, Carmel\, IN\, 46032\, United States
CATEGORIES:run
END:VEVENT
BEGIN:VEVENT
DTSTART;VALUE=DATE:20251005
DTEND;VALUE=DATE:20251006
DTSTAMP:20260424T150033
CREATED:20251120T233210Z
LAST-MODIFIED:20251120T233210Z
UID:13574-1759622400-1759708799@organicpurefuel.com
SUMMARY:Twin Cities Marathon & 10 mile
DESCRIPTION:
URL:https://organicpurefuel.com/event/twin-cities-marathon-10-mile-3/
LOCATION:IN
CATEGORIES:run
END:VEVENT
BEGIN:VEVENT
DTSTART;VALUE=DATE:20251003
DTEND;VALUE=DATE:20251004
DTSTAMP:20260424T150033
CREATED:20251120T233210Z
LAST-MODIFIED:20251120T233210Z
UID:13573-1759449600-1759535999@organicpurefuel.com
SUMMARY:Twin Cities Marathon Expo
DESCRIPTION:
URL:https://organicpurefuel.com/event/twin-cities-marathon-expo-3/
LOCATION:IN
CATEGORIES:run
END:VEVENT
BEGIN:VEVENT
DTSTART;VALUE=DATE:20250726
DTEND;VALUE=DATE:20250727
DTSTAMP:20260424T150033
CREATED:20251120T233207Z
LAST-MODIFIED:20251120T233207Z
UID:13571-1753488000-1753574399@organicpurefuel.com
SUMMARY:Maah Daah Hey Trail Run seies
DESCRIPTION:
URL:https://organicpurefuel.com/event/maah-daah-hey-trail-run-seies-2/
LOCATION:IN
CATEGORIES:run
END:VEVENT
BEGIN:VEVENT
DTSTART;VALUE=DATE:20250621
DTEND;VALUE=DATE:20250622
DTSTAMP:20260424T150033
CREATED:20251120T233207Z
LAST-MODIFIED:20251120T233207Z
UID:13570-1750464000-1750550399@organicpurefuel.com
SUMMARY:Grandmas marathon
DESCRIPTION:
URL:https://organicpurefuel.com/event/grandmas-marathon-5/
LOCATION:IN
CATEGORIES:run
END:VEVENT
BEGIN:VEVENT
DTSTART;VALUE=DATE:20250619
DTEND;VALUE=DATE:20250620
DTSTAMP:20260424T150033
CREATED:20251120T233206Z
LAST-MODIFIED:20251120T233206Z
UID:13569-1750291200-1750377599@organicpurefuel.com
SUMMARY:Grandmas marathon Expo
DESCRIPTION:
URL:https://organicpurefuel.com/event/grandmas-marathon-expo-4/
LOCATION:DECC\, 350 Harbor Dr\,\, Duluth\, MN\, 55802
CATEGORIES:run
END:VEVENT
BEGIN:VEVENT
DTSTART;VALUE=DATE:20250531
DTEND;VALUE=DATE:20250601
DTSTAMP:20260424T150033
CREATED:20251120T233205Z
LAST-MODIFIED:20251120T233205Z
UID:13568-1748649600-1748735999@organicpurefuel.com
SUMMARY:FANS 6/12/24 hr. Ultra Race
DESCRIPTION:
URL:https://organicpurefuel.com/event/fans-6-12-24-hr-ultra-race-2/
LOCATION:IN
CATEGORIES:run
END:VEVENT
BEGIN:VEVENT
DTSTART;VALUE=DATE:20250426
DTEND;VALUE=DATE:20250427
DTSTAMP:20260424T150033
CREATED:20251120T233202Z
LAST-MODIFIED:20251120T233202Z
UID:13567-1745625600-1745711999@organicpurefuel.com
SUMMARY:Get In Gear
DESCRIPTION:
URL:https://organicpurefuel.com/event/get-in-gear-3/
LOCATION:IN
CATEGORIES:run
END:VEVENT
BEGIN:VEVENT
DTSTART;TZID=America/Chicago:20241006T000000
DTEND;TZID=America/Chicago:20241006T000000
DTSTAMP:20260424T150033
CREATED:20231228T002318Z
LAST-MODIFIED:20231228T002318Z
UID:9223-1728172800-1728172800@organicpurefuel.com
SUMMARY:Twin Cities Marathon & 10 mile
DESCRIPTION:
URL:https://organicpurefuel.com/event/twin-cities-marathon-10-mile/
LOCATION:IN
CATEGORIES:run
END:VEVENT
BEGIN:VEVENT
DTSTART;TZID=America/Chicago:20241004T000000
DTEND;TZID=America/Chicago:20241005T000000
DTSTAMP:20260424T150033
CREATED:20231228T002317Z
LAST-MODIFIED:20231228T002317Z
UID:9222-1728000000-1728086400@organicpurefuel.com
SUMMARY:Twin Cities Marathon Expo
DESCRIPTION:
URL:https://organicpurefuel.com/event/twin-cities-marathon-expo/
LOCATION:IN
CATEGORIES:run
END:VEVENT
BEGIN:VEVENT
DTSTART;TZID=America/Chicago:20240622T000000
DTEND;TZID=America/Chicago:20240622T000000
DTSTAMP:20260424T150033
CREATED:20231228T002315Z
LAST-MODIFIED:20231228T002315Z
UID:9221-1719014400-1719014400@organicpurefuel.com
SUMMARY:Grandmas marathon
DESCRIPTION:
URL:https://organicpurefuel.com/event/grandmas-marathon-3/
LOCATION:IN
CATEGORIES:run
END:VEVENT
BEGIN:VEVENT
DTSTART;TZID=America/Chicago:20240620T000000
DTEND;TZID=America/Chicago:20240622T000000
DTSTAMP:20260424T150033
CREATED:20231228T002314Z
LAST-MODIFIED:20231228T002314Z
UID:9220-1718841600-1719014400@organicpurefuel.com
SUMMARY:Grandmas marathon Expo
DESCRIPTION:The Essentia Health Fitness Expo is one of the largest in the nation! This event allows race participants\, family and friends a chance to view over 100 booths showcasing the latest products and services available in the athletic industry.
URL:https://organicpurefuel.com/event/grandmas-marathon-expo-2/
LOCATION:DECC\, 350 Harbor Dr\,\, Duluth\, MN\, 55802
CATEGORIES:run
END:VEVENT
BEGIN:VEVENT
DTSTART;TZID=America/Chicago:20240427T000000
DTEND;TZID=America/Chicago:20240427T000000
DTSTAMP:20260424T150033
CREATED:20231228T002314Z
LAST-MODIFIED:20231228T002314Z
UID:9219-1714176000-1714176000@organicpurefuel.com
SUMMARY:Get In Gear
DESCRIPTION:
URL:https://organicpurefuel.com/event/get-in-gear/
LOCATION:IN
CATEGORIES:run
END:VEVENT
BEGIN:VEVENT
DTSTART;TZID=America/Chicago:20230923T080000
DTEND;TZID=America/Chicago:20230923T170000
DTSTAMP:20260424T150033
CREATED:20230208T230123Z
LAST-MODIFIED:20230208T230123Z
UID:7641-1695456000-1695488400@organicpurefuel.com
SUMMARY:Birkie Trail Run
DESCRIPTION:The events will traverse the rolling hills and twists & turns of the famous Birkie Trail.  You’ll see beautiful vistas from atop Mt. Telemark and run on challenging hills\, all within the beautiful forests of northwest Wisconsin.  If you love to run on a great trail in the midst of nature\, this is the event to put on your calendar NOW. Hills for breakfast anyone? See you in September! \nThe Birkie Trail Run Festival will start & finish at the American Birkebeiner Trailhead\, in Cable\, WI.
URL:https://organicpurefuel.com/event/birkie-trail-run/
LOCATION:Birkie\, 10527 Main Street\, Hayward\, 54843\, USA
CATEGORIES:Birkie,run
END:VEVENT
BEGIN:VEVENT
DTSTART;TZID=America/Chicago:20230617T073000
DTEND;TZID=America/Chicago:20230617T150000
DTSTAMP:20260424T150033
CREATED:20230209T180934Z
LAST-MODIFIED:20230209T180934Z
UID:7652-1686987000-1687014000@organicpurefuel.com
SUMMARY:Grandma’s Marathon
DESCRIPTION:Since our inaugural race in 1977\, Grandma’s Marathon has grown into something much bigger than just a 26.2-mile race along the scenic North Shore of Minnesota.It’s now become a “can’t-miss” weekend in June\, a moment when participants of all calibers come together to celebrate the vigor of the human spirit.It’s a day the word “impossible” ceases to exist\, a day 9\,000 people become your best running buddy.So get ready to once again tie up your laces for another year of memories\, miles\, and human might.
URL:https://organicpurefuel.com/event/grandmas-marathon-2/
LOCATION:grandmas\, Two Harbors\, MN
CATEGORIES:run
END:VEVENT
BEGIN:VEVENT
DTSTART;TZID=America/Chicago:20230430T070000
DTEND;TZID=America/Chicago:20230430T170000
DTSTAMP:20260424T150033
CREATED:20230331T223153Z
LAST-MODIFIED:20230331T223204Z
UID:7926-1682838000-1682874000@organicpurefuel.com
SUMMARY:Eau Claire Marathon
DESCRIPTION:Start Line: Phoenix Park \nFinish Line: Graham Avenue \nThe Eau Claire Marathon is a Boston Qualifying course certified by the USATF! Our course starts and finishes in Eau Claire’s Downtown District focusing on the beauty of our city.  Throughout the 26.2 miles\, you will cross eight bridges going over the Eau Claire and Chippewa Rivers. The fast second half includes the Blugold mile coming through UW-Eau Claire’s lower campus. \nOur full marathon course is very spectator-friendly.  Without leaving the Phoenix Park area\, family\, friends and community members can easily cheer runners on at the start\, on the loop back (miles 2.5-4)\, on Barstow Street (check out the Barstow Block Party at mile 23.5) and as they finish on Graham Avenue.
URL:https://organicpurefuel.com/event/eau-claire-marathon/
LOCATION:Phoenix Park\, 330 Riverfront Terrace\, Eau Claire\, WI\, 54703\, United States
CATEGORIES:run
END:VEVENT
BEGIN:VEVENT
DTSTART;TZID=America/Chicago:20230429T170000
DTEND;TZID=America/Chicago:20230429T200000
DTSTAMP:20260424T150033
CREATED:20230331T222858Z
LAST-MODIFIED:20230331T222858Z
UID:7923-1682787600-1682798400@organicpurefuel.com
SUMMARY:Eau Claire Marathon 10K & 5K
DESCRIPTION:Race starts at 5:00 PM Our 10K course will stick mainly to Eau Claire’s bike trail system\, crossing the High Bridge\, running through Owen Park and along the Chippewa River. Without leaving the Phoenix Park area\, family\, friends and community members can easily cheer runners on at the start\, when they come down the trail along First Ave (mile 1.5) and as they finish in Phoenix Park. \nAll participants will receive their race shirt at packet pick-up. Upon completion\, runners will receive a finisher’s medal to commemorate their accomplishment at the Eau Claire Marathon 10K Run/Walk. \nJoin us Saturday Night at 6:30 PM for the Eau Claire Marathon 5K! We are so excited to have one of our favorite bridges\, the High Bridge\, back on a race course! Our 5K course is very spectator-friendly.  Without leaving the Phoenix Park area\, family\, friends and community members can easily cheer runners on at the start\, when they come down the bike trail along First Ave (mile 1.5)\, crossing Grand Ave footbridge (mile 2.5) and/or as they finish in Phoenix Park.
URL:https://organicpurefuel.com/event/eau-claire-marathon-10k-5k/
LOCATION:Phoenix Park\, 330 Riverfront Terrace\, Eau Claire\, WI\, 54703\, United States
CATEGORIES:run
END:VEVENT
BEGIN:VEVENT
DTSTART;TZID=America/Chicago:20220521T080000
DTEND;TZID=America/Chicago:20220521T170000
DTSTAMP:20260424T150033
CREATED:20220301T195033Z
LAST-MODIFIED:20220301T195033Z
UID:3726-1653120000-1653152400@organicpurefuel.com
SUMMARY:Fargo Half Marathon
DESCRIPTION:Recognized as one of the fastest half marathons in the region\, the 2022 Fargo Half Marathon includes the best pieces of Fargo all wrapped up in 13.1 miles!  \nThe race starts inside the FargoDome and then takes you through tree-lined residential streets and on to the bike path trails along the Red River. The half marathon course continues through historic 8th and 9th Streets before hitting Broadway and the awesome Fargo Theatre! After that\, it’s back to the FargoDome for your indoor jumbotron celebrity finish line!  \nVery flat! Very fast! Very fun!   \nAnd don’t forget about the DJs and live bands along the way….at least one per mile! 
URL:https://organicpurefuel.com/event/fargo-half-marathon/
LOCATION:Fargo\, 1800 N University Dr\,\, Fargo\, ND\, 58102\, United States
CATEGORIES:run
END:VEVENT
BEGIN:VEVENT
DTSTART;TZID=America/Chicago:20220521T074500
DTEND;TZID=America/Chicago:20220521T170000
DTSTAMP:20260424T150033
CREATED:20220301T200937Z
LAST-MODIFIED:20220301T200937Z
UID:3728-1653119100-1653152400@organicpurefuel.com
SUMMARY:Fargo 10K
DESCRIPTION:The Fargo 10K will be held Saturday\, May 21 and start at 7:45 a.m. INSIDE the FargoDome! The route will take you through beautiful North Fargo neighborhoods and then wind back around to make your grand finish inside the FargoDome. 
URL:https://organicpurefuel.com/event/fargo-10k/
LOCATION:Fargo\, 1800 N University Dr\,\, Fargo\, ND\, 58102\, United States
CATEGORIES:run
END:VEVENT
BEGIN:VEVENT
DTSTART;TZID=America/Chicago:20220521T073000
DTEND;TZID=America/Chicago:20220521T170000
DTSTAMP:20260424T150033
CREATED:20220301T194901Z
LAST-MODIFIED:20220301T194901Z
UID:3724-1653118200-1653152400@organicpurefuel.com
SUMMARY:Fargo Marathon
DESCRIPTION:In its 18th year\, the 2022 Essentia Health Fargo Marathon course is a 26.2-mile party unlike any other. Starting and ending inside the FargoDome\, you’ll be treated to over 50 bands and DJs lining the route. Plus\, you’ll be welcomed around town by Fargo’s incredible residents who cheer on every runner as they go by throughout the day. You couldn’t ask for better entertainment and support as you complete 26.2 miles. \nWhen you return to the FargoDome\, you’ll receive our VIP treatment via being able to watch yourself cross the finish on the high-definition jumbotron above you while thousands of people in the stadium cheer you on. There’s no better way to finish your race. \nAnd as always\, the Essentia Health Fargo Marathon is a USATF-Certified Course and a Boston Qualifier! \n 
URL:https://organicpurefuel.com/event/fargo-marathon-2/
LOCATION:Fargo\, 1800 N University Dr\,\, Fargo\, ND\, 58102\, United States
CATEGORIES:run
END:VEVENT
BEGIN:VEVENT
DTSTART;TZID=America/Chicago:20220520T100000
DTEND;TZID=America/Chicago:20220520T200000
DTSTAMP:20260424T150033
CREATED:20220301T194532Z
LAST-MODIFIED:20220301T194532Z
UID:3722-1653040800-1653076800@organicpurefuel.com
SUMMARY:Friday Night 5K
DESCRIPTION:Join thousands of runners at North Dakota’s largest road race. That’s right\, the Fargo Friday Night 5K on May 20th is a massive celebration of running and all things Fargo\, attracting more runners than any other race in the state!   \nWith an amazing and electric atmosphere\, this is a can’t-miss 5K. The race kicks off at 6:30 p.m. and starts and finishes INSIDE the Fargodome with an epic after-party\, so you’ll be rockin’ and runnin’ from the inside out!   \nThe event is capped at 6\,000 runners and will sell out prior to registration closing\, so be sure to reserve your spot as soon as possible! 
URL:https://organicpurefuel.com/event/friday-night-5k/
LOCATION:Fargo\, 1800 N University Dr\,\, Fargo\, ND\, 58102\, United States
CATEGORIES:run
END:VEVENT
BEGIN:VEVENT
DTSTART;TZID=America/Chicago:20220519T120000
DTEND;TZID=America/Chicago:20220519T190000
DTSTAMP:20260424T150033
CREATED:20220301T194006Z
LAST-MODIFIED:20220301T194006Z
UID:3719-1652961600-1652986800@organicpurefuel.com
SUMMARY:Children's Youth Run/Expo & Packet Pickup
DESCRIPTION:As we prepare to celebrate 18 years of Rockin’ and Runnin’ in the 2022 Fargo Marathon\, Thursday\, May 19th\, we also celebrate our youth runners who are celebrating 17 years with us! In 2005\, about 100 kids lined up at the bike path along the Red River on a Friday night to kick off the very first event of the inaugural Fargo Marathon. Fast forward to our Youth Run in 2016\, and we had over 2\,800 kids who took part in the Fargo Marathon Youth Run! \nThe 2022 Youth Run will feature two different distances: 1/2 mile and 1 mile featuring the thrills and excitement of TNT Fitness – who help prepare the kids with fun music and stretches & warm ups and get them ready to run! The race is open to all children 12 and under. Parents/Guardians are welcome to run alongside their children or push them in a stroller\, if necessary. The different age groups will start in waves so congestion is kept to a minimum. Safety is our first priority! All kids will finish inside a secured\, fenced-in area. \nPacket pickup for the youth run will be held on May 19 from 12:00 p.m. until 6:00 p.m.
URL:https://organicpurefuel.com/event/childrens-youth-run-expo-packet-pickup/
LOCATION:Fargo\, 1800 N University Dr\,\, Fargo\, ND\, 58102\, United States
CATEGORIES:run
END:VEVENT
BEGIN:VEVENT
DTSTART;TZID=America/Chicago:20220517T120000
DTEND;TZID=America/Chicago:20220517T190000
DTSTAMP:20260424T150033
CREATED:20220301T193635Z
LAST-MODIFIED:20220301T194203Z
UID:3716-1652788800-1652814000@organicpurefuel.com
SUMMARY:FurGo Dog Run
DESCRIPTION:Have a furry running buddy? Then we have a run/walk for you\, too! \nIntroduced at the 2016 Fargo Marathon event\, the FurGo Dog Run\, sponsored by NutriSource\, was an instant success with dogs and dog owners\, alike! Over 400 participants took on the 1.5-mile course with a canine and loved it! \nJoin us on Tuesday\, May 17\, at 6:30 p.m. as we shoot for 500 participants (that will be something to bark about!). Complete with your doggy goody bag\, finisher’s shirt\, finisher’s medal\, and your dog’s very own finisher’s medal\, it’s an event you will not want to miss! This race often fills up fast\, so be sure to register early! \n\nPacket pickup will be at the Fargodome on the South side on Tuesday\, May 17th from 12:00 PM until 5:30 PM.\nThe FurGo Dog Run is a ‘time yourself’ event. We will have a clock at the finish line for you.\nA portion of the proceeds will be donated to our local homeless animal shelters/rescues: Homeward Animal Shelter\, Diamond in the Ruff & For Love of Dog Rescue!
URL:https://organicpurefuel.com/event/furgo-dog-run-3/
LOCATION:Fargo\, 1800 N University Dr\,\, Fargo\, ND\, 58102\, United States
CATEGORIES:run
END:VEVENT
BEGIN:VEVENT
DTSTART;TZID=America/Chicago:20211002T080000
DTEND;TZID=America/Chicago:20211002T170000
DTSTAMP:20260424T150033
CREATED:20210915T223746Z
LAST-MODIFIED:20210915T223746Z
UID:3227-1633161600-1633194000@organicpurefuel.com
SUMMARY:Wonderful Water Half Marathon and Half
DESCRIPTION:Come out and run one of the most scenic courses you’ve ever been on. Meandering through the Stevens Point city trails\, roads\, and paths\, along the Wisconsin River and past Lake Joanis\, this Half Marathon and 5K will not disappoint! \nHalf Marathon Race Starts at 9:00 am 5K starts at 9:30 am. \nPacket pick-up will be from 4-8 on Friday night and starting at 6:00 am the day of. \nThe Wonderful Water Run gathers community around a precious resource. Hosts of the run are committed to supporting the protection of Central Wisconsin’s groundwater through a direct contribution to Golden Sands Resource Conservation & Development Council. Through their work\, the impact of local agricultural practices is decreased\, invasive species are managed\, and more of our community members are educated about local water systems.
URL:https://organicpurefuel.com/event/wonderful-water-half-marathon-and-half/
LOCATION:Pfiffner Pioneer Park\, 1100 Crosby Ave\, Stevens Point\, 54481\, United States
CATEGORIES:run
END:VEVENT
BEGIN:VEVENT
DTSTART;TZID=America/Chicago:20210925T063000
DTEND;TZID=America/Chicago:20210925T170000
DTSTAMP:20260424T150033
CREATED:20210623T195507Z
LAST-MODIFIED:20210623T195507Z
UID:3047-1632551400-1632589200@organicpurefuel.com
SUMMARY:Fargo Marathons
DESCRIPTION:In its 17th year\, the 2021 Sanford Fargo Marathon course is going to be something special! The country’s most comfortable Starting and Finishing Line happens at the Sanford Fargo Marathon when you start and finish INSIDE the awesome Fargodome! Watch yourself on the jumbo high def video screens as you raise your arms in triumph and cross that finish line with thousands of fans cheering you on! Starting at 6:30 AM\, the marathoners will take off and first get into the quiet\, tree-lined streets of north Fargo. \nOver 50 bands and DJ’s will line the course! Expect tons of fun and entertainment to keep you going through those 26.2 miles! \n\n\n\n\n\n\n\n\n\n\n\n\n\nFinish inside the Fargodome with a huge jumbotron and thousands of screaming fans! No better way to complete your marathon than by being inside the dome! \n\n\n\n\n\n\n\n\n\n\n\n\n\n\n\n\nAs always\, the Sanford Fargo Marathon is a USATF Certified Course – and is a Boston Qualifier!
URL:https://organicpurefuel.com/event/fargo-marathons/
LOCATION:Fargo\, 1800 N University Dr\,\, Fargo\, ND\, 58102\, United States
CATEGORIES:run
END:VEVENT
BEGIN:VEVENT
DTSTART;TZID=America/Chicago:20210924T100000
DTEND;TZID=America/Chicago:20210924T200000
DTSTAMP:20260424T150033
CREATED:20210623T195108Z
LAST-MODIFIED:20210623T195108Z
UID:3045-1632477600-1632513600@organicpurefuel.com
SUMMARY:Sanford Fargo Marathon Health & Wellness Expo 2021 Day 2
DESCRIPTION:The 17th running of the Sanford Fargo Marathon will take place Saturday\, September 25th. The event weekend kicks off with the Sanford Fargo Marathon Health & Wellness Expo followed by the Friday night 5K and culminating with the marathon\, half marathon\, and 10k on Saturday morning.
URL:https://organicpurefuel.com/event/sanford-fargo-marathon-health-wellness-expo-2021-day-2/
LOCATION:Fargo\, 1800 N University Dr\,\, Fargo\, ND\, 58102\, United States
CATEGORIES:run
END:VEVENT
BEGIN:VEVENT
DTSTART;TZID=America/Chicago:20210923T160000
DTEND;TZID=America/Chicago:20210923T200000
DTSTAMP:20260424T150033
CREATED:20210623T194923Z
LAST-MODIFIED:20210623T194923Z
UID:3043-1632412800-1632427200@organicpurefuel.com
SUMMARY:Sanford Fargo Marathon Health & Wellness Expo 2021
DESCRIPTION:The 17th running of the Sanford Fargo Marathon will take place Saturday\, September 25th. The event weekend kicks off with the Sanford Fargo Marathon Health & Wellness Expo followed by the Friday night 5K and culminating with the marathon\, half marathon\, and 10k on Saturday morning.
URL:https://organicpurefuel.com/event/sanford-fargo-marathon-health-wellness-expo-2021/
LOCATION:Fargo\, 1800 N University Dr\,\, Fargo\, ND\, 58102\, United States
CATEGORIES:run
END:VEVENT
BEGIN:VEVENT
DTSTART;TZID=America/Chicago:20210619T000000
DTEND;TZID=America/Chicago:20210619T000000
DTSTAMP:20260424T150033
CREATED:20210128T224502Z
LAST-MODIFIED:20210128T224502Z
UID:2421-1624060800-1624060800@organicpurefuel.com
SUMMARY:Grandmas marathon
DESCRIPTION:
URL:https://organicpurefuel.com/event/grandmas-marathon/
LOCATION:grandmas\, Two Harbors\, MN
CATEGORIES:run
END:VEVENT
BEGIN:VEVENT
DTSTART;TZID=America/Chicago:20210617T000000
DTEND;TZID=America/Chicago:20210618T000000
DTSTAMP:20260424T150033
CREATED:20210128T224501Z
LAST-MODIFIED:20210128T224501Z
UID:2420-1623888000-1623974400@organicpurefuel.com
SUMMARY:Grandmas marathon Expo
DESCRIPTION:The Essentia Health Fitness Expo is one of the largest in the nation! This event allows race participants\, family and friends a chance to view over 100 booths showcasing the latest products and services available in the athletic industry.
URL:https://organicpurefuel.com/event/grandmas-marathon-expo/
LOCATION:DECC\, 350 Harbor Dr\,\, Duluth\, MN\, 55802
CATEGORIES:run
END:VEVENT
BEGIN:VEVENT
DTSTART;TZID=America/Chicago:20200829T053000
DTEND;TZID=America/Chicago:20200829T200000
DTSTAMP:20260424T150033
CREATED:20200713T142131Z
LAST-MODIFIED:20200713T142211Z
UID:1717-1598679000-1598731200@organicpurefuel.com
SUMMARY:Fargo Marathon
DESCRIPTION:5:30AM\nLINEUP FOR FULL\, RELAY\, HALF\, & 10K PARTICIPANTS\nFargodome – East Parking Lot \n\n\n\n\n\n\n\n\n\n\n6:10AM\nSTARTING LINE ANNOUNCEMENTS\nFargodome\n \n\n\n\n\n\n\n6:20AM\n\n\n\n\nNATIONAL ANTHEM\, INVOCATION\, DIGNITARIES\nFargodome\n \n\n\n\n\n\n\n6:30AM\n\n\n\n\n\n\n\n\n\n\nFULL MARATHON & RELAY START\nFargodome\n \n\n\n\n\n\n\n6:30AM\n\n\n\n\nHALF MARATHON START\nFargodome\n \n\n\n\n\n\n\n\n\n\n\n\n7:00AM\n10K START\nFargodome \nWith a week full of events\, the Fargo Marathon will have something for everyone. From the Cyclothon\, Furgo Dog Run\, Largest Kid’s Race\, 5K Walk/Run\, 10K\, Half Marathon\, Full Marathon Relays\, there is a distance for all! \nThe 2020 event was originally scheduled for May\, but was rescheduled to August due to concerns surrounding COVID-19. We’re proud to have Sanford Health by our side for the 2020 Sanford Fargo Marathon\, expertly guiding us toward a safe and healthy event.
URL:https://organicpurefuel.com/event/fargo-marathon/
LOCATION:Fargo\, 1800 N University Dr\,\, Fargo\, ND\, 58102\, United States
CATEGORIES:run
END:VEVENT
END:VCALENDAR