BEGIN:VCALENDAR
VERSION:2.0
PRODID:-//PURE FUEL - ECPv6.15.20//NONSGML v1.0//EN
CALSCALE:GREGORIAN
METHOD:PUBLISH
X-ORIGINAL-URL:https://organicpurefuel.com
X-WR-CALDESC:Events for PURE FUEL
REFRESH-INTERVAL;VALUE=DURATION:PT1H
X-Robots-Tag:noindex
X-PUBLISHED-TTL:PT1H
BEGIN:VTIMEZONE
TZID:America/Chicago
BEGIN:DAYLIGHT
TZOFFSETFROM:-0600
TZOFFSETTO:-0500
TZNAME:CDT
DTSTART:20180311T080000
END:DAYLIGHT
BEGIN:STANDARD
TZOFFSETFROM:-0500
TZOFFSETTO:-0600
TZNAME:CST
DTSTART:20181104T070000
END:STANDARD
BEGIN:DAYLIGHT
TZOFFSETFROM:-0600
TZOFFSETTO:-0500
TZNAME:CDT
DTSTART:20190310T080000
END:DAYLIGHT
BEGIN:STANDARD
TZOFFSETFROM:-0500
TZOFFSETTO:-0600
TZNAME:CST
DTSTART:20191103T070000
END:STANDARD
BEGIN:DAYLIGHT
TZOFFSETFROM:-0600
TZOFFSETTO:-0500
TZNAME:CDT
DTSTART:20200308T080000
END:DAYLIGHT
BEGIN:STANDARD
TZOFFSETFROM:-0500
TZOFFSETTO:-0600
TZNAME:CST
DTSTART:20201101T070000
END:STANDARD
BEGIN:DAYLIGHT
TZOFFSETFROM:-0600
TZOFFSETTO:-0500
TZNAME:CDT
DTSTART:20210314T080000
END:DAYLIGHT
BEGIN:STANDARD
TZOFFSETFROM:-0500
TZOFFSETTO:-0600
TZNAME:CST
DTSTART:20211107T070000
END:STANDARD
END:VTIMEZONE
BEGIN:VEVENT
DTSTART;TZID=America/Chicago:20200828T100000
DTEND;TZID=America/Chicago:20200828T200000
DTSTAMP:20260424T194152
CREATED:20200713T141617Z
LAST-MODIFIED:20200713T142651Z
UID:1715-1598608800-1598644800@organicpurefuel.com
SUMMARY:Fargo marathon 5K
DESCRIPTION:With a week full of events\, the Fargo Marathon will have something for everyone. From the Cyclothon\, Furgo Dog Run\, Largest Kid’s Race\, 5K Walk/Run\, 10K\, Half Marathon\, Full Marathon Relays\, there is a distance for all! \nThe 2020 event was originally scheduled for May\, but was rescheduled to August due to concerns surrounding COVID-19. We’re proud to have Sanford Health by our side for the 2020 Sanford Fargo Marathon\, expertly guiding us toward a safe and healthy event. \n10:00 AM-8:00 PM\nRACE PACKET PICKUP\nFargodome \n10:00 AM-5:00 PM \n\n\n\n\n\n\n\n\n\n\n5K REGISTRATION\nFargodome \n\n\n\n\n\n\n\n\n\n\n11:00 AM-12:00 PM\nPRESS CONFERENCE\nFargodome \n\n\n\n\n\n\n5:30 PM\n\n\n\n\n\n\n\n\n\n\nSTARTING LINE ANNOUNCEMENTS & 5K LINEUP\nFargodome – East Parking Lot \n\n\n\n\n\n\n\n\n\n\n6:30 PM-8:00 PM\nSANFORD HEALTH 5K\nFargodome – East Parking Lot
URL:https://organicpurefuel.com/event/fargo-marathon-5k/
LOCATION:Fargo\, 1800 N University Dr\,\, Fargo\, ND\, 58102\, United States
CATEGORIES:run
END:VEVENT
BEGIN:VEVENT
DTSTART;TZID=America/Chicago:20200827T120000
DTEND;TZID=America/Chicago:20200827T200000
DTSTAMP:20260424T194152
CREATED:20200713T141031Z
LAST-MODIFIED:20200713T142803Z
UID:1713-1598529600-1598558400@organicpurefuel.com
SUMMARY:Fargo Marathon - Youth Run
DESCRIPTION:With a week full of events\, the Fargo Marathon will have something for everyone. From the Cyclothon\, Furgo Dog Run\, Largest Kid’s Race\, 5K Walk/Run\, 10K\, Half Marathon\, Full Marathon Relays\, there is a distance for all! \nThe 2020 event was originally scheduled for May but was rescheduled to August due to concerns surrounding COVID-19. We’re proud to have Sanford Health by our side for the 2020 Sanford Fargo Marathon\, expertly guiding us toward a safe and healthy event. \n12:00PM-8:00PM\n“EARLY BIRD” PACKET PICKUP\nFargodome \n\n\n\n\n\n\n\n\n\n\n\n12:00PM-8:00PM\n5K REGISTRATION\nFargodome \n\n\n\n\n\n\n\n\n\n\n\n5:30PM\nYOUTH RUN LINEUP\nFargodome \n\n\n\n\n\n\n6:30PM-7:00PM\n\n\n\n\n\n\n\n\n\n\n1/2 MILE YOUTH RUN START\nFargodome \n\n\n\n\n\n\n\n\n\n\n\n7:00PM-7:30PM\n1 MILE YOUTH RUN START\nFargodome
URL:https://organicpurefuel.com/event/fargo-marathon-youth-run/
LOCATION:Fargo\, 1800 N University Dr\,\, Fargo\, ND\, 58102\, United States
CATEGORIES:run
END:VEVENT
BEGIN:VEVENT
DTSTART;TZID=America/Chicago:20200825T120000
DTEND;TZID=America/Chicago:20200825T203000
DTSTAMP:20260424T194152
CREATED:20200713T140821Z
LAST-MODIFIED:20200713T142843Z
UID:1711-1598356800-1598387400@organicpurefuel.com
SUMMARY:FURGO DOG RUN
DESCRIPTION:With a week full of events\, the Fargo Marathon will have something for everyone. From the Cyclothon\, Furgo Dog Run\, Largest Kid’s Race\, 5K Walk/Run\, 10K\, Half Marathon\, Full Marathon Relays\, there is a distance for all! \nThe 2020 event was originally scheduled for May\, but was rescheduled to August due to concerns surrounding COVID-19. We’re proud to have Sanford Health by our side for the 2020 Sanford Fargo Marathon\, expertly guiding us toward a safe and healthy event. \n12:00PM-5:30PM\nFURGO DOG RUN PACKET PICKUP\nFargodome – South Side\n \n\n\n\n\n\n\n\n\n\n\n\n6:30PM-8:30PM\nFURGO DOG RUN\nFargodome – South Side
URL:https://organicpurefuel.com/event/furgo-dog-run/
LOCATION:Fargo\, 1800 N University Dr\,\, Fargo\, ND\, 58102\, United States
CATEGORIES:run
END:VEVENT
BEGIN:VEVENT
DTSTART;TZID=America/Chicago:20200824T180000
DTEND;TZID=America/Chicago:20200824T200000
DTSTAMP:20260424T194152
CREATED:20200713T135523Z
LAST-MODIFIED:20200713T140502Z
UID:1708-1598292000-1598299200@organicpurefuel.com
SUMMARY:Fargo Marathon - CYCLOTHON
DESCRIPTION:With a week full of events\, the Fargo Marathon will have something for everyone. From the Cyclothon\, Furgo Dog Run\, Largest Kid’s Race\, 5K Walk/Run\, 10K\, Half Marathon\, Full Marathon Relays\, there is a distance for all! \nThe 2020 event was originally scheduled for May\, but was rescheduled to August due to concerns surrounding COVID-19. \n\n\n\n\n\n12:00PM-5:30PM\nCYCLOTHON PACKET PICKUP\nBuffalo Wild Wings – 19th Ave North \n\n\n\n\n\n\n\n\n\n\n\n6:00\nCYCLOTHON 15 MILE START\nBuffalo Wild Wings – 19th Ave North \n\n\n\n\n\n\n\n\n\n\n\n6:30\nCYCLOTHON 26.2 MILE START\nBuffalo Wild Wings – 19th Ave North
URL:https://organicpurefuel.com/event/fargo-marathon-cyclothon/
LOCATION:Fargo\, 1800 N University Dr\,\, Fargo\, ND\, 58102\, United States
CATEGORIES:run
END:VEVENT
BEGIN:VEVENT
DTSTART;TZID=America/Chicago:20191005T100000
DTEND;TZID=America/Chicago:20191005T200000
DTSTAMP:20260424T194152
CREATED:20190801T180736Z
LAST-MODIFIED:20190801T180736Z
UID:897-1570269600-1570305600@organicpurefuel.com
SUMMARY:Twin Cities Marathon Weekend Day 2
DESCRIPTION:Come to the unforgettable\, 38th annual Medtronic Twin Cities Marathon Weekend. Take part in a celebration of health and fitness in the Twin Cities of Minneapolis and Saint Paul\, Minnesota! \nExplore more than 100 exhibitors with the latest in running and fitness gear. While you’re there\, learn more about the most recent equipment and nutrition tips. Bring friends and family! The expo is free and open to the public!
URL:https://organicpurefuel.com/event/twin-cities-marathon-weekend-day-2/
LOCATION:St Paul River Center\, 175 West Kellogg Blvd\, Saint Paul MN\, MN\, 55102\, United States
CATEGORIES:run
END:VEVENT
BEGIN:VEVENT
DTSTART;TZID=America/Chicago:20191004T110000
DTEND;TZID=America/Chicago:20191004T200000
DTSTAMP:20260424T194152
CREATED:20190801T175953Z
LAST-MODIFIED:20190801T183709Z
UID:887-1570186800-1570219200@organicpurefuel.com
SUMMARY:Twin Cities Marathon Weekend Day 1
DESCRIPTION:Come to the unforgettable\, 38th annual Medtronic Twin Cities Marathon Weekend. Take part in a celebration of health and fitness in the Twin Cities of Minneapolis and Saint Paul\, Minnesota! \nExplore more than 100 exhibitors with the latest in running and fitness gear. While you’re there\, learn more about the most recent equipment and nutrition tips. Bring friends and family! The expo is free and open to the public!
URL:https://organicpurefuel.com/event/887/
LOCATION:St Paul River Center\, 175 West Kellogg Blvd\, Saint Paul MN\, MN\, 55102\, United States
CATEGORIES:run
END:VEVENT
BEGIN:VEVENT
DTSTART;VALUE=DATE:20190926
DTEND;VALUE=DATE:20190929
DTSTAMP:20260424T194152
CREATED:20190208T045611Z
LAST-MODIFIED:20190208T045611Z
UID:367-1569524400-1569697199@organicpurefuel.com
SUMMARY:Birkie Trail Run Festival
DESCRIPTION:Anderson’s Pure Maple Syrup is a proud sponsor of Birkie events. Look for our all-new Pure Fuel products on race day at the events listed below
URL:https://organicpurefuel.com/event/birkie-trail-run-festival/
LOCATION:Birkie\, 10527 Main Street\, Hayward\, 54843\, USA
CATEGORIES:Birkie,run
END:VEVENT
BEGIN:VEVENT
DTSTART;TZID=America/Chicago:20190801T080000
DTEND;TZID=America/Chicago:20190801T170000
DTSTAMP:20260424T194152
CREATED:20190801T174258Z
LAST-MODIFIED:20190801T174258Z
UID:889-1564646400-1564678800@organicpurefuel.com
SUMMARY:Mendota Bottoms Trail run
DESCRIPTION:The Mendota Bottoms Trail run consists of 10 Mile and 5k runs along the scenic Minnesota River on the Ft. Snelling Park trail starting in Mendota. Proceeds from the race will be donated to the Ft. Snelling State Park to maintain the trail.
URL:https://organicpurefuel.com/event/mendota-bottoms-trail-run/
LOCATION:FT Snelling State Park\, 101 Snelling Lake Rd\, St Paul\, MN\, 55111\, United States
CATEGORIES:run
ATTACH;FMTTYPE=image/jpeg:https://organicpurefuel.com/wp-content/uploads/2019/08/IntotheWildLogo200x82.jpg
END:VEVENT
END:VCALENDAR