BEGIN:VCALENDAR
VERSION:2.0
PRODID:-//PURE FUEL - ECPv6.15.20//NONSGML v1.0//EN
CALSCALE:GREGORIAN
METHOD:PUBLISH
X-WR-CALNAME:PURE FUEL
X-ORIGINAL-URL:https://organicpurefuel.com
X-WR-CALDESC:Events for PURE FUEL
REFRESH-INTERVAL;VALUE=DURATION:PT1H
X-Robots-Tag:noindex
X-PUBLISHED-TTL:PT1H
BEGIN:VTIMEZONE
TZID:America/Chicago
BEGIN:DAYLIGHT
TZOFFSETFROM:-0600
TZOFFSETTO:-0500
TZNAME:CDT
DTSTART:20230312T080000
END:DAYLIGHT
BEGIN:STANDARD
TZOFFSETFROM:-0500
TZOFFSETTO:-0600
TZNAME:CST
DTSTART:20231105T070000
END:STANDARD
BEGIN:DAYLIGHT
TZOFFSETFROM:-0600
TZOFFSETTO:-0500
TZNAME:CDT
DTSTART:20240310T080000
END:DAYLIGHT
BEGIN:STANDARD
TZOFFSETFROM:-0500
TZOFFSETTO:-0600
TZNAME:CST
DTSTART:20241103T070000
END:STANDARD
BEGIN:DAYLIGHT
TZOFFSETFROM:-0600
TZOFFSETTO:-0500
TZNAME:CDT
DTSTART:20250309T080000
END:DAYLIGHT
BEGIN:STANDARD
TZOFFSETFROM:-0500
TZOFFSETTO:-0600
TZNAME:CST
DTSTART:20251102T070000
END:STANDARD
END:VTIMEZONE
BEGIN:VEVENT
DTSTART;TZID=America/Chicago:20240224T000000
DTEND;TZID=America/Chicago:20240224T000000
DTSTAMP:20260424T231032
CREATED:20231228T002313Z
LAST-MODIFIED:20231228T002313Z
UID:9218-1708732800-1708732800@organicpurefuel.com
SUMMARY:American Birkebeiner
DESCRIPTION:Skiers will start at the American Birkebeiner Trailhead in Cable\, WI\, ski their way through the forest on the Birkie Trail\, glide across Lake Hayward\, cross over the American Birkebeiner International Bridge\, and head toward the finish line on Hayward’s snow-covered Main Street.  We’ve heard it time and time again\, once you ski a Birkie you’re forever changed and return to experience this amazing event year after year.
URL:https://organicpurefuel.com/event/american-birkebeiner/
LOCATION:Birkie\, 10527 Main Street\, Hayward\, 54843\, USA
CATEGORIES:ski
END:VEVENT
BEGIN:VEVENT
DTSTART;TZID=America/Chicago:20240113T000000
DTEND;TZID=America/Chicago:20240113T000000
DTSTAMP:20260424T231032
CREATED:20231228T002312Z
LAST-MODIFIED:20231228T002312Z
UID:9217-1705104000-1705104000@organicpurefuel.com
SUMMARY:Seely Hills Classic
DESCRIPTION:
URL:https://organicpurefuel.com/event/seely-hills-classic/
CATEGORIES:ski
END:VEVENT
END:VCALENDAR