BEGIN:VCALENDAR
VERSION:2.0
PRODID:-//PURE FUEL - ECPv6.15.20//NONSGML v1.0//EN
CALSCALE:GREGORIAN
METHOD:PUBLISH
X-ORIGINAL-URL:https://organicpurefuel.com
X-WR-CALDESC:Events for PURE FUEL
REFRESH-INTERVAL;VALUE=DURATION:PT1H
X-Robots-Tag:noindex
X-PUBLISHED-TTL:PT1H
BEGIN:VTIMEZONE
TZID:America/Chicago
BEGIN:DAYLIGHT
TZOFFSETFROM:-0600
TZOFFSETTO:-0500
TZNAME:CDT
DTSTART:20200308T080000
END:DAYLIGHT
BEGIN:STANDARD
TZOFFSETFROM:-0500
TZOFFSETTO:-0600
TZNAME:CST
DTSTART:20201101T070000
END:STANDARD
BEGIN:DAYLIGHT
TZOFFSETFROM:-0600
TZOFFSETTO:-0500
TZNAME:CDT
DTSTART:20210314T080000
END:DAYLIGHT
BEGIN:STANDARD
TZOFFSETFROM:-0500
TZOFFSETTO:-0600
TZNAME:CST
DTSTART:20211107T070000
END:STANDARD
BEGIN:DAYLIGHT
TZOFFSETFROM:-0600
TZOFFSETTO:-0500
TZNAME:CDT
DTSTART:20220313T080000
END:DAYLIGHT
BEGIN:STANDARD
TZOFFSETFROM:-0500
TZOFFSETTO:-0600
TZNAME:CST
DTSTART:20221106T070000
END:STANDARD
BEGIN:DAYLIGHT
TZOFFSETFROM:-0600
TZOFFSETTO:-0500
TZNAME:CDT
DTSTART:20230312T080000
END:DAYLIGHT
BEGIN:STANDARD
TZOFFSETFROM:-0500
TZOFFSETTO:-0600
TZNAME:CST
DTSTART:20231105T070000
END:STANDARD
END:VTIMEZONE
BEGIN:VEVENT
DTSTART;TZID=America/Chicago:20220224T080000
DTEND;TZID=America/Chicago:20220224T170000
DTSTAMP:20260425T110738
CREATED:20211105T182719Z
LAST-MODIFIED:20211105T182719Z
UID:3327-1645689600-1645722000@organicpurefuel.com
SUMMARY:Barkie Birkie
DESCRIPTION:Skijoring combines cross country skiing with dog power. The skier is attached to his/her dog with a belt and towline. The dog then runs ahead as the skier skis. Skijoring is a team sport that allows both human and canine counterparts to exercise and enjoy the great outdoors. \nSkijoring is derived from the Norwegian word skikjøring meaning ski driving. The sport has been around for hundreds of years and originally started using reindeer and wooden skis. The sport also uses horses\, but dogs are now the most common animals used in skijoring. \nMost medium size dogs (30 pounds and up) who are trained properly can be candidates for skijoring.
URL:https://organicpurefuel.com/event/barkie-birkie/
LOCATION:Birkie\, 10527 Main Street\, Hayward\, 54843\, USA
CATEGORIES:Birkie
END:VEVENT
BEGIN:VEVENT
DTSTART;TZID=America/Chicago:20220128T120000
DTEND;TZID=America/Chicago:20220128T170000
DTSTAMP:20260425T110738
CREATED:20211028T143144Z
LAST-MODIFIED:20211028T143144Z
UID:3294-1643371200-1643389200@organicpurefuel.com
SUMMARY:Fat Bike Worlds 2022
DESCRIPTION:The Borealis Fat Bike World Championships p/b Pure Fuel is in its seventh year\, and we are excited to announce the City of New Richmond will be hosting this year’s event.  The race events will take place at New Richmond Golf Course and New Richmond Nature Center. New Richmond Golf Course is one of Wisconsin’s premier and most challenging golf courses located just 30 miles Northeast of St. Paul in beautiful Northwestern Wisconsin. Both offer scenic trail systems along river beds\, winding through forests\, up and down hills and valleys with amazing views.  Planning is underway for FBW 2022 which is certain to include a kickoff party on Friday\, January 28\, followed by many activities for racers and families\, amazing food and beverages\, live music\, and a list of spectacular attractions to check out in the area. On Saturday\, January 29\, we head to the New Richmond Golf Course / Nature Center Trails for the annual throw down of fatties on the scenic trail system.  Yeah\, it’s a race\, and some serious athletes show up to race for the title of World Champion! Plenty of people\, however\, also wear costumes\, shoot whiskey and eat bacon on course\, check out the vendors\, drink some beer or bourbon\, listen to the band\, and watch people slay laps on some killer trails and jumps. It’s for all types of riders\, from the racer to the first timer\, with categories and laps for each. More than anything\, Fat Bike Worlds is about riding fatties and chilling with a group of awesome people! Bring your family and friends to this three-day festival\, tucked into a small town atmosphere. Plan to make some new memories\, and get ready for some all-out racing! \n#fatbikeworlds2022
URL:https://organicpurefuel.com/event/fat-bike-worlds-2022/
LOCATION:New Richmond Golf Course\, 1226 George Norman Drive\, New Richmond\, WI\, 54017\, United States
CATEGORIES:apex,bike
END:VEVENT
BEGIN:VEVENT
DTSTART;TZID=America/Chicago:20211210T000000
DTEND;TZID=America/Chicago:20211211T000000
DTSTAMP:20260425T110738
CREATED:20210128T224302Z
LAST-MODIFIED:20210128T224302Z
UID:2415-1639094400-1639180800@organicpurefuel.com
SUMMARY:Ladies Fat Bike Getaway
DESCRIPTION:This weekend adventure Presented by Salsa Cycles will have you experiencing the great outdoors\, riding the legendary Birkie Trail\, polishing your fat biking skills\, and meeting other women who aspire to or love to ride. The Ladies Fat Bike Getaway Presented by Salsa is an adventure that is close to home and filled with fun. Gift yourself this exciting getaway with friends!
URL:https://organicpurefuel.com/event/ladies-fat-bike-getaway/
LOCATION:Birkie\, 10527 Main Street\, Hayward\, 54843\, USA
CATEGORIES:Birkie
END:VEVENT
BEGIN:VEVENT
DTSTART;TZID=America/Chicago:20211126T070000
DTEND;TZID=America/Chicago:20211128T190000
DTSTAMP:20260425T110738
CREATED:20211105T181938Z
LAST-MODIFIED:20211105T181938Z
UID:3323-1637910000-1638126000@organicpurefuel.com
SUMMARY:Turkey Birkie
DESCRIPTION:The Turkey Birkie Ski Festival is the perfect opportunity to glide on early snow\, take a lesson\, and simply enjoy a day on skis in the great north woods!\nAdditionally\, with the leading ski manufacturers in attendance giving you the first opportunity to try new gear\, it is a great chance to kick off the XC ski season with a bang! See friends\, train hard and have fun!
URL:https://organicpurefuel.com/event/turkey-birkie/
LOCATION:Birkie\, 10527 Main Street\, Hayward\, 54843\, USA
END:VEVENT
BEGIN:VEVENT
DTSTART;TZID=America/Chicago:20211008T000000
DTEND;TZID=America/Chicago:20211009T000000
DTSTAMP:20260425T110738
CREATED:20210128T224020Z
LAST-MODIFIED:20210128T224020Z
UID:2400-1633651200-1633737600@organicpurefuel.com
SUMMARY:Jim and Joanne Ford Classic
DESCRIPTION:
URL:https://organicpurefuel.com/event/jim-and-joanne-ford-classic/
LOCATION:Fremont Speedway\, 901 Rawson Avenue\, Fremont\, OH\, 43420
CATEGORIES:B Squared Motorsports
END:VEVENT
BEGIN:VEVENT
DTSTART;TZID=America/Chicago:20211002T080000
DTEND;TZID=America/Chicago:20211002T170000
DTSTAMP:20260425T110738
CREATED:20210915T223746Z
LAST-MODIFIED:20210915T223746Z
UID:3227-1633161600-1633194000@organicpurefuel.com
SUMMARY:Wonderful Water Half Marathon and Half
DESCRIPTION:Come out and run one of the most scenic courses you’ve ever been on. Meandering through the Stevens Point city trails\, roads\, and paths\, along the Wisconsin River and past Lake Joanis\, this Half Marathon and 5K will not disappoint! \nHalf Marathon Race Starts at 9:00 am 5K starts at 9:30 am. \nPacket pick-up will be from 4-8 on Friday night and starting at 6:00 am the day of. \nThe Wonderful Water Run gathers community around a precious resource. Hosts of the run are committed to supporting the protection of Central Wisconsin’s groundwater through a direct contribution to Golden Sands Resource Conservation & Development Council. Through their work\, the impact of local agricultural practices is decreased\, invasive species are managed\, and more of our community members are educated about local water systems.
URL:https://organicpurefuel.com/event/wonderful-water-half-marathon-and-half/
LOCATION:Pfiffner Pioneer Park\, 1100 Crosby Ave\, Stevens Point\, 54481\, United States
CATEGORIES:run
END:VEVENT
BEGIN:VEVENT
DTSTART;TZID=America/Chicago:20210925T063000
DTEND;TZID=America/Chicago:20210925T170000
DTSTAMP:20260425T110738
CREATED:20210623T195507Z
LAST-MODIFIED:20210623T195507Z
UID:3047-1632551400-1632589200@organicpurefuel.com
SUMMARY:Fargo Marathons
DESCRIPTION:In its 17th year\, the 2021 Sanford Fargo Marathon course is going to be something special! The country’s most comfortable Starting and Finishing Line happens at the Sanford Fargo Marathon when you start and finish INSIDE the awesome Fargodome! Watch yourself on the jumbo high def video screens as you raise your arms in triumph and cross that finish line with thousands of fans cheering you on! Starting at 6:30 AM\, the marathoners will take off and first get into the quiet\, tree-lined streets of north Fargo. \nOver 50 bands and DJ’s will line the course! Expect tons of fun and entertainment to keep you going through those 26.2 miles! \n\n\n\n\n\n\n\n\n\n\n\n\n\nFinish inside the Fargodome with a huge jumbotron and thousands of screaming fans! No better way to complete your marathon than by being inside the dome! \n\n\n\n\n\n\n\n\n\n\n\n\n\n\n\n\nAs always\, the Sanford Fargo Marathon is a USATF Certified Course – and is a Boston Qualifier!
URL:https://organicpurefuel.com/event/fargo-marathons/
LOCATION:Fargo\, 1800 N University Dr\,\, Fargo\, ND\, 58102\, United States
CATEGORIES:run
END:VEVENT
BEGIN:VEVENT
DTSTART;TZID=America/Chicago:20210925T000000
DTEND;TZID=America/Chicago:20210925T000000
DTSTAMP:20260425T110738
CREATED:20210128T224020Z
LAST-MODIFIED:20210128T224020Z
UID:2399-1632528000-1632528000@organicpurefuel.com
SUMMARY:4 Crown Nationals
DESCRIPTION:
URL:https://organicpurefuel.com/event/4-crown-nationals/
LOCATION:Eldora Speedway\, 13929 Ohio 118\, Rossburg\, OH\, 45348
CATEGORIES:B Squared Motorsports
END:VEVENT
BEGIN:VEVENT
DTSTART;TZID=America/Chicago:20210924T183000
DTEND;TZID=America/Chicago:20210924T203000
DTSTAMP:20260425T110738
CREATED:20210623T200143Z
LAST-MODIFIED:20210623T200143Z
UID:3053-1632508200-1632515400@organicpurefuel.com
SUMMARY:GO FAR CHALLENGE
DESCRIPTION:Are you one who really likes a challenge? Then the Bell Bank Go Far Challenge is for you! \nThe concept is simple: run or walk the 5K on Friday evening and then run the 10K\, Half Marathon\, or Full Marathon Saturday morning! \nYou’ll receive: 5K shirt and finisher’s medal\, shirt and finisher’s medal from your Saturday race\, Go Far Challenge medal\, and all the bragging rights your want! \nThis event was introduced in 2010 and was an instant success! In our 11th year now\, it has morphed into something big! We have limited space for 1\,500\, so if you’re “up to the challenge”\, then we advise you to sign up now!
URL:https://organicpurefuel.com/event/go-far-challenge/
LOCATION:Fargo\, 1800 N University Dr\,\, Fargo\, ND\, 58102\, United States
END:VEVENT
BEGIN:VEVENT
DTSTART;TZID=America/Chicago:20210924T100000
DTEND;TZID=America/Chicago:20210924T200000
DTSTAMP:20260425T110738
CREATED:20210623T195108Z
LAST-MODIFIED:20210623T195108Z
UID:3045-1632477600-1632513600@organicpurefuel.com
SUMMARY:Sanford Fargo Marathon Health & Wellness Expo 2021 Day 2
DESCRIPTION:The 17th running of the Sanford Fargo Marathon will take place Saturday\, September 25th. The event weekend kicks off with the Sanford Fargo Marathon Health & Wellness Expo followed by the Friday night 5K and culminating with the marathon\, half marathon\, and 10k on Saturday morning.
URL:https://organicpurefuel.com/event/sanford-fargo-marathon-health-wellness-expo-2021-day-2/
LOCATION:Fargo\, 1800 N University Dr\,\, Fargo\, ND\, 58102\, United States
CATEGORIES:run
END:VEVENT
BEGIN:VEVENT
DTSTART;TZID=America/Chicago:20210924T000000
DTEND;TZID=America/Chicago:20210925T000000
DTSTAMP:20260425T110738
CREATED:20210128T224459Z
LAST-MODIFIED:20210128T224459Z
UID:2417-1632441600-1632528000@organicpurefuel.com
SUMMARY:Birkie Trail Run Festival
DESCRIPTION:The events will traverse the rolling hills and twists & turns of the famous Birkie Trail.  You’ll see beautiful vistas from atop Mt. Telemark and run on challenging hills\, all within the beautiful forests of northwest Wisconsin.  If you love to run on a great trail in the midst of nature\, this is the event to put on your calendar NOW. Hills for breakfast anyone? 
URL:https://organicpurefuel.com/event/birkie-trail-run-festival-3/
LOCATION:Birkie\, 10527 Main Street\, Hayward\, 54843\, USA
CATEGORIES:Birkie
END:VEVENT
BEGIN:VEVENT
DTSTART;TZID=America/Chicago:20210923T160000
DTEND;TZID=America/Chicago:20210923T200000
DTSTAMP:20260425T110738
CREATED:20210623T194923Z
LAST-MODIFIED:20210623T194923Z
UID:3043-1632412800-1632427200@organicpurefuel.com
SUMMARY:Sanford Fargo Marathon Health & Wellness Expo 2021
DESCRIPTION:The 17th running of the Sanford Fargo Marathon will take place Saturday\, September 25th. The event weekend kicks off with the Sanford Fargo Marathon Health & Wellness Expo followed by the Friday night 5K and culminating with the marathon\, half marathon\, and 10k on Saturday morning.
URL:https://organicpurefuel.com/event/sanford-fargo-marathon-health-wellness-expo-2021/
LOCATION:Fargo\, 1800 N University Dr\,\, Fargo\, ND\, 58102\, United States
CATEGORIES:run
END:VEVENT
BEGIN:VEVENT
DTSTART;TZID=America/Chicago:20210921T183000
DTEND;TZID=America/Chicago:20210921T203000
DTSTAMP:20260425T110738
CREATED:20210623T195618Z
LAST-MODIFIED:20210623T195618Z
UID:3049-1632249000-1632256200@organicpurefuel.com
SUMMARY:FURGO DOG RUN
DESCRIPTION:Have a furry running buddy? Then we have a run/walk for you! \nIntroduced as a new Sanford Fargo Marathon event in 2016\, the FurGo Dog Run\, sponsored by NutriSource\, was an instant success with dogs and dog owners alike! Over 400 participants took on the 1.5 mile course with a canine and everyone loved it! \nJoin us on Tuesday\, September 21st at 6:30 PM as we shoot for 500 participants (that will be something to bark about!). Complete with your doggy goody bag\, finisher’s shirt\, finisher’s medal\, and your dog’s very own finisher’s medal\, you will not want to miss this! We expect this to fill up\, so register early!
URL:https://organicpurefuel.com/event/furgo-dog-run-2/
LOCATION:Fargo\, 1800 N University Dr\,\, Fargo\, ND\, 58102\, United States
END:VEVENT
BEGIN:VEVENT
DTSTART;TZID=America/Chicago:20210918T080000
DTEND;TZID=America/Chicago:20210918T170000
DTSTAMP:20260425T110738
CREATED:20210623T195810Z
LAST-MODIFIED:20210623T195810Z
UID:3051-1631952000-1631984400@organicpurefuel.com
SUMMARY:FARGO CYCLOTHON
DESCRIPTION:The Fargo Marathon Cyclothon is back for 2021! This year\, we’re moving it to SATURDAY MORNING – ONE WEEK BEFORE THE FARGO MARATHON!  \nWe know that not everyone likes to run\, but there are a lot of folks that like to ride their bike. The Fargo Marathon Cyclothon is the perfect way for you to be able to participate in the Fargo Marathon week of festivities\, feel the energy of the excitement from all of the participants\, and do it while on your bicycle! \nThe Cyclothon will happen on SATURDAY\, SEPTEMBER 18TH\, and start at 8:00 AM for the 15 mile and 8:30 AM for the 26.2 mile. The races will start and finish at the Buffalo Wild Wings just off of 19th Avenue North in North Fargo. The courses will be a nice loop of North Fargo\, Harwood\, and Moorhead\, circling back to the finish line at BWW. Every finisher will receive an official Fargo Cyclothon shirt and finisher’s medal. \nMake sure to stop at Buffalo Wild Wings just across the street after the race! They will be hosting an ‘after party’!
URL:https://organicpurefuel.com/event/fargo-cyclothon/
LOCATION:Fargo\, 1800 N University Dr\,\, Fargo\, ND\, 58102\, United States
CATEGORIES:bike
END:VEVENT
BEGIN:VEVENT
DTSTART;TZID=America/Chicago:20210918T000000
DTEND;TZID=America/Chicago:20210918T000000
DTSTAMP:20260425T110738
CREATED:20210128T224704Z
LAST-MODIFIED:20210128T224704Z
UID:2423-1631923200-1631923200@organicpurefuel.com
SUMMARY:Chequamegon
DESCRIPTION:The adventure begins. Join thousands of off-road enthusiasts for the 39th annual Chequamegon MTB Festival in the big woods of northwestern Wisconsin.
URL:https://organicpurefuel.com/event/chequamegon/
LOCATION:Chequamegon\, 13460 Spruce Street\, Cabel\, 54821\, USA
CATEGORIES:apex,bike
END:VEVENT
BEGIN:VEVENT
DTSTART;TZID=America/Chicago:20210918T000000
DTEND;TZID=America/Chicago:20210918T000000
DTSTAMP:20260425T110738
CREATED:20210128T224019Z
LAST-MODIFIED:20210128T224019Z
UID:2398-1631923200-1631923200@organicpurefuel.com
SUMMARY:Dirt Classic
DESCRIPTION:
URL:https://organicpurefuel.com/event/dirt-classic/
LOCATION:Lincoln Speedway\, 800 Racetrack Road\, Abbottstown\, PA\, 17301
CATEGORIES:B Squared Motorsports
END:VEVENT
BEGIN:VEVENT
DTSTART;TZID=America/Chicago:20210917T080000
DTEND;TZID=America/Chicago:20210919T170000
DTSTAMP:20260425T110738
CREATED:20210915T223315Z
LAST-MODIFIED:20210915T223315Z
UID:3224-1631865600-1632070800@organicpurefuel.com
SUMMARY:Fox Cities Marathon
DESCRIPTION:During the Community First Fox Cities Marathon presented by Miron Construction weekend of events\, we bring together thousands of participants\, volunteers\, spectators\, local businesses and community partners at eight events including a marathon\, half marathon\, relay marathon\, 10K\, 5K\, kids events and an expo. As a 501(c)3 non-profit organization\, the Community First Fox Cities Marathon gives back to area non-profits\, community partners and running organizations. Over our 30-year history\, the event has returned more than $1 million to the community.
URL:https://organicpurefuel.com/event/fox-cities-marathon/
LOCATION:UW Fox Valley\, 1478 Midway Rd\, Menasha\, 54952\, United States
END:VEVENT
BEGIN:VEVENT
DTSTART;TZID=America/Chicago:20210917T000000
DTEND;TZID=America/Chicago:20210917T000000
DTSTAMP:20260425T110738
CREATED:20210128T224018Z
LAST-MODIFIED:20210128T224018Z
UID:2397-1631836800-1631836800@organicpurefuel.com
SUMMARY:Dirt Classic Qualifier 
DESCRIPTION:
URL:https://organicpurefuel.com/event/dirt-classic-qualifier/
CATEGORIES:B Squared Motorsports
END:VEVENT
BEGIN:VEVENT
DTSTART;TZID=America/Chicago:20210911T080000
DTEND;TZID=America/Chicago:20210911T120000
DTSTAMP:20260425T110738
CREATED:20210727T214814Z
LAST-MODIFIED:20210727T215010Z
UID:3123-1631347200-1631361600@organicpurefuel.com
SUMMARY:Blackwater Canyon Half Marathon
DESCRIPTION:Experience the most gorgeous race of your life. The 13.1-mi. Course follows the Blackwater Canyon railroad grade and the Allegheny Highlands Trail from Thomas to the finish at Mill Race Park in Parsons. Please join us for this epic event in support of the Highlands Trail Foundation\, a non-profit organization dedicated to trail development in the Potomac Highlands of West Virginia. Sign up today at runsignup.com. Registration closes at 200.
URL:https://organicpurefuel.com/event/blackwater-canyon-half-marathon/
LOCATION:Mill City\, Parsons\, 26287\, United States
END:VEVENT
BEGIN:VEVENT
DTSTART;TZID=America/Chicago:20210909T000000
DTEND;TZID=America/Chicago:20210911T000000
DTSTAMP:20260425T110738
CREATED:20210128T224002Z
LAST-MODIFIED:20210128T224002Z
UID:2396-1631145600-1631318400@organicpurefuel.com
SUMMARY:ASCOC
DESCRIPTION:
URL:https://organicpurefuel.com/event/ascoc-18/
LOCATION:Port Royal Spedway\, 308 W. 8th St.\, Port Royal\, PA\, 17082
CATEGORIES:B Squared Motorsports
END:VEVENT
BEGIN:VEVENT
DTSTART;TZID=America/Chicago:20210903T000000
DTEND;TZID=America/Chicago:20210904T000000
DTSTAMP:20260425T110738
CREATED:20210128T224001Z
LAST-MODIFIED:20210128T224001Z
UID:2395-1630627200-1630713600@organicpurefuel.com
SUMMARY:ASCOC
DESCRIPTION:
URL:https://organicpurefuel.com/event/ascoc-17/
LOCATION:Attica Raceway Park\, 100 Fairground Road\, Attica\, OH\, 44807
CATEGORIES:B Squared Motorsports
END:VEVENT
BEGIN:VEVENT
DTSTART;TZID=America/Chicago:20210829T000000
DTEND;TZID=America/Chicago:20210829T000000
DTSTAMP:20260425T110738
CREATED:20210128T224000Z
LAST-MODIFIED:20210128T224000Z
UID:2394-1630195200-1630195200@organicpurefuel.com
SUMMARY:Johnny Mackison Clash
DESCRIPTION:
URL:https://organicpurefuel.com/event/johnny-mackison-clash/
LOCATION:Baps Motor Speedway\, 690 York Rd\, Newberrytown\, PA\, 17370
CATEGORIES:B Squared Motorsports
END:VEVENT
BEGIN:VEVENT
DTSTART;TZID=America/Chicago:20210828T000000
DTEND;TZID=America/Chicago:20210828T000000
DTSTAMP:20260425T110738
CREATED:20210128T224000Z
LAST-MODIFIED:20210128T224000Z
UID:2393-1630108800-1630108800@organicpurefuel.com
SUMMARY:Kramer Klash
DESCRIPTION:
URL:https://organicpurefuel.com/event/kramer-klash/
LOCATION:Lincoln Speedway\, 800 Racetrack Road\, Abbottstown\, PA\, 17301
CATEGORIES:B Squared Motorsports
END:VEVENT
BEGIN:VEVENT
DTSTART;TZID=America/Chicago:20210827T000000
DTEND;TZID=America/Chicago:20210827T000000
DTSTAMP:20260425T110738
CREATED:20210128T223959Z
LAST-MODIFIED:20210128T223959Z
UID:2392-1630022400-1630022400@organicpurefuel.com
SUMMARY:Jack Gunn Memorial
DESCRIPTION:
URL:https://organicpurefuel.com/event/jack-gunn-memorial/
CATEGORIES:B Squared Motorsports
END:VEVENT
BEGIN:VEVENT
DTSTART;TZID=America/Chicago:20210826T000000
DTEND;TZID=America/Chicago:20210826T000000
DTSTAMP:20260425T110738
CREATED:20210128T223825Z
LAST-MODIFIED:20210128T223825Z
UID:2391-1629936000-1629936000@organicpurefuel.com
SUMMARY:Thunder on the Hill 
DESCRIPTION:
URL:https://organicpurefuel.com/event/thunder-on-the-hill/
LOCATION:Grandview Speedway\, Bechtelsville\, PA
CATEGORIES:B Squared Motorsports
END:VEVENT
BEGIN:VEVENT
DTSTART;TZID=America/Chicago:20210821T000000
DTEND;TZID=America/Chicago:20210821T000000
DTSTAMP:20260425T110738
CREATED:20210128T223824Z
LAST-MODIFIED:20210128T223824Z
UID:2390-1629504000-1629504000@organicpurefuel.com
SUMMARY:ASCOC
DESCRIPTION:
URL:https://organicpurefuel.com/event/ascoc-16/
LOCATION:Plymouth Speedway\, 11631 12th Road\, Plymouth\,\, IN\, 46563
CATEGORIES:B Squared Motorsports
END:VEVENT
BEGIN:VEVENT
DTSTART;TZID=America/Chicago:20210820T000000
DTEND;TZID=America/Chicago:20210820T000000
DTSTAMP:20260425T110738
CREATED:20210128T223824Z
LAST-MODIFIED:20210128T223824Z
UID:2389-1629417600-1629417600@organicpurefuel.com
SUMMARY:ASCOC
DESCRIPTION:
URL:https://organicpurefuel.com/event/ascoc-15/
LOCATION:I-96 Speedway\, 3823 W. Portland Rd.\, Lake Odessa\, MI\, 48849
CATEGORIES:B Squared Motorsports
END:VEVENT
BEGIN:VEVENT
DTSTART;TZID=America/Chicago:20210814T070000
DTEND;TZID=America/Chicago:20210814T170000
DTSTAMP:20260425T110738
CREATED:20210803T191225Z
LAST-MODIFIED:20210803T191225Z
UID:3134-1628924400-1628960400@organicpurefuel.com
SUMMARY:Centuryaay
DESCRIPTION:This event is for those who would like to pedal their first 100-mile ride. There will be five organized stops along the mapped route. Veterans are encouraged to roll fat tire\, single-speed\, or cruisers. Plan for around 10 hours of riding. Celebration\nat bare bones with a food truck and raffles after. \nRegistration: $75 \nRegister here https://www.bikereg.com/bago-tracks-and-trails-century-ride \nOnline Registration Deadline: Thursday\, Aug 12\, 2021 at 5:00 PM CT \n\nTotal Event Registration Limit: 150 \n\nA credit card service fee applies to online registration.\nCash/check registration can be done at bare bones.
URL:https://organicpurefuel.com/event/centuryaay/
LOCATION:Bare  bones Brewery\, 4362 County Rd S\, Oshkosh\, 54904\, United States
END:VEVENT
BEGIN:VEVENT
DTSTART;TZID=America/Chicago:20210811T000000
DTEND;TZID=America/Chicago:20210814T000000
DTSTAMP:20260425T110738
CREATED:20210128T223823Z
LAST-MODIFIED:20210128T223823Z
UID:2388-1628640000-1628899200@organicpurefuel.com
SUMMARY:60TH  KNOXVILLE NATIONALS
DESCRIPTION:
URL:https://organicpurefuel.com/event/60th-knoxville-nationals/
LOCATION:Knoxville Raceway\, 1000 North Lincoln Street\, Knoxvill\, IA\, 50138
CATEGORIES:B Squared Motorsports
END:VEVENT
BEGIN:VEVENT
DTSTART;TZID=America/Chicago:20210731T000000
DTEND;TZID=America/Chicago:20210731T000000
DTSTAMP:20260425T110738
CREATED:20210128T224500Z
LAST-MODIFIED:20210128T224500Z
UID:2418-1627689600-1627689600@organicpurefuel.com
SUMMARY:Lumberjack Run
DESCRIPTION:Be a part of Hayward’s legendary summer celebration\, the Lumberjack World Championships by racing 5K (3.2 miles)
URL:https://organicpurefuel.com/event/lumberjack-run-2/
LOCATION:Birkie\, 10527 Main Street\, Hayward\, 54843\, USA
CATEGORIES:Birkie
END:VEVENT
END:VCALENDAR