BEGIN:VCALENDAR
VERSION:2.0
PRODID:-//PURE FUEL - ECPv6.15.20//NONSGML v1.0//EN
CALSCALE:GREGORIAN
METHOD:PUBLISH
X-ORIGINAL-URL:https://organicpurefuel.com
X-WR-CALDESC:Events for PURE FUEL
REFRESH-INTERVAL;VALUE=DURATION:PT1H
X-Robots-Tag:noindex
X-PUBLISHED-TTL:PT1H
BEGIN:VTIMEZONE
TZID:America/Chicago
BEGIN:DAYLIGHT
TZOFFSETFROM:-0600
TZOFFSETTO:-0500
TZNAME:CDT
DTSTART:20200308T080000
END:DAYLIGHT
BEGIN:STANDARD
TZOFFSETFROM:-0500
TZOFFSETTO:-0600
TZNAME:CST
DTSTART:20201101T070000
END:STANDARD
BEGIN:DAYLIGHT
TZOFFSETFROM:-0600
TZOFFSETTO:-0500
TZNAME:CDT
DTSTART:20210314T080000
END:DAYLIGHT
BEGIN:STANDARD
TZOFFSETFROM:-0500
TZOFFSETTO:-0600
TZNAME:CST
DTSTART:20211107T070000
END:STANDARD
BEGIN:DAYLIGHT
TZOFFSETFROM:-0600
TZOFFSETTO:-0500
TZNAME:CDT
DTSTART:20220313T080000
END:DAYLIGHT
BEGIN:STANDARD
TZOFFSETFROM:-0500
TZOFFSETTO:-0600
TZNAME:CST
DTSTART:20221106T070000
END:STANDARD
END:VTIMEZONE
BEGIN:VEVENT
DTSTART;TZID=America/Chicago:20210903T000000
DTEND;TZID=America/Chicago:20210904T000000
DTSTAMP:20260425T141119
CREATED:20210128T224001Z
LAST-MODIFIED:20210128T224001Z
UID:2395-1630627200-1630713600@organicpurefuel.com
SUMMARY:ASCOC
DESCRIPTION:
URL:https://organicpurefuel.com/event/ascoc-17/
LOCATION:Attica Raceway Park\, 100 Fairground Road\, Attica\, OH\, 44807
CATEGORIES:B Squared Motorsports
END:VEVENT
BEGIN:VEVENT
DTSTART;TZID=America/Chicago:20210829T000000
DTEND;TZID=America/Chicago:20210829T000000
DTSTAMP:20260425T141119
CREATED:20210128T224000Z
LAST-MODIFIED:20210128T224000Z
UID:2394-1630195200-1630195200@organicpurefuel.com
SUMMARY:Johnny Mackison Clash
DESCRIPTION:
URL:https://organicpurefuel.com/event/johnny-mackison-clash/
LOCATION:Baps Motor Speedway\, 690 York Rd\, Newberrytown\, PA\, 17370
CATEGORIES:B Squared Motorsports
END:VEVENT
BEGIN:VEVENT
DTSTART;TZID=America/Chicago:20210828T000000
DTEND;TZID=America/Chicago:20210828T000000
DTSTAMP:20260425T141119
CREATED:20210128T224000Z
LAST-MODIFIED:20210128T224000Z
UID:2393-1630108800-1630108800@organicpurefuel.com
SUMMARY:Kramer Klash
DESCRIPTION:
URL:https://organicpurefuel.com/event/kramer-klash/
LOCATION:Lincoln Speedway\, 800 Racetrack Road\, Abbottstown\, PA\, 17301
CATEGORIES:B Squared Motorsports
END:VEVENT
BEGIN:VEVENT
DTSTART;TZID=America/Chicago:20210827T000000
DTEND;TZID=America/Chicago:20210827T000000
DTSTAMP:20260425T141119
CREATED:20210128T223959Z
LAST-MODIFIED:20210128T223959Z
UID:2392-1630022400-1630022400@organicpurefuel.com
SUMMARY:Jack Gunn Memorial
DESCRIPTION:
URL:https://organicpurefuel.com/event/jack-gunn-memorial/
CATEGORIES:B Squared Motorsports
END:VEVENT
BEGIN:VEVENT
DTSTART;TZID=America/Chicago:20210826T000000
DTEND;TZID=America/Chicago:20210826T000000
DTSTAMP:20260425T141119
CREATED:20210128T223825Z
LAST-MODIFIED:20210128T223825Z
UID:2391-1629936000-1629936000@organicpurefuel.com
SUMMARY:Thunder on the Hill 
DESCRIPTION:
URL:https://organicpurefuel.com/event/thunder-on-the-hill/
LOCATION:Grandview Speedway\, Bechtelsville\, PA
CATEGORIES:B Squared Motorsports
END:VEVENT
BEGIN:VEVENT
DTSTART;TZID=America/Chicago:20210821T000000
DTEND;TZID=America/Chicago:20210821T000000
DTSTAMP:20260425T141119
CREATED:20210128T223824Z
LAST-MODIFIED:20210128T223824Z
UID:2390-1629504000-1629504000@organicpurefuel.com
SUMMARY:ASCOC
DESCRIPTION:
URL:https://organicpurefuel.com/event/ascoc-16/
LOCATION:Plymouth Speedway\, 11631 12th Road\, Plymouth\,\, IN\, 46563
CATEGORIES:B Squared Motorsports
END:VEVENT
BEGIN:VEVENT
DTSTART;TZID=America/Chicago:20210820T000000
DTEND;TZID=America/Chicago:20210820T000000
DTSTAMP:20260425T141119
CREATED:20210128T223824Z
LAST-MODIFIED:20210128T223824Z
UID:2389-1629417600-1629417600@organicpurefuel.com
SUMMARY:ASCOC
DESCRIPTION:
URL:https://organicpurefuel.com/event/ascoc-15/
LOCATION:I-96 Speedway\, 3823 W. Portland Rd.\, Lake Odessa\, MI\, 48849
CATEGORIES:B Squared Motorsports
END:VEVENT
BEGIN:VEVENT
DTSTART;TZID=America/Chicago:20210814T070000
DTEND;TZID=America/Chicago:20210814T170000
DTSTAMP:20260425T141119
CREATED:20210803T191225Z
LAST-MODIFIED:20210803T191225Z
UID:3134-1628924400-1628960400@organicpurefuel.com
SUMMARY:Centuryaay
DESCRIPTION:This event is for those who would like to pedal their first 100-mile ride. There will be five organized stops along the mapped route. Veterans are encouraged to roll fat tire\, single-speed\, or cruisers. Plan for around 10 hours of riding. Celebration\nat bare bones with a food truck and raffles after. \nRegistration: $75 \nRegister here https://www.bikereg.com/bago-tracks-and-trails-century-ride \nOnline Registration Deadline: Thursday\, Aug 12\, 2021 at 5:00 PM CT \n\nTotal Event Registration Limit: 150 \n\nA credit card service fee applies to online registration.\nCash/check registration can be done at bare bones.
URL:https://organicpurefuel.com/event/centuryaay/
LOCATION:Bare  bones Brewery\, 4362 County Rd S\, Oshkosh\, 54904\, United States
END:VEVENT
BEGIN:VEVENT
DTSTART;TZID=America/Chicago:20210811T000000
DTEND;TZID=America/Chicago:20210814T000000
DTSTAMP:20260425T141119
CREATED:20210128T223823Z
LAST-MODIFIED:20210128T223823Z
UID:2388-1628640000-1628899200@organicpurefuel.com
SUMMARY:60TH  KNOXVILLE NATIONALS
DESCRIPTION:
URL:https://organicpurefuel.com/event/60th-knoxville-nationals/
LOCATION:Knoxville Raceway\, 1000 North Lincoln Street\, Knoxvill\, IA\, 50138
CATEGORIES:B Squared Motorsports
END:VEVENT
BEGIN:VEVENT
DTSTART;TZID=America/Chicago:20210731T000000
DTEND;TZID=America/Chicago:20210731T000000
DTSTAMP:20260425T141119
CREATED:20210128T224500Z
LAST-MODIFIED:20210128T224500Z
UID:2418-1627689600-1627689600@organicpurefuel.com
SUMMARY:Lumberjack Run
DESCRIPTION:Be a part of Hayward’s legendary summer celebration\, the Lumberjack World Championships by racing 5K (3.2 miles)
URL:https://organicpurefuel.com/event/lumberjack-run-2/
LOCATION:Birkie\, 10527 Main Street\, Hayward\, 54843\, USA
CATEGORIES:Birkie
END:VEVENT
BEGIN:VEVENT
DTSTART;TZID=America/Chicago:20210731T000000
DTEND;TZID=America/Chicago:20210731T000000
DTSTAMP:20260425T141119
CREATED:20210128T223823Z
LAST-MODIFIED:20210128T223823Z
UID:2387-1627689600-1627689600@organicpurefuel.com
SUMMARY:ASCOC
DESCRIPTION:
URL:https://organicpurefuel.com/event/ascoc-14/
LOCATION:Knoxville Raceway\, 1000 North Lincoln Street\, Knoxvill\, IA\, 50138
CATEGORIES:B Squared Motorsports
END:VEVENT
BEGIN:VEVENT
DTSTART;TZID=America/Chicago:20210730T000000
DTEND;TZID=America/Chicago:20210730T000000
DTSTAMP:20260425T141119
CREATED:20210128T223750Z
LAST-MODIFIED:20210128T223750Z
UID:2386-1627603200-1627603200@organicpurefuel.com
SUMMARY:ASCOC
DESCRIPTION:
URL:https://organicpurefuel.com/event/ascoc-13/
LOCATION:34 raceway\, 10463 S Prairie Grove Rd\, West Burlington\, IA\, 52655
CATEGORIES:B Squared Motorsports
END:VEVENT
BEGIN:VEVENT
DTSTART;TZID=America/Chicago:20210729T000000
DTEND;TZID=America/Chicago:20210729T000000
DTSTAMP:20260425T141119
CREATED:20210128T223749Z
LAST-MODIFIED:20210128T223749Z
UID:2385-1627516800-1627516800@organicpurefuel.com
SUMMARY:Ron Ditzfield Memorial 
DESCRIPTION:
URL:https://organicpurefuel.com/event/ron-ditzfield-memorial/
LOCATION:Missouri State fair Speedway\, 2503 West 16th Street\, Sedalia\, MO\, 65301
CATEGORIES:B Squared Motorsports
END:VEVENT
BEGIN:VEVENT
DTSTART;TZID=America/Chicago:20210725T000000
DTEND;TZID=America/Chicago:20210725T000000
DTSTAMP:20260425T141119
CREATED:20210128T223749Z
LAST-MODIFIED:20210128T223749Z
UID:2384-1627171200-1627171200@organicpurefuel.com
SUMMARY:ASCOC
DESCRIPTION:
URL:https://organicpurefuel.com/event/ascoc-12/
LOCATION:Humboldt Speedway\, 1663 Georgia Road\, Humboldt\, KS\, 66748
CATEGORIES:B Squared Motorsports
END:VEVENT
BEGIN:VEVENT
DTSTART;TZID=America/Chicago:20210723T000000
DTEND;TZID=America/Chicago:20210724T000000
DTSTAMP:20260425T141119
CREATED:20210128T223748Z
LAST-MODIFIED:20210128T223748Z
UID:2383-1626998400-1627084800@organicpurefuel.com
SUMMARY:ASCOC
DESCRIPTION:
URL:https://organicpurefuel.com/event/ascoc-11/
LOCATION:Lake Ozark  Speedway\, 50 Twiggy Lane\, Eldon\, MO\, 65026
CATEGORIES:B Squared Motorsports
END:VEVENT
BEGIN:VEVENT
DTSTART;TZID=America/Chicago:20210714T000000
DTEND;TZID=America/Chicago:20210717T000000
DTSTAMP:20260425T141119
CREATED:20210128T223747Z
LAST-MODIFIED:20210128T223747Z
UID:2382-1626220800-1626480000@organicpurefuel.com
SUMMARY:WOO Kings royal
DESCRIPTION:
URL:https://organicpurefuel.com/event/woo-kings-royal/
LOCATION:Eldora Speedway\, 13929 Ohio 118\, Rossburg\, OH\, 45348
CATEGORIES:B Squared Motorsports
END:VEVENT
BEGIN:VEVENT
DTSTART;TZID=America/Chicago:20210710T000000
DTEND;TZID=America/Chicago:20210711T000000
DTSTAMP:20260425T141119
CREATED:20210128T223549Z
LAST-MODIFIED:20210128T223549Z
UID:2381-1625875200-1625961600@organicpurefuel.com
SUMMARY:Lou Blaney Memorial 
DESCRIPTION:
URL:https://organicpurefuel.com/event/lou-blaney-memorial/
LOCATION:Sharon Speedway\, Hartford\, OH\, 44424
CATEGORIES:B Squared Motorsports
END:VEVENT
BEGIN:VEVENT
DTSTART;TZID=America/Chicago:20210709T000000
DTEND;TZID=America/Chicago:20210709T000000
DTSTAMP:20260425T141119
CREATED:20210128T223548Z
LAST-MODIFIED:20210128T223548Z
UID:2380-1625788800-1625788800@organicpurefuel.com
SUMMARY:ASCOC
DESCRIPTION:
URL:https://organicpurefuel.com/event/ascoc-10/
LOCATION:Stateline Speedway\, 4150 Kortwright Road\, Busti\, NY\, 14750
CATEGORIES:B Squared Motorsports
END:VEVENT
BEGIN:VEVENT
DTSTART;TZID=America/Chicago:20210701T000000
DTEND;TZID=America/Chicago:20210701T000000
DTSTAMP:20260425T141119
CREATED:20210128T223548Z
LAST-MODIFIED:20210128T223548Z
UID:2379-1625097600-1625097600@organicpurefuel.com
SUMMARY:IRA
DESCRIPTION:
URL:https://organicpurefuel.com/event/ira-2/
LOCATION:Plymouth Dirt Tracks\, 229 Fairview Dr.\, Plymouth\, WI\, 53073
CATEGORIES:B Squared Motorsports
END:VEVENT
BEGIN:VEVENT
DTSTART;TZID=America/Chicago:20210626T000000
DTEND;TZID=America/Chicago:20210626T000000
DTSTAMP:20260425T141119
CREATED:20210128T224701Z
LAST-MODIFIED:20210128T224701Z
UID:2422-1624665600-1624665600@organicpurefuel.com
SUMMARY:Lutsen 99er
DESCRIPTION:We will start at Lutsen Ski Resort\, in Minnesota’s Sawtooth Mountains overlooking majestic Lake Superior\, as we begin a fantastic Category 3 climb. Once over the ridgeline\, the course takes advantage of the glacially sculpted terrain\, rolling hills\, and numerous lakes and streams at the southern range of the Boreal Forest. You will be riding on sections of road and trail that see as much moose traffic as people traffic at any given time.
URL:https://organicpurefuel.com/event/lutsen-99er-3/
LOCATION:Lutsen\, 467 Ski Hill Rd\, Lutsen\, 55612\, USA
CATEGORIES:apex,bike
END:VEVENT
BEGIN:VEVENT
DTSTART;TZID=America/Chicago:20210619T000000
DTEND;TZID=America/Chicago:20210619T000000
DTSTAMP:20260425T141119
CREATED:20210128T224502Z
LAST-MODIFIED:20210128T224502Z
UID:2421-1624060800-1624060800@organicpurefuel.com
SUMMARY:Grandmas marathon
DESCRIPTION:
URL:https://organicpurefuel.com/event/grandmas-marathon/
LOCATION:grandmas\, Two Harbors\, MN
CATEGORIES:run
END:VEVENT
BEGIN:VEVENT
DTSTART;TZID=America/Chicago:20210619T000000
DTEND;TZID=America/Chicago:20210619T000000
DTSTAMP:20260425T141119
CREATED:20210128T223547Z
LAST-MODIFIED:20210128T223547Z
UID:2378-1624060800-1624060800@organicpurefuel.com
SUMMARY:Ohio Sprint Speedweek night #8 Dean Knittel Memorial
DESCRIPTION:
URL:https://organicpurefuel.com/event/ohio-sprint-speedweek-night-8-dean-knittel-memorial/
LOCATION:Portsmouth Raceway Park\, 25648 State Route 73\, Portsmouth\, OH\, 45663
CATEGORIES:B Squared Motorsports
END:VEVENT
BEGIN:VEVENT
DTSTART;TZID=America/Chicago:20210618T000000
DTEND;TZID=America/Chicago:20210618T000000
DTSTAMP:20260425T141119
CREATED:20210128T223546Z
LAST-MODIFIED:20210128T223546Z
UID:2377-1623974400-1623974400@organicpurefuel.com
SUMMARY:Ohio Sprint Speedweek night #7 
DESCRIPTION:
URL:https://organicpurefuel.com/event/ohio-sprint-speedweek-night-7/
LOCATION:Limaland Motorsports park\, 1500 Dutch Hollow Rd.\, Lima\, OH\, 45807
CATEGORIES:B Squared Motorsports
END:VEVENT
BEGIN:VEVENT
DTSTART;TZID=America/Chicago:20210617T000000
DTEND;TZID=America/Chicago:20210618T000000
DTSTAMP:20260425T141119
CREATED:20210128T224501Z
LAST-MODIFIED:20210128T224501Z
UID:2420-1623888000-1623974400@organicpurefuel.com
SUMMARY:Grandmas marathon Expo
DESCRIPTION:The Essentia Health Fitness Expo is one of the largest in the nation! This event allows race participants\, family and friends a chance to view over 100 booths showcasing the latest products and services available in the athletic industry.
URL:https://organicpurefuel.com/event/grandmas-marathon-expo/
LOCATION:DECC\, 350 Harbor Dr\,\, Duluth\, MN\, 55802
CATEGORIES:run
END:VEVENT
BEGIN:VEVENT
DTSTART;TZID=America/Chicago:20210617T000000
DTEND;TZID=America/Chicago:20210617T000000
DTSTAMP:20260425T141119
CREATED:20210128T223348Z
LAST-MODIFIED:20210128T223348Z
UID:2376-1623888000-1623888000@organicpurefuel.com
SUMMARY:Ohio Sprint Speedweek night #6
DESCRIPTION:
URL:https://organicpurefuel.com/event/ohio-sprint-speedweek-night-6/
LOCATION:Muskingum County Speedway\, 7985 Frazeysburg Rd\, Dresden\, OH\, 43821
CATEGORIES:B Squared Motorsports
END:VEVENT
BEGIN:VEVENT
DTSTART;TZID=America/Chicago:20210616T000000
DTEND;TZID=America/Chicago:20210616T000000
DTSTAMP:20260425T141119
CREATED:20210128T223348Z
LAST-MODIFIED:20210128T223348Z
UID:2375-1623801600-1623801600@organicpurefuel.com
SUMMARY:Ohio Sprint Speedweek night #5
DESCRIPTION:
URL:https://organicpurefuel.com/event/ohio-sprint-speedweek-night-5/
LOCATION:Waynesville Raceway park\, 15595 Waynesfield Road\, Waynesfield\, OH\, 45896
CATEGORIES:B Squared Motorsports
END:VEVENT
BEGIN:VEVENT
DTSTART;TZID=America/Chicago:20210615T000000
DTEND;TZID=America/Chicago:20210615T000000
DTSTAMP:20260425T141119
CREATED:20210128T223347Z
LAST-MODIFIED:20210128T223347Z
UID:2374-1623715200-1623715200@organicpurefuel.com
SUMMARY:Ohio Sprint Speedweek night #4
DESCRIPTION:
URL:https://organicpurefuel.com/event/ohio-sprint-speedweek-night-4/
LOCATION:Sharon Speedway\, Hartford\, OH\, 44424
CATEGORIES:B Squared Motorsports
END:VEVENT
BEGIN:VEVENT
DTSTART;TZID=America/Chicago:20210614T000000
DTEND;TZID=America/Chicago:20210614T000000
DTSTAMP:20260425T141119
CREATED:20210128T223347Z
LAST-MODIFIED:20210128T223347Z
UID:2373-1623628800-1623628800@organicpurefuel.com
SUMMARY:Ohio Sprint Speedweek night #3
DESCRIPTION:
URL:https://organicpurefuel.com/event/ohio-sprint-speedweek-night-3/
LOCATION:Wayne County Speedway\, 1083 N Carr Rd\, Orrville\, OH\, 44667
CATEGORIES:B Squared Motorsports
END:VEVENT
BEGIN:VEVENT
DTSTART;TZID=America/Chicago:20210612T000000
DTEND;TZID=America/Chicago:20210612T000000
DTSTAMP:20260425T141119
CREATED:20210128T223346Z
LAST-MODIFIED:20210128T223346Z
UID:2372-1623456000-1623456000@organicpurefuel.com
SUMMARY:Ohio Sprint Speedweek night #2
DESCRIPTION:
URL:https://organicpurefuel.com/event/ohio-sprint-speedweek-night-2/
LOCATION:Fremont Speedway\, 901 Rawson Avenue\, Fremont\, OH\, 43420
CATEGORIES:B Squared Motorsports
END:VEVENT
BEGIN:VEVENT
DTSTART;TZID=America/Chicago:20210611T000000
DTEND;TZID=America/Chicago:20210611T000000
DTSTAMP:20260425T141119
CREATED:20210128T223152Z
LAST-MODIFIED:20210128T223152Z
UID:2371-1623369600-1623369600@organicpurefuel.com
SUMMARY:Ohio Sprint Speedweek night #1
DESCRIPTION:
URL:https://organicpurefuel.com/event/ohio-sprint-speedweek-night-1/
LOCATION:Attica Raceway Park\, 100 Fairground Road\, Attica\, OH\, 44807
CATEGORIES:B Squared Motorsports
END:VEVENT
END:VCALENDAR