BEGIN:VCALENDAR
VERSION:2.0
PRODID:-//PURE FUEL - ECPv6.15.20//NONSGML v1.0//EN
CALSCALE:GREGORIAN
METHOD:PUBLISH
X-WR-CALNAME:PURE FUEL
X-ORIGINAL-URL:https://organicpurefuel.com
X-WR-CALDESC:Events for PURE FUEL
REFRESH-INTERVAL;VALUE=DURATION:PT1H
X-Robots-Tag:noindex
X-PUBLISHED-TTL:PT1H
BEGIN:VTIMEZONE
TZID:America/Chicago
BEGIN:DAYLIGHT
TZOFFSETFROM:-0600
TZOFFSETTO:-0500
TZNAME:CDT
DTSTART:20200308T080000
END:DAYLIGHT
BEGIN:STANDARD
TZOFFSETFROM:-0500
TZOFFSETTO:-0600
TZNAME:CST
DTSTART:20201101T070000
END:STANDARD
BEGIN:DAYLIGHT
TZOFFSETFROM:-0600
TZOFFSETTO:-0500
TZNAME:CDT
DTSTART:20210314T080000
END:DAYLIGHT
BEGIN:STANDARD
TZOFFSETFROM:-0500
TZOFFSETTO:-0600
TZNAME:CST
DTSTART:20211107T070000
END:STANDARD
BEGIN:DAYLIGHT
TZOFFSETFROM:-0600
TZOFFSETTO:-0500
TZNAME:CDT
DTSTART:20220313T080000
END:DAYLIGHT
BEGIN:STANDARD
TZOFFSETFROM:-0500
TZOFFSETTO:-0600
TZNAME:CST
DTSTART:20221106T070000
END:STANDARD
END:VTIMEZONE
BEGIN:VEVENT
DTSTART;TZID=America/Chicago:20210619T000000
DTEND;TZID=America/Chicago:20210619T000000
DTSTAMP:20260425T223817
CREATED:20210128T223547Z
LAST-MODIFIED:20210128T223547Z
UID:2378-1624060800-1624060800@organicpurefuel.com
SUMMARY:Ohio Sprint Speedweek night #8 Dean Knittel Memorial
DESCRIPTION:
URL:https://organicpurefuel.com/event/ohio-sprint-speedweek-night-8-dean-knittel-memorial/
LOCATION:Portsmouth Raceway Park\, 25648 State Route 73\, Portsmouth\, OH\, 45663
CATEGORIES:B Squared Motorsports
END:VEVENT
BEGIN:VEVENT
DTSTART;TZID=America/Chicago:20210618T000000
DTEND;TZID=America/Chicago:20210618T000000
DTSTAMP:20260425T223817
CREATED:20210128T223546Z
LAST-MODIFIED:20210128T223546Z
UID:2377-1623974400-1623974400@organicpurefuel.com
SUMMARY:Ohio Sprint Speedweek night #7 
DESCRIPTION:
URL:https://organicpurefuel.com/event/ohio-sprint-speedweek-night-7/
LOCATION:Limaland Motorsports park\, 1500 Dutch Hollow Rd.\, Lima\, OH\, 45807
CATEGORIES:B Squared Motorsports
END:VEVENT
BEGIN:VEVENT
DTSTART;TZID=America/Chicago:20210617T000000
DTEND;TZID=America/Chicago:20210618T000000
DTSTAMP:20260425T223817
CREATED:20210128T224501Z
LAST-MODIFIED:20210128T224501Z
UID:2420-1623888000-1623974400@organicpurefuel.com
SUMMARY:Grandmas marathon Expo
DESCRIPTION:The Essentia Health Fitness Expo is one of the largest in the nation! This event allows race participants\, family and friends a chance to view over 100 booths showcasing the latest products and services available in the athletic industry.
URL:https://organicpurefuel.com/event/grandmas-marathon-expo/
LOCATION:DECC\, 350 Harbor Dr\,\, Duluth\, MN\, 55802
CATEGORIES:run
END:VEVENT
BEGIN:VEVENT
DTSTART;TZID=America/Chicago:20210617T000000
DTEND;TZID=America/Chicago:20210617T000000
DTSTAMP:20260425T223817
CREATED:20210128T223348Z
LAST-MODIFIED:20210128T223348Z
UID:2376-1623888000-1623888000@organicpurefuel.com
SUMMARY:Ohio Sprint Speedweek night #6
DESCRIPTION:
URL:https://organicpurefuel.com/event/ohio-sprint-speedweek-night-6/
LOCATION:Muskingum County Speedway\, 7985 Frazeysburg Rd\, Dresden\, OH\, 43821
CATEGORIES:B Squared Motorsports
END:VEVENT
BEGIN:VEVENT
DTSTART;TZID=America/Chicago:20210616T000000
DTEND;TZID=America/Chicago:20210616T000000
DTSTAMP:20260425T223817
CREATED:20210128T223348Z
LAST-MODIFIED:20210128T223348Z
UID:2375-1623801600-1623801600@organicpurefuel.com
SUMMARY:Ohio Sprint Speedweek night #5
DESCRIPTION:
URL:https://organicpurefuel.com/event/ohio-sprint-speedweek-night-5/
LOCATION:Waynesville Raceway park\, 15595 Waynesfield Road\, Waynesfield\, OH\, 45896
CATEGORIES:B Squared Motorsports
END:VEVENT
BEGIN:VEVENT
DTSTART;TZID=America/Chicago:20210615T000000
DTEND;TZID=America/Chicago:20210615T000000
DTSTAMP:20260425T223817
CREATED:20210128T223347Z
LAST-MODIFIED:20210128T223347Z
UID:2374-1623715200-1623715200@organicpurefuel.com
SUMMARY:Ohio Sprint Speedweek night #4
DESCRIPTION:
URL:https://organicpurefuel.com/event/ohio-sprint-speedweek-night-4/
LOCATION:Sharon Speedway\, Hartford\, OH\, 44424
CATEGORIES:B Squared Motorsports
END:VEVENT
BEGIN:VEVENT
DTSTART;TZID=America/Chicago:20210614T000000
DTEND;TZID=America/Chicago:20210614T000000
DTSTAMP:20260425T223817
CREATED:20210128T223347Z
LAST-MODIFIED:20210128T223347Z
UID:2373-1623628800-1623628800@organicpurefuel.com
SUMMARY:Ohio Sprint Speedweek night #3
DESCRIPTION:
URL:https://organicpurefuel.com/event/ohio-sprint-speedweek-night-3/
LOCATION:Wayne County Speedway\, 1083 N Carr Rd\, Orrville\, OH\, 44667
CATEGORIES:B Squared Motorsports
END:VEVENT
BEGIN:VEVENT
DTSTART;TZID=America/Chicago:20210612T000000
DTEND;TZID=America/Chicago:20210612T000000
DTSTAMP:20260425T223817
CREATED:20210128T223346Z
LAST-MODIFIED:20210128T223346Z
UID:2372-1623456000-1623456000@organicpurefuel.com
SUMMARY:Ohio Sprint Speedweek night #2
DESCRIPTION:
URL:https://organicpurefuel.com/event/ohio-sprint-speedweek-night-2/
LOCATION:Fremont Speedway\, 901 Rawson Avenue\, Fremont\, OH\, 43420
CATEGORIES:B Squared Motorsports
END:VEVENT
BEGIN:VEVENT
DTSTART;TZID=America/Chicago:20210611T000000
DTEND;TZID=America/Chicago:20210611T000000
DTSTAMP:20260425T223817
CREATED:20210128T223152Z
LAST-MODIFIED:20210128T223152Z
UID:2371-1623369600-1623369600@organicpurefuel.com
SUMMARY:Ohio Sprint Speedweek night #1
DESCRIPTION:
URL:https://organicpurefuel.com/event/ohio-sprint-speedweek-night-1/
LOCATION:Attica Raceway Park\, 100 Fairground Road\, Attica\, OH\, 44807
CATEGORIES:B Squared Motorsports
END:VEVENT
BEGIN:VEVENT
DTSTART;TZID=America/Chicago:20210606T000000
DTEND;TZID=America/Chicago:20210606T000000
DTSTAMP:20260425T223817
CREATED:20210128T223150Z
LAST-MODIFIED:20210128T223150Z
UID:2370-1622937600-1622937600@organicpurefuel.com
SUMMARY:ASCOC
DESCRIPTION:
URL:https://organicpurefuel.com/event/ascoc-9/
LOCATION:Angell Park Speedway\, 300 Park St\, Sun Prairie\, WI\, 53590
CATEGORIES:B Squared Motorsports
END:VEVENT
BEGIN:VEVENT
DTSTART;TZID=America/Chicago:20210605T000000
DTEND;TZID=America/Chicago:20210605T000000
DTSTAMP:20260425T223817
CREATED:20210128T223149Z
LAST-MODIFIED:20210128T223149Z
UID:2369-1622851200-1622851200@organicpurefuel.com
SUMMARY:ASCOC
DESCRIPTION:
URL:https://organicpurefuel.com/event/ascoc-8/
LOCATION:Plymouth Dirt Tracks\, 229 Fairview Dr.\, Plymouth\, WI\, 53073
CATEGORIES:B Squared Motorsports
END:VEVENT
BEGIN:VEVENT
DTSTART;TZID=America/Chicago:20210604T000000
DTEND;TZID=America/Chicago:20210604T000000
DTSTAMP:20260425T223817
CREATED:20210128T223148Z
LAST-MODIFIED:20210128T223148Z
UID:2368-1622764800-1622764800@organicpurefuel.com
SUMMARY:ASCOC
DESCRIPTION:
URL:https://organicpurefuel.com/event/ascoc-7/
LOCATION:Wilmot Raceway\, 30820 111th St\, Wilmot\,\, WI\, 53192
CATEGORIES:B Squared Motorsports
END:VEVENT
BEGIN:VEVENT
DTSTART;TZID=America/Chicago:20210603T000000
DTEND;TZID=America/Chicago:20210603T000000
DTSTAMP:20260425T223817
CREATED:20210128T223145Z
LAST-MODIFIED:20210128T223145Z
UID:2367-1622678400-1622678400@organicpurefuel.com
SUMMARY:ASCOC
DESCRIPTION:
URL:https://organicpurefuel.com/event/ascoc-6/
LOCATION:Fairburry speedway\, 600 S. 3rd St.\, Fairbury\, IL\, 61739
CATEGORIES:B Squared Motorsports
END:VEVENT
BEGIN:VEVENT
DTSTART;TZID=America/Chicago:20210529T000000
DTEND;TZID=America/Chicago:20210530T000000
DTSTAMP:20260425T223817
CREATED:20210128T223109Z
LAST-MODIFIED:20210128T223109Z
UID:2366-1622246400-1622332800@organicpurefuel.com
SUMMARY:Bob Weikert Memorial 
DESCRIPTION:
URL:https://organicpurefuel.com/event/bob-weikert-memorial/
LOCATION:Port Royal Spedway\, 308 W. 8th St.\, Port Royal\, PA\, 17082
CATEGORIES:B Squared Motorsports
END:VEVENT
BEGIN:VEVENT
DTSTART;TZID=America/Chicago:20210528T000000
DTEND;TZID=America/Chicago:20210528T000000
DTSTAMP:20260425T223817
CREATED:20210128T223109Z
LAST-MODIFIED:20210128T223109Z
UID:2365-1622160000-1622160000@organicpurefuel.com
SUMMARY:Davey Brown Tribute Race
DESCRIPTION:
URL:https://organicpurefuel.com/event/davey-brown-tribute-race/
CATEGORIES:B Squared Motorsports
END:VEVENT
BEGIN:VEVENT
DTSTART;TZID=America/Chicago:20210523T000000
DTEND;TZID=America/Chicago:20210523T000000
DTSTAMP:20260425T223817
CREATED:20210128T223108Z
LAST-MODIFIED:20210128T223108Z
UID:2364-1621728000-1621728000@organicpurefuel.com
SUMMARY:All Star Indiana Invaision presented by Rayce Rudeen Foundation
DESCRIPTION:
URL:https://organicpurefuel.com/event/all-star-indiana-invaision-presented-by-rayce-rudeen-foundation-3/
LOCATION:Kokomo Speedway\, 2455 N Davis Rd\, Kokomo\, IN\, 46901
CATEGORIES:B Squared Motorsports
END:VEVENT
BEGIN:VEVENT
DTSTART;TZID=America/Chicago:20210522T000000
DTEND;TZID=America/Chicago:20210522T000000
DTSTAMP:20260425T223817
CREATED:20210128T223108Z
LAST-MODIFIED:20210128T223108Z
UID:2363-1621641600-1621641600@organicpurefuel.com
SUMMARY:All Star Indiana Invaision presented by Rayce Rudeen Foundation
DESCRIPTION:
URL:https://organicpurefuel.com/event/all-star-indiana-invaision-presented-by-rayce-rudeen-foundation-2/
LOCATION:Gas City I-69 Speedway\, 5871 E 500 S Rd\, Gas City\, IN\, 46952
CATEGORIES:B Squared Motorsports
END:VEVENT
BEGIN:VEVENT
DTSTART;TZID=America/Chicago:20210520T000000
DTEND;TZID=America/Chicago:20210521T000000
DTSTAMP:20260425T223817
CREATED:20210128T223107Z
LAST-MODIFIED:20210128T223107Z
UID:2362-1621468800-1621555200@organicpurefuel.com
SUMMARY:All Star Indiana Invaision presented by Rayce Rudeen Foundation
DESCRIPTION:
URL:https://organicpurefuel.com/event/all-star-indiana-invaision-presented-by-rayce-rudeen-foundation/
LOCATION:Circle City Raceway\, 7300 East Troy Avenue\, Indianapolis\, IN\, 46239
CATEGORIES:B Squared Motorsports
END:VEVENT
BEGIN:VEVENT
DTSTART;TZID=America/Chicago:20210515T000000
DTEND;TZID=America/Chicago:20210515T000000
DTSTAMP:20260425T223817
CREATED:20210128T223054Z
LAST-MODIFIED:20210128T223054Z
UID:2361-1621036800-1621036800@organicpurefuel.com
SUMMARY:Dirt Oval at Route 66
DESCRIPTION:
URL:https://organicpurefuel.com/event/dirt-oval-at-route-66/
LOCATION:Route 66 Joliet\, Joliet\, IL
CATEGORIES:B Squared Motorsports
END:VEVENT
BEGIN:VEVENT
DTSTART;TZID=America/Chicago:20210514T000000
DTEND;TZID=America/Chicago:20210514T000000
DTSTAMP:20260425T223817
CREATED:20210128T223054Z
LAST-MODIFIED:20210128T223054Z
UID:2360-1620950400-1620950400@organicpurefuel.com
SUMMARY:Mace Thomas Race 
DESCRIPTION:
URL:https://organicpurefuel.com/event/mace-thomas-race/
LOCATION:I-96 Speedway\, 3823 W. Portland Rd.\, Lake Odessa\, MI\, 48849
CATEGORIES:B Squared Motorsports
END:VEVENT
BEGIN:VEVENT
DTSTART;TZID=America/Chicago:20210502T000000
DTEND;TZID=America/Chicago:20210502T000000
DTSTAMP:20260425T223817
CREATED:20210128T223053Z
LAST-MODIFIED:20210128T223053Z
UID:2359-1619913600-1619913600@organicpurefuel.com
SUMMARY:ASCOC
DESCRIPTION:
URL:https://organicpurefuel.com/event/ascoc-5/
LOCATION:Tri City Raceway Park\, Franklin\, PA
CATEGORIES:B Squared Motorsports
END:VEVENT
BEGIN:VEVENT
DTSTART;TZID=America/Chicago:20210501T000000
DTEND;TZID=America/Chicago:20210501T000000
DTSTAMP:20260425T223817
CREATED:20210128T223053Z
LAST-MODIFIED:20210128T223053Z
UID:2358-1619827200-1619827200@organicpurefuel.com
SUMMARY:ASCOC
DESCRIPTION:
URL:https://organicpurefuel.com/event/ascoc-4/
LOCATION:Sharon Speedway\, Hartford\, OH\, 44424
CATEGORIES:B Squared Motorsports
END:VEVENT
BEGIN:VEVENT
DTSTART;TZID=America/Chicago:20210430T000000
DTEND;TZID=America/Chicago:20210430T000000
DTSTAMP:20260425T223817
CREATED:20210128T223052Z
LAST-MODIFIED:20210128T223052Z
UID:2357-1619740800-1619740800@organicpurefuel.com
SUMMARY:ASCOC
DESCRIPTION:
URL:https://organicpurefuel.com/event/ascoc-3/
LOCATION:Lernerville Speedway\, 313 North Pike Road\, Sarver\, PA\, 16055
CATEGORIES:B Squared Motorsports
END:VEVENT
BEGIN:VEVENT
DTSTART;TZID=America/Chicago:20210424T163000
DTEND;TZID=America/Chicago:20210424T163000
DTSTAMP:20260425T223817
CREATED:20210128T223042Z
LAST-MODIFIED:20210128T223042Z
UID:2356-1619281800-1619281800@organicpurefuel.com
SUMMARY:IRA
DESCRIPTION:
URL:https://organicpurefuel.com/event/ira/
LOCATION:Beaver Dam Raceway\, N7086 Raceway Rd\, Beaver Dam\, WI\, 53916
CATEGORIES:B Squared Motorsports
END:VEVENT
BEGIN:VEVENT
DTSTART;TZID=America/Chicago:20210418T000000
DTEND;TZID=America/Chicago:20210418T000000
DTSTAMP:20260425T223817
CREATED:20210128T223041Z
LAST-MODIFIED:20210128T223041Z
UID:2355-1618704000-1618704000@organicpurefuel.com
SUMMARY:ASCOC
DESCRIPTION:
URL:https://organicpurefuel.com/event/ascoc-2/
LOCATION:Bedford Speedway\, 702 West Pitt Street\, Bedford\,\, PA\, 15522
CATEGORIES:B Squared Motorsports
END:VEVENT
BEGIN:VEVENT
DTSTART;TZID=America/Chicago:20210417T000000
DTEND;TZID=America/Chicago:20210417T000000
DTSTAMP:20260425T223817
CREATED:20210128T223040Z
LAST-MODIFIED:20210128T223040Z
UID:2354-1618617600-1618617600@organicpurefuel.com
SUMMARY:Keith Kauffman Classic
DESCRIPTION:
URL:https://organicpurefuel.com/event/keith-kauffman-classic/
LOCATION:Port Royal Spedway\, 308 W. 8th St.\, Port Royal\, PA\, 17082
CATEGORIES:B Squared Motorsports
END:VEVENT
BEGIN:VEVENT
DTSTART;TZID=America/Chicago:20210416T000000
DTEND;TZID=America/Chicago:20210416T000000
DTSTAMP:20260425T223817
CREATED:20210128T223040Z
LAST-MODIFIED:20210128T223040Z
UID:2353-1618531200-1618531200@organicpurefuel.com
SUMMARY:The Tommy Hinnershitz Classic
DESCRIPTION:
URL:https://organicpurefuel.com/event/the-tommy-hinnershitz-classic/
LOCATION:Willams Grove Speedway\, 1 Speedway Drive\, Mechanicsburg\,\, PA\, 17055
CATEGORIES:B Squared Motorsports
END:VEVENT
BEGIN:VEVENT
DTSTART;TZID=America/Chicago:20210415T000000
DTEND;TZID=America/Chicago:20210415T000000
DTSTAMP:20260425T223817
CREATED:20210128T223039Z
LAST-MODIFIED:20210128T223039Z
UID:2352-1618444800-1618444800@organicpurefuel.com
SUMMARY:ASCOC
DESCRIPTION:410 Sprints – Winged: All Star Circuit of Champions
URL:https://organicpurefuel.com/event/ascoc/
LOCATION:Virginia Motor Speedway\, 4426 Tidewater Trail\, Jamaica\, VA\, 23079
CATEGORIES:B Squared Motorsports
END:VEVENT
BEGIN:VEVENT
DTSTART;TZID=America/Chicago:20210409T000000
DTEND;TZID=America/Chicago:20210410T000000
DTSTAMP:20260425T223817
CREATED:20210128T223031Z
LAST-MODIFIED:20210128T223031Z
UID:2351-1617926400-1618012800@organicpurefuel.com
SUMMARY:ASCOC -Attica
DESCRIPTION:410 Sprints – Winged: All Star Circuit of Champions
URL:https://organicpurefuel.com/event/ascoc-attica/
LOCATION:Attica Raceway Park\, 100 Fairground Road\, Attica\, OH\, 44807
CATEGORIES:B Squared Motorsports
END:VEVENT
BEGIN:VEVENT
DTSTART;TZID=America/Chicago:20210313T000000
DTEND;TZID=America/Chicago:20210313T000000
DTSTAMP:20260425T223817
CREATED:20210128T224302Z
LAST-MODIFIED:20210128T224302Z
UID:2414-1615593600-1615593600@organicpurefuel.com
SUMMARY:Fat Bike Birkie
DESCRIPTION:The Fat Bike Birkie\, Presented by Freewheel Bike\, is the premier on snow bike event in North America. Riders test their skill and endurance on the professionally groomed American Birkebeiner Ski Trail! THREE events to choose from: The Big Fat 47K\, The Half Fat 21K\, and the un-timed Fun Fat 10K Tour – there is something for every rider!
URL:https://organicpurefuel.com/event/fat-bike-birkie/
LOCATION:Birkie\, 10527 Main Street\, Hayward\, 54843\, USA
CATEGORIES:apex,bike,Birkie
END:VEVENT
END:VCALENDAR