BEGIN:VCALENDAR
VERSION:2.0
PRODID:-//PURE FUEL - ECPv6.15.20//NONSGML v1.0//EN
CALSCALE:GREGORIAN
METHOD:PUBLISH
X-WR-CALNAME:PURE FUEL
X-ORIGINAL-URL:https://organicpurefuel.com
X-WR-CALDESC:Events for PURE FUEL
REFRESH-INTERVAL;VALUE=DURATION:PT1H
X-Robots-Tag:noindex
X-PUBLISHED-TTL:PT1H
BEGIN:VTIMEZONE
TZID:America/Chicago
BEGIN:DAYLIGHT
TZOFFSETFROM:-0600
TZOFFSETTO:-0500
TZNAME:CDT
DTSTART:20240310T080000
END:DAYLIGHT
BEGIN:STANDARD
TZOFFSETFROM:-0500
TZOFFSETTO:-0600
TZNAME:CST
DTSTART:20241103T070000
END:STANDARD
BEGIN:DAYLIGHT
TZOFFSETFROM:-0600
TZOFFSETTO:-0500
TZNAME:CDT
DTSTART:20250309T080000
END:DAYLIGHT
BEGIN:STANDARD
TZOFFSETFROM:-0500
TZOFFSETTO:-0600
TZNAME:CST
DTSTART:20251102T070000
END:STANDARD
BEGIN:DAYLIGHT
TZOFFSETFROM:-0600
TZOFFSETTO:-0500
TZNAME:CDT
DTSTART:20260308T080000
END:DAYLIGHT
BEGIN:STANDARD
TZOFFSETFROM:-0500
TZOFFSETTO:-0600
TZNAME:CST
DTSTART:20261101T070000
END:STANDARD
BEGIN:DAYLIGHT
TZOFFSETFROM:-0600
TZOFFSETTO:-0500
TZNAME:CDT
DTSTART:20270314T080000
END:DAYLIGHT
BEGIN:STANDARD
TZOFFSETFROM:-0500
TZOFFSETTO:-0600
TZNAME:CST
DTSTART:20271107T070000
END:STANDARD
END:VTIMEZONE
BEGIN:VEVENT
DTSTART;VALUE=DATE:20250726
DTEND;VALUE=DATE:20250727
DTSTAMP:20260425T111124
CREATED:20251120T233207Z
LAST-MODIFIED:20251120T233207Z
UID:13571-1753488000-1753574399@organicpurefuel.com
SUMMARY:Maah Daah Hey Trail Run seies
DESCRIPTION:
URL:https://organicpurefuel.com/event/maah-daah-hey-trail-run-seies-2/
LOCATION:PA
CATEGORIES:run
END:VEVENT
BEGIN:VEVENT
DTSTART;VALUE=DATE:20250726
DTEND;VALUE=DATE:20250727
DTSTAMP:20260425T111124
CREATED:20251120T234332Z
LAST-MODIFIED:20251120T234332Z
UID:13639-1753488000-1753574399@organicpurefuel.com
SUMMARY:Mechanicsburg PA
DESCRIPTION:
URL:https://organicpurefuel.com/event/mechanicsburg-pa-4/
LOCATION:PA
CATEGORIES:car
END:VEVENT
BEGIN:VEVENT
DTSTART;VALUE=DATE:20250727
DTEND;VALUE=DATE:20250728
DTSTAMP:20260425T111124
CREATED:20251120T234333Z
LAST-MODIFIED:20251120T234333Z
UID:13640-1753574400-1753660799@organicpurefuel.com
SUMMARY:World of Outlaws NOS Energy Drink Sprint Cars
DESCRIPTION:
URL:https://organicpurefuel.com/event/world-of-outlaws-nos-energy-drink-sprint-cars-2/
LOCATION:PA
CATEGORIES:car
END:VEVENT
BEGIN:VEVENT
DTSTART;VALUE=DATE:20250801
DTEND;VALUE=DATE:20250802
DTSTAMP:20260425T111124
CREATED:20251120T234333Z
LAST-MODIFIED:20251120T234333Z
UID:13641-1754006400-1754092799@organicpurefuel.com
SUMMARY:410 Sprints - Winged
DESCRIPTION:
URL:https://organicpurefuel.com/event/410-sprints-winged-67/
LOCATION:PA
CATEGORIES:car
END:VEVENT
BEGIN:VEVENT
DTSTART;VALUE=DATE:20250802
DTEND;VALUE=DATE:20250803
DTSTAMP:20260425T111124
CREATED:20251120T233209Z
LAST-MODIFIED:20251120T233209Z
UID:13572-1754092800-1754179199@organicpurefuel.com
SUMMARY:Maah Daah Hey 100 MTB
DESCRIPTION:
URL:https://organicpurefuel.com/event/maah-daah-hey-100-mtb-2/
LOCATION:PA
CATEGORIES:bike
END:VEVENT
BEGIN:VEVENT
DTSTART;VALUE=DATE:20250802
DTEND;VALUE=DATE:20250803
DTSTAMP:20260425T111124
CREATED:20251120T234529Z
LAST-MODIFIED:20251120T234529Z
UID:13642-1754092800-1754179199@organicpurefuel.com
SUMMARY:410 Sprints - Winged
DESCRIPTION:
URL:https://organicpurefuel.com/event/410-sprints-winged-68/
LOCATION:PA
CATEGORIES:car
END:VEVENT
BEGIN:VEVENT
DTSTART;VALUE=DATE:20250806
DTEND;VALUE=DATE:20250807
DTSTAMP:20260425T111124
CREATED:20251120T234532Z
LAST-MODIFIED:20251120T234532Z
UID:13643-1754438400-1754524799@organicpurefuel.com
SUMMARY:Knoxville IA
DESCRIPTION:
URL:https://organicpurefuel.com/event/knoxville-ia-3/
LOCATION:Knoxville Raceway\, 1000 North Lincoln Street\, Knoxvill\, IA\, 50138
CATEGORIES:car
END:VEVENT
BEGIN:VEVENT
DTSTART;VALUE=DATE:20250807
DTEND;VALUE=DATE:20250808
DTSTAMP:20260425T111124
CREATED:20251120T234533Z
LAST-MODIFIED:20251120T234533Z
UID:13644-1754524800-1754611199@organicpurefuel.com
SUMMARY:410 Sprints - Winged
DESCRIPTION:
URL:https://organicpurefuel.com/event/410-sprints-winged-69/
LOCATION:Knoxville Raceway\, 1000 North Lincoln Street\, Knoxvill\, IA\, 50138
CATEGORIES:car
END:VEVENT
BEGIN:VEVENT
DTSTART;VALUE=DATE:20250808
DTEND;VALUE=DATE:20250809
DTSTAMP:20260425T111124
CREATED:20251120T234534Z
LAST-MODIFIED:20251120T234534Z
UID:13645-1754611200-1754697599@organicpurefuel.com
SUMMARY:Knoxville IA
DESCRIPTION:
URL:https://organicpurefuel.com/event/knoxville-ia-4/
LOCATION:Knoxville Raceway\, 1000 North Lincoln Street\, Knoxvill\, IA\, 50138
CATEGORIES:car
END:VEVENT
BEGIN:VEVENT
DTSTART;VALUE=DATE:20250809
DTEND;VALUE=DATE:20250810
DTSTAMP:20260425T111124
CREATED:20251120T234534Z
LAST-MODIFIED:20251120T234534Z
UID:13646-1754697600-1754783999@organicpurefuel.com
SUMMARY:410 Sprints - Winged
DESCRIPTION:
URL:https://organicpurefuel.com/event/410-sprints-winged-70/
LOCATION:Knoxville Raceway\, 1000 North Lincoln Street\, Knoxvill\, IA\, 50138
CATEGORIES:car
END:VEVENT
BEGIN:VEVENT
DTSTART;VALUE=DATE:20251003
DTEND;VALUE=DATE:20251004
DTSTAMP:20260425T111124
CREATED:20251120T233210Z
LAST-MODIFIED:20251120T233210Z
UID:13573-1759449600-1759535999@organicpurefuel.com
SUMMARY:Twin Cities Marathon Expo
DESCRIPTION:
URL:https://organicpurefuel.com/event/twin-cities-marathon-expo-3/
LOCATION:PA
CATEGORIES:run
END:VEVENT
BEGIN:VEVENT
DTSTART;VALUE=DATE:20251005
DTEND;VALUE=DATE:20251006
DTSTAMP:20260425T111124
CREATED:20251120T233210Z
LAST-MODIFIED:20251120T233210Z
UID:13574-1759622400-1759708799@organicpurefuel.com
SUMMARY:Twin Cities Marathon & 10 mile
DESCRIPTION:
URL:https://organicpurefuel.com/event/twin-cities-marathon-10-mile-3/
LOCATION:PA
CATEGORIES:run
END:VEVENT
BEGIN:VEVENT
DTSTART;TZID=America/Chicago:20251121T000000
DTEND;TZID=America/Chicago:20251121T000000
DTSTAMP:20260425T111124
CREATED:20251114T005015Z
LAST-MODIFIED:20251121T221340Z
UID:13479-1763683200-1763683200@organicpurefuel.com
SUMMARY:Concord NC
DESCRIPTION:
URL:https://organicpurefuel.com/event/concord-nc-2/
LOCATION:PA
END:VEVENT
BEGIN:VEVENT
DTSTART;VALUE=DATE:20260418
DTEND;VALUE=DATE:20260419
DTSTAMP:20260425T111124
CREATED:20251121T230234Z
LAST-MODIFIED:20251121T230307Z
UID:13664-1776470400-1776556799@organicpurefuel.com
SUMMARY:Carmel Marathon
DESCRIPTION:The Carmel Marathon Weekend returns for its 15th year in 2025. One of the top Boston Marathon qualifying events\, the Carmel Marathon is known for fast times and ideal conditions.
URL:https://organicpurefuel.com/event/carmel-marathon/
LOCATION:Carmel IN\, 1 Carter Green\, Carmel\, IN\, 46032\, United States
CATEGORIES:run
END:VEVENT
BEGIN:VEVENT
DTSTART;VALUE=DATE:20260618
DTEND;VALUE=DATE:20260619
DTSTAMP:20260425T111124
CREATED:20250801T233519Z
LAST-MODIFIED:20251121T222238Z
UID:12377-1781740800-1781827199@organicpurefuel.com
SUMMARY:Grandmas marathon Expo
DESCRIPTION:
URL:https://organicpurefuel.com/event/grandmas-marathon-expo-3/
LOCATION:DECC\, 350 Harbor Dr\,\, Duluth\, MN\, 55802
CATEGORIES:run
END:VEVENT
BEGIN:VEVENT
DTSTART;VALUE=DATE:20260620
DTEND;VALUE=DATE:20260621
DTSTAMP:20260425T111124
CREATED:20250801T233524Z
LAST-MODIFIED:20251121T222013Z
UID:12378-1781913600-1781999999@organicpurefuel.com
SUMMARY:Grandmas marathon
DESCRIPTION:
URL:https://organicpurefuel.com/event/grandmas-marathon-4/
LOCATION:grandmas\, Two Harbors\, MN
CATEGORIES:TRUE
END:VEVENT
END:VCALENDAR