BEGIN:VCALENDAR
VERSION:2.0
PRODID:-//PURE FUEL - ECPv6.15.20//NONSGML v1.0//EN
CALSCALE:GREGORIAN
METHOD:PUBLISH
X-WR-CALNAME:PURE FUEL
X-ORIGINAL-URL:https://organicpurefuel.com
X-WR-CALDESC:Events for PURE FUEL
REFRESH-INTERVAL;VALUE=DURATION:PT1H
X-Robots-Tag:noindex
X-PUBLISHED-TTL:PT1H
BEGIN:VTIMEZONE
TZID:America/Chicago
BEGIN:DAYLIGHT
TZOFFSETFROM:-0600
TZOFFSETTO:-0500
TZNAME:CDT
DTSTART:20240310T080000
END:DAYLIGHT
BEGIN:STANDARD
TZOFFSETFROM:-0500
TZOFFSETTO:-0600
TZNAME:CST
DTSTART:20241103T070000
END:STANDARD
BEGIN:DAYLIGHT
TZOFFSETFROM:-0600
TZOFFSETTO:-0500
TZNAME:CDT
DTSTART:20250309T080000
END:DAYLIGHT
BEGIN:STANDARD
TZOFFSETFROM:-0500
TZOFFSETTO:-0600
TZNAME:CST
DTSTART:20251102T070000
END:STANDARD
BEGIN:DAYLIGHT
TZOFFSETFROM:-0600
TZOFFSETTO:-0500
TZNAME:CDT
DTSTART:20260308T080000
END:DAYLIGHT
BEGIN:STANDARD
TZOFFSETFROM:-0500
TZOFFSETTO:-0600
TZNAME:CST
DTSTART:20261101T070000
END:STANDARD
END:VTIMEZONE
BEGIN:VEVENT
DTSTART;VALUE=DATE:20250618
DTEND;VALUE=DATE:20250619
DTSTAMP:20260425T081310
CREATED:20251120T233726Z
LAST-MODIFIED:20251120T233726Z
UID:13623-1750204800-1750291199@organicpurefuel.com
SUMMARY:Cressman Sanitation 410 Outlaw Sprint Cars
DESCRIPTION:
URL:https://organicpurefuel.com/event/cressman-sanitation-410-outlaw-sprint-cars-5/
CATEGORIES:car
END:VEVENT
BEGIN:VEVENT
DTSTART;VALUE=DATE:20250614
DTEND;VALUE=DATE:20250615
DTSTAMP:20260425T081310
CREATED:20251120T233725Z
LAST-MODIFIED:20251120T233725Z
UID:13622-1749859200-1749945599@organicpurefuel.com
SUMMARY:410 Sprints - Winged
DESCRIPTION:
URL:https://organicpurefuel.com/event/410-sprints-winged-59/
LOCATION:Knoxville Raceway\, 1000 North Lincoln Street\, Knoxvill\, IA\, 50138
CATEGORIES:car
END:VEVENT
BEGIN:VEVENT
DTSTART;VALUE=DATE:20250613
DTEND;VALUE=DATE:20250614
DTSTAMP:20260425T081310
CREATED:20251120T233719Z
LAST-MODIFIED:20251120T233719Z
UID:13621-1749772800-1749859199@organicpurefuel.com
SUMMARY:410 Sprints - Winged
DESCRIPTION:
URL:https://organicpurefuel.com/event/410-sprints-winged-58/
LOCATION:Knoxville Raceway\, 1000 North Lincoln Street\, Knoxvill\, IA\, 50138
CATEGORIES:car
END:VEVENT
BEGIN:VEVENT
DTSTART;VALUE=DATE:20250608
DTEND;VALUE=DATE:20250609
DTSTAMP:20260425T081310
CREATED:20251120T233718Z
LAST-MODIFIED:20251120T233718Z
UID:13620-1749340800-1749427199@organicpurefuel.com
SUMMARY:Sun Prairie WI
DESCRIPTION:
URL:https://organicpurefuel.com/event/sun-prairie-wi-2/
LOCATION:Angell Park Speedway\, 300 Park St\, Sun Prairie\, WI\, 53590
CATEGORIES:car
END:VEVENT
BEGIN:VEVENT
DTSTART;VALUE=DATE:20250607
DTEND;VALUE=DATE:20250608
DTSTAMP:20260425T081310
CREATED:20251120T233718Z
LAST-MODIFIED:20251120T233718Z
UID:13619-1749254400-1749340799@organicpurefuel.com
SUMMARY:410 Sprints - Winged
DESCRIPTION:
URL:https://organicpurefuel.com/event/410-sprints-winged-57/
LOCATION:Beaver Dam Raceway\, N7086 Raceway Rd\, Beaver Dam\, WI\, 53916
CATEGORIES:car
END:VEVENT
BEGIN:VEVENT
DTSTART;VALUE=DATE:20250606
DTEND;VALUE=DATE:20250607
DTSTAMP:20260425T081310
CREATED:20251120T233717Z
LAST-MODIFIED:20251120T233717Z
UID:13618-1749168000-1749254399@organicpurefuel.com
SUMMARY:410 Sprints - Winged
DESCRIPTION:
URL:https://organicpurefuel.com/event/410-sprints-winged-56/
CATEGORIES:car
END:VEVENT
BEGIN:VEVENT
DTSTART;VALUE=DATE:20250605
DTEND;VALUE=DATE:20250606
DTSTAMP:20260425T081310
CREATED:20251120T233715Z
LAST-MODIFIED:20251120T233715Z
UID:13617-1749081600-1749167999@organicpurefuel.com
SUMMARY:410 Sprints - Winged
DESCRIPTION:
URL:https://organicpurefuel.com/event/410-sprints-winged-55/
CATEGORIES:car
END:VEVENT
BEGIN:VEVENT
DTSTART;VALUE=DATE:20250604
DTEND;VALUE=DATE:20250605
DTSTAMP:20260425T081310
CREATED:20251120T233707Z
LAST-MODIFIED:20251120T233707Z
UID:13616-1748995200-1749081599@organicpurefuel.com
SUMMARY:410 Outlaw Sprints
DESCRIPTION:
URL:https://organicpurefuel.com/event/410-outlaw-sprints-2/
CATEGORIES:car
END:VEVENT
BEGIN:VEVENT
DTSTART;VALUE=DATE:20250531
DTEND;VALUE=DATE:20250601
DTSTAMP:20260425T081310
CREATED:20251120T233706Z
LAST-MODIFIED:20251120T233706Z
UID:13615-1748649600-1748735999@organicpurefuel.com
SUMMARY:410 Sprints - Winged
DESCRIPTION:
URL:https://organicpurefuel.com/event/410-sprints-winged-54/
CATEGORIES:car
END:VEVENT
BEGIN:VEVENT
DTSTART;VALUE=DATE:20250531
DTEND;VALUE=DATE:20250601
DTSTAMP:20260425T081310
CREATED:20251120T233205Z
LAST-MODIFIED:20251120T233205Z
UID:13568-1748649600-1748735999@organicpurefuel.com
SUMMARY:FANS 6/12/24 hr. Ultra Race
DESCRIPTION:
URL:https://organicpurefuel.com/event/fans-6-12-24-hr-ultra-race-2/
CATEGORIES:run
END:VEVENT
BEGIN:VEVENT
DTSTART;VALUE=DATE:20250530
DTEND;VALUE=DATE:20250531
DTSTAMP:20260425T081310
CREATED:20251120T233706Z
LAST-MODIFIED:20251120T233706Z
UID:13614-1748563200-1748649599@organicpurefuel.com
SUMMARY:410 Sprints - Winged
DESCRIPTION:
URL:https://organicpurefuel.com/event/410-sprints-winged-53/
CATEGORIES:car
END:VEVENT
BEGIN:VEVENT
DTSTART;VALUE=DATE:20250526
DTEND;VALUE=DATE:20250527
DTSTAMP:20260425T081310
CREATED:20251120T233705Z
LAST-MODIFIED:20251120T233705Z
UID:13613-1748217600-1748303999@organicpurefuel.com
SUMMARY:410 Sprints - Winged
DESCRIPTION:
URL:https://organicpurefuel.com/event/410-sprints-winged-52/
CATEGORIES:car
END:VEVENT
BEGIN:VEVENT
DTSTART;VALUE=DATE:20250524
DTEND;VALUE=DATE:20250525
DTSTAMP:20260425T081310
CREATED:20251120T233705Z
LAST-MODIFIED:20251120T233705Z
UID:13612-1748044800-1748131199@organicpurefuel.com
SUMMARY:Hartford OH
DESCRIPTION:
URL:https://organicpurefuel.com/event/hartford-oh-2/
LOCATION:Sharon Speedway\, Hartford\, OH\, 44424
CATEGORIES:car
END:VEVENT
BEGIN:VEVENT
DTSTART;VALUE=DATE:20250524
DTEND;VALUE=DATE:20250525
DTSTAMP:20260425T081310
CREATED:20251120T233700Z
LAST-MODIFIED:20251120T233700Z
UID:13611-1748044800-1748131199@organicpurefuel.com
SUMMARY:410 Sprints - Winged
DESCRIPTION:
URL:https://organicpurefuel.com/event/410-sprints-winged-51/
LOCATION:Attica Raceway Park\, 100 Fairground Road\, Attica\, OH\, 44807
CATEGORIES:car
END:VEVENT
BEGIN:VEVENT
DTSTART;VALUE=DATE:20250523
DTEND;VALUE=DATE:20250524
DTSTAMP:20260425T081310
CREATED:20251120T233659Z
LAST-MODIFIED:20251120T233659Z
UID:13610-1747958400-1748044799@organicpurefuel.com
SUMMARY:Attica OH
DESCRIPTION:
URL:https://organicpurefuel.com/event/attica-oh-2/
LOCATION:Attica Raceway Park\, 100 Fairground Road\, Attica\, OH\, 44807
CATEGORIES:car
END:VEVENT
BEGIN:VEVENT
DTSTART;VALUE=DATE:20250518
DTEND;VALUE=DATE:20250519
DTSTAMP:20260425T081310
CREATED:20251120T233659Z
LAST-MODIFIED:20251120T233659Z
UID:13609-1747526400-1747612799@organicpurefuel.com
SUMMARY:Cornwall ON
DESCRIPTION:
URL:https://organicpurefuel.com/event/cornwall-on-2/
CATEGORIES:car
END:VEVENT
BEGIN:VEVENT
DTSTART;VALUE=DATE:20250518
DTEND;VALUE=DATE:20250519
DTSTAMP:20260425T081310
CREATED:20251120T233657Z
LAST-MODIFIED:20251120T233657Z
UID:13608-1747526400-1747612799@organicpurefuel.com
SUMMARY:410 Sprints - Winged
DESCRIPTION:
URL:https://organicpurefuel.com/event/410-sprints-winged-50/
LOCATION:Angell Park Speedway\, 300 Park St\, Sun Prairie\, WI\, 53590
CATEGORIES:car
END:VEVENT
BEGIN:VEVENT
DTSTART;VALUE=DATE:20250515
DTEND;VALUE=DATE:20250516
DTSTAMP:20260425T081310
CREATED:20251120T233654Z
LAST-MODIFIED:20251120T233654Z
UID:13607-1747267200-1747353599@organicpurefuel.com
SUMMARY:410 Sprints - Winged
DESCRIPTION:
URL:https://organicpurefuel.com/event/410-sprints-winged-49/
CATEGORIES:car
END:VEVENT
BEGIN:VEVENT
DTSTART;VALUE=DATE:20250514
DTEND;VALUE=DATE:20250515
DTSTAMP:20260425T081310
CREATED:20251120T233537Z
LAST-MODIFIED:20251120T233537Z
UID:13606-1747180800-1747267199@organicpurefuel.com
SUMMARY:410 Sprints - Winged
DESCRIPTION:
URL:https://organicpurefuel.com/event/410-sprints-winged-48/
CATEGORIES:car
END:VEVENT
BEGIN:VEVENT
DTSTART;VALUE=DATE:20250510
DTEND;VALUE=DATE:20250511
DTSTAMP:20260425T081310
CREATED:20251120T233537Z
LAST-MODIFIED:20251120T233537Z
UID:13605-1746835200-1746921599@organicpurefuel.com
SUMMARY:Lawrence Chevrolet 410 Sprint Cars
DESCRIPTION:
URL:https://organicpurefuel.com/event/lawrence-chevrolet-410-sprint-cars-2/
CATEGORIES:car
END:VEVENT
BEGIN:VEVENT
DTSTART;VALUE=DATE:20250509
DTEND;VALUE=DATE:20250510
DTSTAMP:20260425T081310
CREATED:20251120T233537Z
LAST-MODIFIED:20251120T233537Z
UID:13604-1746748800-1746835199@organicpurefuel.com
SUMMARY:Mechanicsburg PA
DESCRIPTION:
URL:https://organicpurefuel.com/event/mechanicsburg-pa-3/
CATEGORIES:car
END:VEVENT
BEGIN:VEVENT
DTSTART;VALUE=DATE:20250507
DTEND;VALUE=DATE:20250508
DTSTAMP:20260425T081310
CREATED:20251120T233535Z
LAST-MODIFIED:20251120T233535Z
UID:13603-1746576000-1746662399@organicpurefuel.com
SUMMARY:Ciocca Automotive 410 Sprint Cars
DESCRIPTION:
URL:https://organicpurefuel.com/event/ciocca-automotive-410-sprint-cars-2/
LOCATION:Lincoln Speedway\, 800 Racetrack Road\, Abbottstown\, PA\, 17301
CATEGORIES:car
END:VEVENT
BEGIN:VEVENT
DTSTART;VALUE=DATE:20250506
DTEND;VALUE=DATE:20250507
DTSTAMP:20260425T081310
CREATED:20251120T233533Z
LAST-MODIFIED:20251120T233533Z
UID:13602-1746489600-1746575999@organicpurefuel.com
SUMMARY:Abbottstown PA
DESCRIPTION:
URL:https://organicpurefuel.com/event/abbottstown-pa-2/
LOCATION:Lincoln Speedway\, 800 Racetrack Road\, Abbottstown\, PA\, 17301
CATEGORIES:car
END:VEVENT
BEGIN:VEVENT
DTSTART;VALUE=DATE:20250503
DTEND;VALUE=DATE:20250504
DTSTAMP:20260425T081310
CREATED:20251120T233320Z
LAST-MODIFIED:20251120T233320Z
UID:13601-1746230400-1746316799@organicpurefuel.com
SUMMARY:Rossburg OH
DESCRIPTION:
URL:https://organicpurefuel.com/event/rossburg-oh-3/
LOCATION:Eldora Speedway\, 13929 Ohio 118\, Rossburg\, OH\, 45348
CATEGORIES:car
END:VEVENT
BEGIN:VEVENT
DTSTART;VALUE=DATE:20250502
DTEND;VALUE=DATE:20250503
DTSTAMP:20260425T081310
CREATED:20251120T233319Z
LAST-MODIFIED:20251120T233319Z
UID:13600-1746144000-1746230399@organicpurefuel.com
SUMMARY:410 Sprints - Winged
DESCRIPTION:
URL:https://organicpurefuel.com/event/410-sprints-winged-47/
LOCATION:Eldora Speedway\, 13929 Ohio 118\, Rossburg\, OH\, 45348
CATEGORIES:car
END:VEVENT
BEGIN:VEVENT
DTSTART;VALUE=DATE:20250426
DTEND;VALUE=DATE:20250427
DTSTAMP:20260425T081310
CREATED:20251120T233319Z
LAST-MODIFIED:20251120T233319Z
UID:13599-1745625600-1745711999@organicpurefuel.com
SUMMARY:410 Sprints - Winged
DESCRIPTION:
URL:https://organicpurefuel.com/event/410-sprints-winged-46/
CATEGORIES:car
END:VEVENT
BEGIN:VEVENT
DTSTART;VALUE=DATE:20250426
DTEND;VALUE=DATE:20250427
DTSTAMP:20260425T081310
CREATED:20251120T233202Z
LAST-MODIFIED:20251120T233202Z
UID:13567-1745625600-1745711999@organicpurefuel.com
SUMMARY:Get In Gear
DESCRIPTION:
URL:https://organicpurefuel.com/event/get-in-gear-3/
CATEGORIES:run
END:VEVENT
BEGIN:VEVENT
DTSTART;VALUE=DATE:20250425
DTEND;VALUE=DATE:20250426
DTSTAMP:20260425T081310
CREATED:20251120T233319Z
LAST-MODIFIED:20251120T233319Z
UID:13598-1745539200-1745625599@organicpurefuel.com
SUMMARY:410 Wing Sprints
DESCRIPTION:
URL:https://organicpurefuel.com/event/410-wing-sprints-2/
CATEGORIES:car
END:VEVENT
BEGIN:VEVENT
DTSTART;VALUE=DATE:20250419
DTEND;VALUE=DATE:20250420
DTSTAMP:20260425T081310
CREATED:20251120T233317Z
LAST-MODIFIED:20251120T233317Z
UID:13597-1745020800-1745107199@organicpurefuel.com
SUMMARY:410 Sprints - Winged
DESCRIPTION:
URL:https://organicpurefuel.com/event/410-sprints-winged-45/
LOCATION:Knoxville Raceway\, 1000 North Lincoln Street\, Knoxvill\, IA\, 50138
CATEGORIES:car
END:VEVENT
BEGIN:VEVENT
DTSTART;VALUE=DATE:20250418
DTEND;VALUE=DATE:20250419
DTSTAMP:20260425T081310
CREATED:20251120T233300Z
LAST-MODIFIED:20251120T233300Z
UID:13596-1744934400-1745020799@organicpurefuel.com
SUMMARY:World of Outlaws
DESCRIPTION:
URL:https://organicpurefuel.com/event/world-of-outlaws-7/
LOCATION:Knoxville Raceway\, 1000 North Lincoln Street\, Knoxvill\, IA\, 50138
CATEGORIES:car
END:VEVENT
END:VCALENDAR