BEGIN:VCALENDAR
VERSION:2.0
PRODID:-//PURE FUEL - ECPv6.15.20//NONSGML v1.0//EN
CALSCALE:GREGORIAN
METHOD:PUBLISH
X-WR-CALNAME:PURE FUEL
X-ORIGINAL-URL:https://organicpurefuel.com
X-WR-CALDESC:Events for PURE FUEL
REFRESH-INTERVAL;VALUE=DURATION:PT1H
X-Robots-Tag:noindex
X-PUBLISHED-TTL:PT1H
BEGIN:VTIMEZONE
TZID:America/Chicago
BEGIN:DAYLIGHT
TZOFFSETFROM:-0600
TZOFFSETTO:-0500
TZNAME:CDT
DTSTART:20240310T080000
END:DAYLIGHT
BEGIN:STANDARD
TZOFFSETFROM:-0500
TZOFFSETTO:-0600
TZNAME:CST
DTSTART:20241103T070000
END:STANDARD
BEGIN:DAYLIGHT
TZOFFSETFROM:-0600
TZOFFSETTO:-0500
TZNAME:CDT
DTSTART:20250309T080000
END:DAYLIGHT
BEGIN:STANDARD
TZOFFSETFROM:-0500
TZOFFSETTO:-0600
TZNAME:CST
DTSTART:20251102T070000
END:STANDARD
BEGIN:DAYLIGHT
TZOFFSETFROM:-0600
TZOFFSETTO:-0500
TZNAME:CDT
DTSTART:20260308T080000
END:DAYLIGHT
BEGIN:STANDARD
TZOFFSETFROM:-0500
TZOFFSETTO:-0600
TZNAME:CST
DTSTART:20261101T070000
END:STANDARD
END:VTIMEZONE
BEGIN:VEVENT
DTSTART;VALUE=DATE:20250404
DTEND;VALUE=DATE:20250405
DTSTAMP:20260425T072257
CREATED:20251120T233246Z
LAST-MODIFIED:20251120T233246Z
UID:13591-1743724800-1743811199@organicpurefuel.com
SUMMARY:Colcord OK
DESCRIPTION:
URL:https://organicpurefuel.com/event/colcord-ok-3/
LOCATION:IN
CATEGORIES:car
END:VEVENT
BEGIN:VEVENT
DTSTART;VALUE=DATE:20250404
DTEND;VALUE=DATE:20250407
DTSTAMP:20260425T072257
CREATED:20250123T235254Z
LAST-MODIFIED:20250123T235254Z
UID:10762-1743724800-1743983999@organicpurefuel.com
SUMMARY:Amsoil Sowcross National
DESCRIPTION:The series will end where it has historically begun: Finally\, the season will culminate at the AMSOIL Duluth Snocross National on April 4-6. This event marks the return to the shores of Lake Superior at Spirit Mountain in Duluth\, Minnesota\, where the series will crown its champions in a spectacular season finale. With over three decades of history\, Duluth is where legends are made\, and its return as the season-ending event will undoubtedly bring an exhilarating close to the 2024-2025 AMSOIL Championship Snocross series. The iconic track\, known for its tight turns and stunning views of the harbor\, provides the perfect setting for an epic showdown to decide who will take home the championship titles.
URL:https://organicpurefuel.com/event/amsoil-sowcross-national/
LOCATION:Spirit Mountain\, 9500 Spirit Mountain Pl\, Duluth\, 55808\, United States
CATEGORIES:Snocross
END:VEVENT
BEGIN:VEVENT
DTSTART;VALUE=DATE:20250405
DTEND;VALUE=DATE:20250406
DTSTAMP:20260425T072257
CREATED:20251120T233259Z
LAST-MODIFIED:20251120T233259Z
UID:13592-1743811200-1743897599@organicpurefuel.com
SUMMARY:Colcord OK
DESCRIPTION:
URL:https://organicpurefuel.com/event/colcord-ok-4/
LOCATION:IN
CATEGORIES:car
END:VEVENT
BEGIN:VEVENT
DTSTART;VALUE=DATE:20250411
DTEND;VALUE=DATE:20250412
DTSTAMP:20260425T072257
CREATED:20251120T233259Z
LAST-MODIFIED:20251120T233259Z
UID:13593-1744329600-1744415999@organicpurefuel.com
SUMMARY:410 Sprints - Winged
DESCRIPTION:
URL:https://organicpurefuel.com/event/410-sprints-winged-42/
LOCATION:IN
CATEGORIES:car
END:VEVENT
BEGIN:VEVENT
DTSTART;VALUE=DATE:20250412
DTEND;VALUE=DATE:20250413
DTSTAMP:20260425T072257
CREATED:20251120T233259Z
LAST-MODIFIED:20251120T233259Z
UID:13594-1744416000-1744502399@organicpurefuel.com
SUMMARY:410 Sprints - Winged
DESCRIPTION:
URL:https://organicpurefuel.com/event/410-sprints-winged-43/
LOCATION:IN
CATEGORIES:car
END:VEVENT
BEGIN:VEVENT
DTSTART;VALUE=DATE:20250417
DTEND;VALUE=DATE:20250418
DTSTAMP:20260425T072257
CREATED:20251120T233300Z
LAST-MODIFIED:20251120T233300Z
UID:13595-1744848000-1744934399@organicpurefuel.com
SUMMARY:410 Sprints - Winged
DESCRIPTION:
URL:https://organicpurefuel.com/event/410-sprints-winged-44/
LOCATION:Knoxville Raceway\, 1000 North Lincoln Street\, Knoxvill\, IA\, 50138
CATEGORIES:car
END:VEVENT
BEGIN:VEVENT
DTSTART;VALUE=DATE:20250418
DTEND;VALUE=DATE:20250419
DTSTAMP:20260425T072257
CREATED:20251120T233300Z
LAST-MODIFIED:20251120T233300Z
UID:13596-1744934400-1745020799@organicpurefuel.com
SUMMARY:World of Outlaws
DESCRIPTION:
URL:https://organicpurefuel.com/event/world-of-outlaws-7/
LOCATION:Knoxville Raceway\, 1000 North Lincoln Street\, Knoxvill\, IA\, 50138
CATEGORIES:car
END:VEVENT
BEGIN:VEVENT
DTSTART;VALUE=DATE:20250419
DTEND;VALUE=DATE:20250420
DTSTAMP:20260425T072257
CREATED:20251120T233317Z
LAST-MODIFIED:20251120T233317Z
UID:13597-1745020800-1745107199@organicpurefuel.com
SUMMARY:410 Sprints - Winged
DESCRIPTION:
URL:https://organicpurefuel.com/event/410-sprints-winged-45/
LOCATION:Knoxville Raceway\, 1000 North Lincoln Street\, Knoxvill\, IA\, 50138
CATEGORIES:car
END:VEVENT
BEGIN:VEVENT
DTSTART;VALUE=DATE:20250425
DTEND;VALUE=DATE:20250426
DTSTAMP:20260425T072257
CREATED:20251120T233319Z
LAST-MODIFIED:20251120T233319Z
UID:13598-1745539200-1745625599@organicpurefuel.com
SUMMARY:410 Wing Sprints
DESCRIPTION:
URL:https://organicpurefuel.com/event/410-wing-sprints-2/
LOCATION:IN
CATEGORIES:car
END:VEVENT
BEGIN:VEVENT
DTSTART;VALUE=DATE:20250426
DTEND;VALUE=DATE:20250427
DTSTAMP:20260425T072257
CREATED:20251120T233202Z
LAST-MODIFIED:20251120T233202Z
UID:13567-1745625600-1745711999@organicpurefuel.com
SUMMARY:Get In Gear
DESCRIPTION:
URL:https://organicpurefuel.com/event/get-in-gear-3/
LOCATION:IN
CATEGORIES:run
END:VEVENT
BEGIN:VEVENT
DTSTART;VALUE=DATE:20250426
DTEND;VALUE=DATE:20250427
DTSTAMP:20260425T072257
CREATED:20251120T233319Z
LAST-MODIFIED:20251120T233319Z
UID:13599-1745625600-1745711999@organicpurefuel.com
SUMMARY:410 Sprints - Winged
DESCRIPTION:
URL:https://organicpurefuel.com/event/410-sprints-winged-46/
LOCATION:IN
CATEGORIES:car
END:VEVENT
END:VCALENDAR